Mojolicious-Plugin-CGI v0.40 Perl 5 v5.35.2 x86_64-linux-ld
- Status
- Pass
- From
- Andreas J. König (ANDK)
- Dist
-
Mojolicious-Plugin-CGI v0.40
- Platform
- Perl 5 v5.35.2 x86_64-linux-ld
- Date
- 2021-08-08 21:41:10
- ID
- 586f63f8-f891-11eb-83fd-c4588d979bbb
This distribution has been tested as part of the CPAN Testers
project, supporting the Perl programming language. See
http://wiki.cpantesters.org/ for more information or email
questions to cpan-testers-discuss@perl.org
--
Dear Jan Henning Thorsen,
This is a computer-generated report for Mojolicious-Plugin-CGI-0.40
on perl 5.35.2, created by CPAN-Reporter-1.2018.
Thank you for uploading your work to CPAN. Congratulations!
All tests were successful.
Sections of this report:
* Tester comments
* Program output
* Prerequisites
* Environment and other context
------------------------------
TESTER COMMENTS
------------------------------
Additional comments from tester:
this report is from an automated smoke testing program
and was not reviewed by a human for accuracy
------------------------------
PROGRAM OUTPUT
------------------------------
Output from '/usr/bin/make test':
PERL_DL_NONLAZY=1 "/tmp/basesmoker-reloperl-HVFz/bin/perl" "-MExtUtils::Command::MM" "-MTest::Harness" "-e" "undef *Test::Harness::Switches; test_harness(0, 'blib/lib', 'blib/arch')" t/*.t
t/00-basic.t ..................... ok
t/basic.t ........................ ok
t/before.t ....................... ok
# PATH_INFO=/foo
# PATH_INFO=/föö
# PATH_INFO=/föâÂÂ
t/encoding.t ..................... ok
[2021-08-08 21:39:19.70336] [21234] [warn] [CGI:errlog:21240] yikes! at /tmp/loop_over_bdir-14873-gqPQRU/Mojolicious-Plugin-CGI-0.40-0/t/cgi-bin/errlog line 4.
t/errlog.t ....................... ok
t/gh-16-loop_reset.t ............. skipped: set TEST_MORBO to enable this test (developer only!)
Use of uninitialized value in print at t/Helper.pm line 18.
t/helper.t ....................... ok
t/multipart.t .................... ok
t/not-found.t .................... ok
t/not-modified.t ................. ok
t/nph-borked.t ................... ok
t/nph.t .......................... ok
t/post.t ......................... skipped: TEST_PIPES=1; No idea how to test this consistently
t/query-string-with-semicolon.t .. ok
t/redirect.t ..................... ok
t/remote-user.t .................. ok
t/run.t .......................... ok
t/zombies.t ...................... skipped: (no reason given)
All tests successful.
Files=18, Tests=110, 5 wallclock secs ( 0.03 usr 0.08 sys + 4.30 cusr 1.56 csys = 5.97 CPU)
Result: PASS
------------------------------
PREREQUISITES
------------------------------
Prerequisite modules loaded:
requires:
Module Need Have
------------------- ----- --------
IO::Pipely 0.005 0.005
Mojolicious 7.28 9.19
build_requires:
Module Need Have
------------------- ----- --------
Test::More 0.88 1.302186
configure_requires:
Module Need Have
------------------- ----- --------
ExtUtils::MakeMaker 0 7.62
------------------------------
ENVIRONMENT AND OTHER CONTEXT
------------------------------
Environment variables:
AUTOMATED_TESTING = 1
LANG = en_US.utf8
PATH = /home/sand/bin:/usr/local/bin:/usr/local/sbin:/usr/sbin:/usr/bin:/sbin:/bin:/usr/games:/usr/local/games:/snap/bin:/usr/local/perl/bin:/usr/X11/bin
PERL = /tmp/basesmoker-reloperl-HVFz/bin/perl
PERL5LIB = /tmp/loop_over_bdir-14873-gqPQRU/Lingua-BioYaTeA-0.11-0/blib/arch:/tmp/loop_over_bdir-14873-gqPQRU/Lingua-BioYaTeA-0.11-0/blib/lib:/tmp/loop_over_bdir-14873-gqPQRU/Lingua-YaTeA-0.626-0/blib/arch:/tmp/loop_over_bdir-14873-gqPQRU/Lingua-YaTeA-0.626-0/blib/lib:/tmp/loop_over_bdir-14873-gqPQRU/mmds-1.902-0/blib/arch:/tmp/loop_over_bdir-14873-gqPQRU/mmds-1.902-0/blib/lib:/tmp/loop_over_bdir-14873-gqPQRU/LiquidWeb-Storm-CLI-1.03-0/blib/arch:/tmp/loop_over_bdir-14873-gqPQRU/LiquidWeb-Storm-CLI-1.03-0/blib/lib
PERL5OPT =
PERL5_CPANPLUS_IS_RUNNING = 14881
PERL5_CPAN_IS_RUNNING = 14881
PERL_CANARY_STABILITY_NOPROMPT = 1
PERL_MM_USE_DEFAULT = 1
PERL_USE_UNSAFE_INC = 1
SHELL = /usr/bin/zsh
TERM = screen
Perl special variables (and OS-specific diagnostics, for MSWin32):
$^X = /tmp/basesmoker-reloperl-HVFz/bin/perl
$UID/$EUID = 1005 / 1005
$GID = 1005 1005
$EGID = 1005 1005
Perl module toolchain versions installed:
Module Have
------------------- --------
CPAN 2.28
CPAN::Meta 2.150010
Cwd 3.82
ExtUtils::CBuilder 0.280236
ExtUtils::Command 7.62
ExtUtils::Install 2.20
ExtUtils::MakeMaker 7.62
ExtUtils::Manifest 1.73
ExtUtils::ParseXS 3.43
File::Spec 3.81
JSON 4.03
JSON::PP 4.06
Module::Build 0.4231
Module::Signature 0.87
Parse::CPAN::Meta 2.150010
Test::Harness 3.43
Test::More 1.302186
YAML 1.30
YAML::Syck 1.34
version 0.9929
--
Summary of my perl5 (revision 5 version 35 subversion 2) configuration:
Commit id: e758692133b5069e2524e70b41bd782ad9e1267b
Platform:
osname=linux
osvers=4.15.0-144-generic
archname=x86_64-linux-ld
uname='linux k93bionic 4.15.0-144-generic #148-ubuntu smp sat may 8 02:33:43 utc 2021 x86_64 x86_64 x86_64 gnulinux '
config_args='-Dprefix=/home/sand/src/perl/repoperls/installed-perls/host/k93bionic/v5.35.2/ca05 -Dmyhostname=k93bionic -Dinstallusrbinperl=n -Uversiononly -Dusedevel -des -Ui_db -Dlibswanted=cl pthread socket inet nsl gdbm dbm malloc dl ld sun m crypt sec util c cposix posix ucb BSD gdbm_compat -Uuseithreads -Duselongdouble -DEBUGGING=-g'
hint=recommended
useposix=true
d_sigaction=define
useithreads=undef
usemultiplicity=undef
use64bitint=define
use64bitall=define
uselongdouble=define
usemymalloc=n
default_inc_excludes_dot=define
Compiler:
cc='cc'
ccflags ='-fwrapv -fno-strict-aliasing -pipe -fstack-protector-strong -I/usr/local/include -D_LARGEFILE_SOURCE -D_FILE_OFFSET_BITS=64'
optimize='-O2 -g'
cppflags='-fwrapv -fno-strict-aliasing -pipe -fstack-protector-strong -I/usr/local/include'
ccversion=''
gccversion='7.5.0'
gccosandvers=''
intsize=4
longsize=8
ptrsize=8
doublesize=8
byteorder=12345678
doublekind=3
d_longlong=define
longlongsize=8
d_longdbl=define
longdblsize=16
longdblkind=3
ivtype='long'
ivsize=8
nvtype='long double'
nvsize=16
Off_t='off_t'
lseeksize=8
alignbytes=16
prototype=define
Linker and Libraries:
ld='cc'
ldflags =' -fstack-protector-strong -L/usr/local/lib'
libpth=/usr/local/lib /usr/lib/x86_64-linux-gnu /usr/lib /lib/x86_64-linux-gnu /lib
libs=-lpthread -lnsl -ldl -lm -lcrypt -lutil -lc
perllibs=-lpthread -lnsl -ldl -lm -lcrypt -lutil -lc
libc=libc-2.27.so
so=so
useshrplib=false
libperl=libperl.a
gnulibc_version='2.27'
Dynamic Linking:
dlsrc=dl_dlopen.xs
dlext=so
d_dlsymun=undef
ccdlflags='-Wl,-E'
cccdlflags='-fPIC'
lddlflags='-shared -O2 -g -L/usr/local/lib -fstack-protector-strong'
Characteristics of this binary (from libperl):
Compile-time options:
HAS_TIMES
PERLIO_LAYERS
PERL_COPY_ON_WRITE
PERL_DONT_CREATE_GVSV
PERL_MALLOC_WRAP
PERL_OP_PARENT
PERL_PRESERVE_IVUV
PERL_USE_DEVEL
USE_64_BIT_ALL
USE_64_BIT_INT
USE_LARGE_FILES
USE_LOCALE
USE_LOCALE_COLLATE
USE_LOCALE_CTYPE
USE_LOCALE_NUMERIC
USE_LOCALE_TIME
USE_LONG_DOUBLE
USE_PERLIO
USE_PERL_ATOF
Built under linux
Compiled at Aug 6 2021 11:12:08
%ENV:
PERL="/tmp/basesmoker-reloperl-HVFz/bin/perl"
PERL5LIB="/tmp/loop_over_bdir-14873-gqPQRU/Lingua-BioYaTeA-0.11-0/blib/arch:/tmp/loop_over_bdir-14873-gqPQRU/Lingua-BioYaTeA-0.11-0/blib/lib:/tmp/loop_over_bdir-14873-gqPQRU/Lingua-YaTeA-0.626-0/blib/arch:/tmp/loop_over_bdir-14873-gqPQRU/Lingua-YaTeA-0.626-0/blib/lib:/tmp/loop_over_bdir-14873-gqPQRU/mmds-1.902-0/blib/arch:/tmp/loop_over_bdir-14873-gqPQRU/mmds-1.902-0/blib/lib:/tmp/loop_over_bdir-14873-gqPQRU/LiquidWeb-Storm-CLI-1.03-0/blib/arch:/tmp/loop_over_bdir-14873-gqPQRU/LiquidWeb-Storm-CLI-1.03-0/blib/lib"
PERL5OPT=""
PERL5_CPANPLUS_IS_RUNNING="14881"
PERL5_CPAN_IS_RUNNING="14881"
PERL_CANARY_STABILITY_NOPROMPT="1"
PERL_MM_USE_DEFAULT="1"
PERL_USE_UNSAFE_INC="1"
@INC:
/tmp/loop_over_bdir-14873-gqPQRU/Lingua-BioYaTeA-0.11-0/blib/arch
/tmp/loop_over_bdir-14873-gqPQRU/Lingua-BioYaTeA-0.11-0/blib/lib
/tmp/loop_over_bdir-14873-gqPQRU/Lingua-YaTeA-0.626-0/blib/arch
/tmp/loop_over_bdir-14873-gqPQRU/Lingua-YaTeA-0.626-0/blib/lib
/tmp/loop_over_bdir-14873-gqPQRU/mmds-1.902-0/blib/arch
/tmp/loop_over_bdir-14873-gqPQRU/mmds-1.902-0/blib/lib
/tmp/loop_over_bdir-14873-gqPQRU/LiquidWeb-Storm-CLI-1.03-0/blib/arch
/tmp/loop_over_bdir-14873-gqPQRU/LiquidWeb-Storm-CLI-1.03-0/blib/lib
/home/sand/src/perl/repoperls/installed-perls/host/k93bionic/v5.35.2/ca05/lib/site_perl/5.35.2/x86_64-linux-ld
/home/sand/src/perl/repoperls/installed-perls/host/k93bionic/v5.35.2/ca05/lib/site_perl/5.35.2
/home/sand/src/perl/repoperls/installed-perls/host/k93bionic/v5.35.2/ca05/lib/5.35.2/x86_64-linux-ld
/home/sand/src/perl/repoperls/installed-perls/host/k93bionic/v5.35.2/ca05/lib/5.35.2
.