Back
From: metabase:user:322078bc-2aae-11df-837a-5e0a49663a4f
Subject: PASS AutoLoader-5.74 v5.16.2
Date: 2013-11-16T13:52:34Z
This distribution has been tested as part of the CPAN Testers
project, supporting the Perl programming language. See
http://wiki.cpantesters.org/ for more information or email
questions to cpan-testers-discuss@perl.org
--
Dear SMUELLER,
This is a computer-generated error report created automatically by
CPANPLUS, version 0.9138. Testers personal comments may appear
at the end of this report.
Thank you for uploading your work to CPAN. Congratulations!
All tests were successful.
TEST RESULTS:
Below is the error stack from stage 'make test':
C:\strawberry\perl\bin\perl.exe "-MExtUtils::Command::MM" "-e" "test_harness(0, 'blib\lib', 'blib\arch')" t/*.t
t/00pod.t ......... skipped: Test::Pod 1.00 required for testing POD
t/01AutoLoader.t .. ok
t/02AutoSplit.t ... ok
All tests successful.
Files=3, Tests=79, 18 wallclock secs ( 0.04 usr + 0.04 sys = 0.08 CPU)
Result: PASS
PREREQUISITES:
Here is a list of prerequisites you specified and versions we
managed to load:
Module Name Have Want
ExtUtils::MakeMaker 6.68 0
Perl module toolchain versions installed:
Module Name Have
CPANPLUS 0.9138
CPANPLUS::Dist::Build 0.70
Cwd 3.40
ExtUtils::CBuilder 0.280206
ExtUtils::Command 1.17
ExtUtils::Install 1.58
ExtUtils::MakeMaker 6.68
ExtUtils::Manifest 1.61
ExtUtils::ParseXS 3.18
File::Spec 3.40
Module::Build 0.4005
Pod::Parser 1.61
Pod::Simple 3.28
Test::Harness 3.30
Test::More 0.98
version 0.9902
******************************** NOTE ********************************
The comments above are created mechanically, possibly without manual
checking by the sender. As there are many people performing automatic
tests on each upload to CPAN, it is likely that you will receive
identical messages about the same problem.
If you believe that the message is mistaken, please reply to the first
one with correction and/or additional informations, and do not take
it personally. We appreciate your patience. :)
**********************************************************************
Additional comments:
This report was machine-generated by CPANPLUS::Dist::YACSmoke 0.88.
------------------------------
ENVIRONMENT AND OTHER CONTEXT
------------------------------
Environment variables:
AUTOMATED_TESTING = 1
COMSPEC = C:\WINDOWS\system32\cmd.exe
NUMBER_OF_PROCESSORS = 1
PATH = C:\WINDOWS\system32;C:\WINDOWS;C:\WINDOWS\System32\Wbem;C:\strawberry\c\bin;C:\strawberry\perl\site\bin;C:\strawberry\perl\bin
PERL5LIB = ;C:\DOCUME~1\ADMINI~1\CPANPL~1\516~1.2\build\AutoLoader-5.74\blib\lib;C:\DOCUME~1\ADMINI~1\CPANPL~1\516~1.2\build\AutoLoader-5.74\blib\arch
PERL5_CPANIDX_URL = http://cpan.mirror.local/cpanidx/
PERL5_CPANPLUS_IS_RUNNING = 1276
PERL5_CPANPLUS_IS_VERSION = 0.9138
PERL_EXTUTILS_AUTOINSTALL = --defaultdeps
PERL_MM_USE_DEFAULT = 1
PROCESSOR_IDENTIFIER = x86 Family 18 Model 1 Stepping 0, AuthenticAMD
TERM = dumb
Perl special variables (and OS-specific diagnostics, for MSWin32):
Perl: $^X = C:\strawberry\perl\bin\perl.exe
UID: $< = 0
EUID: $> = 0
GID: $( = 0
EGID: $) = 0
Win32::GetOSName = Win2003
Win32::GetOSVersion = Service Pack 2, 5, 2, 3790, 2, 2, 0, 272, 3
Win32::IsAdminUser = 1
-------------------------------
--
Summary of my perl5 (revision 5 version 16 subversion 2) configuration:
Platform:
osname=MSWin32, osvers=4.0, archname=MSWin32-x86-multi-thread
uname='Win32 strawberry-perl 5.16.2.1 #1 Fri Nov 2 00:33:54 2012 i386'
config_args='undef'
hint=recommended, useposix=true, d_sigaction=undef
useithreads=define, usemultiplicity=define
useperlio=define, d_sfio=undef, uselargefiles=define, usesocks=undef
use64bitint=undef, use64bitall=undef, uselongdouble=undef
usemymalloc=n, bincompat5005=undef
Compiler:
cc='gcc', ccflags =' -s -O2 -DWIN32 -DPERL_TEXTMODE_SCRIPTS -DPERL_IMPLICIT_CONTEXT -DPERL_IMPLICIT_SYS -fno-strict-aliasing -mms-bitfields',
optimize='-s -O2',
cppflags='-DWIN32'
ccversion='', gccversion='4.6.3', gccosandvers=''
intsize=4, longsize=4, ptrsize=4, doublesize=8, byteorder=1234
d_longlong=undef, longlongsize=8, d_longdbl=define, longdblsize=12
ivtype='long', ivsize=4, nvtype='double', nvsize=8, Off_t='long long', lseeksize=8
alignbytes=8, prototype=define
Linker and Libraries:
ld='g++', ldflags ='-s -L"C:\strawberry\perl\lib\CORE" -L"C:\strawberry\c\lib"'
libpth=C:\strawberry\c\lib C:\strawberry\c\i686-w64-mingw32\lib
libs=-lmoldname -lkernel32 -luser32 -lgdi32 -lwinspool -lcomdlg32 -ladvapi32 -lshell32 -lole32 -loleaut32 -lnetapi32 -luuid -lws2_32 -lmpr -lwinmm -lversion -lodbc32 -lodbccp32 -lcomctl32
perllibs=-lmoldname -lkernel32 -luser32 -lgdi32 -lwinspool -lcomdlg32 -ladvapi32 -lshell32 -lole32 -loleaut32 -lnetapi32 -luuid -lws2_32 -lmpr -lwinmm -lversion -lodbc32 -lodbccp32 -lcomctl32
libc=, so=dll, useshrplib=true, libperl=libperl516.a
gnulibc_version=''
Dynamic Linking:
dlsrc=dl_win32.xs, dlext=dll, d_dlsymun=undef, ccdlflags=' '
cccdlflags=' ', lddlflags='-mdll -s -L"C:\strawberry\perl\lib\CORE" -L"C:\strawberry\c\lib"'
Characteristics of this binary (from libperl):
Compile-time options: HAS_TIMES HAVE_INTERP_INTERN MULTIPLICITY
PERLIO_LAYERS PERL_DONT_CREATE_GVSV
PERL_IMPLICIT_CONTEXT PERL_IMPLICIT_SYS
PERL_MALLOC_WRAP PERL_PRESERVE_IVUV PL_OP_SLAB_ALLOC
USE_ITHREADS USE_LARGE_FILES USE_LOCALE
USE_LOCALE_COLLATE USE_LOCALE_CTYPE
USE_LOCALE_NUMERIC USE_PERLIO USE_PERL_ATOF
Built under MSWin32
Compiled at Nov 2 2012 00:44:17
%ENV:
PERL5LIB=";C:\DOCUME~1\ADMINI~1\CPANPL~1\516~1.2\build\AutoLoader-5.74\blib\lib;C:\DOCUME~1\ADMINI~1\CPANPL~1\516~1.2\build\AutoLoader-5.74\blib\arch"
PERL5_CPANIDX_URL="http://cpan.mirror.local/cpanidx/"
PERL5_CPANPLUS_IS_RUNNING="1276"
PERL5_CPANPLUS_IS_VERSION="0.9138"
PERL_EXTUTILS_AUTOINSTALL="--defaultdeps"
PERL_MM_USE_DEFAULT="1"
@INC:
C:\DOCUME~1\ADMINI~1\CPANPL~1\516~1.2\build\AutoLoader-5.74\blib\lib
C:\DOCUME~1\ADMINI~1\CPANPL~1\516~1.2\build\AutoLoader-5.74\blib\arch
C:/strawberry/perl/site/lib/MSWin32-x86-multi-thread
C:/strawberry/perl/site/lib
C:/strawberry/perl/vendor/lib
C:/strawberry/perl/lib
.