Report for DBIx-Class-0.082840

Back
From: metabase:user:30ae4450-2aae-11df-837a-5e0a49663a4f
Subject: PASS DBIx-Class-0.082840 v5.25.8 
Date: 2016-12-30T23:22:42Z

This distribution has been tested as part of the CPAN Testers
project, supporting the Perl programming language.  See
http://wiki.cpantesters.org/ for more information or email
questions to cpan-testers-discuss@perl.org


--
Dear Peter Rabbitson,

This is a computer-generated report for DBIx-Class-0.082840
on perl 5.25.8, created by CPAN-Reporter-1.2018.

Thank you for uploading your work to CPAN.  Congratulations!
All tests were successful.

Sections of this report:

    * Tester comments
    * Program output
    * Prerequisites
    * Environment and other context

------------------------------
TESTER COMMENTS
------------------------------

Additional comments from tester:

this report is from an automated smoke testing program
and was not reviewed by a human for accuracy

------------------------------
PROGRAM OUTPUT
------------------------------

Output from 'C:\STRAWB~1\c\bin\dmake.exe test':

"C:\Strawberry258\perl\bin\perl.exe" "-MExtUtils::Command::MM" "-MTest::Harness" "-e" "undef *Test::Harness::Switches; test_harness(0, 'inc', 'blib\lib', 'blib\arch')" t/*.t t/admin/*.t t/cdbi/*.t t/cdbi/DeepAbstractSearch/*.t t/cdbi/abstract/*.t t/cdbi/sweet/*.t t/count/*.t t/delete/*.t t/inflate/*.t t/multi_create/*.t t/ordered/*.t t/prefetch/*.t t/relationship/*.t t/resultset/*.t t/resultsource/*.t t/row/*.t t/schema/*.t t/search/*.t t/sqlmaker/*.t t/sqlmaker/hierarchical/*.t t/sqlmaker/limit_dialects/*.t t/storage/*.t t/update/*.t xt/*.t
# 
# 
# List of loadable modules within both the core and *OPTIONAL* dependency chains
# present on this system (modules sourced from ./blib, ./lib, ./t, and ./xt
# with versions identical to their parent namespace were omitted for brevity)
# 
#     *** Note that *MANY* of these modules will *NEVER* be loaded ***
#             *** during normal operation of DBIx::Class ***
# 
# @INC at startup (does not reflect manipulation at runtime):
#   0: ./inc/
#   1: ./blib/lib/
#   2: ./blib/arch/
#   3: <<SA>>/
#   4: <<VL>>/
#   5: <<PA>>/
#   6: ./
# 
# Sourcing markers:
#        PA: $Config{archlib}
#        SA: $Config{sitearch}
#        VL: $Config{vendorlib}
#       BLL: ./blib/lib/
# 
# =============================
#        PA            0.28  attributes                                                                      [ MD5: d85848498ddbd81b3666298dcf707ad9 ]
#        PA            5.74  AutoLoader                                                                      [ MD5: c923fac66a84c6b5dbbf01250e7c1a42 ]
#        PA            1.65  B                                                                               [ MD5: d803b8e294c2ec95a20f56da2db6fca9 ]
#        VL            0.21  B::Hooks::EndOfScope                                                            [ MD5: a004874dd5b76eb1119b90c7a03158c6 ]
#        VL            0.21  B::Hooks::EndOfScope::XS                                                        [ MD5: a3cd2087d9dba94277ba4e15fb5e39ad ]
#        PA            2.24  base                                                                            [ MD5: 6caddedd1a8f3a5ffba15e5b7789e1cc ]
#        PA            1.05  bytes                                                                           [ MD5: 0b1f4cf7f07548ffd51cd5ddb6644fe2 ]
#        PA            1.42  Carp                                                                            [ MD5: 5e505f781edb59d1bc7d50192aca1d0b ]
#        PA            1.42  Carp::Heavy                                                                     [ MD5: 79f092eecb710ba166304e7a88bfa45d ]
#        SA            0.34  Class::Accessor                                                                 [ MD5: 79a573e4c523b52dcffb91b5390d9d20 ]
#        SA                  Class::Accessor::Chained::Fast                                                  [ MD5: 544678632aaf294dc280944a83c509bc ]
#        SA            0.34  Class::Accessor::Fast                                                           [ MD5: 69232ed8cbca035a8eb6c73e40b695f9 ]
#        SA         0.10012  Class::Accessor::Grouped                                                        [ MD5: e7c277f33b36ef2ef9f68a564c26e753 ]
#        SA        1.001000  Class::C3::Componentised                                                        [ MD5: c8c95fc2278592a66aacfd18ed7a5645 ]
#        VL            1.31  Class::Inspector                                                                [ MD5: bcc5969dc33b7728aec240eed3fe0798 ]
#        PA            0.65  Class::Struct                                                                   [ MD5: cf060e4d87730484dcdf246d806fec93 ]
#        SA            1.19  Class::XSAccessor                                                               [ MD5: 0b7adfcc61192a80f97463e89d6d1696 ]
#        SA            1.19  Class::XSAccessor::Heavy                                                        [ MD5: db9379a668d6133fce801e4648cdef45 ]
#        VL            0.38  Clone                                                                           [ MD5: 95bff4a1ac34730d9af65033a3c72448 ]
#        VL            3.74  common::sense                                                                   [ MD5: 1892eafc5e6e36dd5ba6ffe4e5f7e421 ]
#        PA        5.025008  Config                                                                          [ MD5: aacf07bafab281d87fe5c6aca71d73ea ]
#        PA            1.33  constant                                                                        [ MD5: 56cde6eba0f667ab56196613df3933c1 ]
#        SA            0.01  Context::Preserve                                                               [ MD5: 26e18569523ddfcaaa8bf29790e8c1f0 ]
#        VL          3.0225  Cpanel::JSON::XS                                                                [ MD5: 9c776346345cd70b5009e2b7000139ea ]
#        PA            3.66  Cwd                                                                             [ MD5: 23a49f197e6407e1897a8d8beb853291 ]
#        PA           2.166  Data::Dumper                                                                    [ MD5: f8fbc496ac6d081e67e86943d3fd2127 ]
#        SA           2.022  Data::Dumper::Concise                                                           [ MD5: 84f113e489b3fa5fa5f1d3b7a169d849 ]
#        SA            2.02  Data::Page                                                                      [ MD5: 52f4b3f7348e51e0654aa4f0b3503ab0 ]
#        VL           1.636  DBI                                                                             [ MD5: 251b4675dfff943bcd6a725645abbeba ]
#       BLL        0.082840  DBIx::Class                                                                     [ MD5: 8bfd568d750eaffd5f53546d6ab095bf ]
#        VL            0.14  Devel::GlobalDestruction                                                        [ MD5: fa8dcedeb9a8a3d29fbef7dfce342970 ]
#        PA            1.16  Digest::base                                                                    [ MD5: c46e2ebb720ee7d9c600ce5acbf34291 ]
#        PA            2.55  Digest::MD5                                                                     [ MD5: eb31899db132d674e1db22f4727234f6 ]
#        PA            1.40  DynaLoader                                                                      [ MD5: 8a9f6a27568f3497284676699cd4535e ]
#        PA            2.88  Encode                                                                          [ MD5: bc0d0c3e24f579760903d86fd1368ae5 ]
#        PA            2.21  Encode::Alias                                                                   [ MD5: c80393c9755f35aa7358e8a3090a3d73 ]
#        PA            2.04  Encode::Byte                                                                    [ MD5: 8138621006b5d66966cb986225b808fc ]
#        PA            2.05  Encode::Config                                                                  [ MD5: 7bdd1d8dffa8d3500086802451fc020d ]
#        PA            2.07  Encode::Encoding                                                                [ MD5: 34dc1ab677a5e9b9b4ab88acbde70db4 ]
#        PA            1.27  Errno                                                                           [ MD5: 748fff98883ad86fae54f2f516a68326 ]
#        PA            5.72  Exporter                                                                        [ MD5: 358c4022647b971c7c4f3a4157b8343e ]
#        PA            5.72  Exporter::Heavy                                                                 [ MD5: d8032ca40b44e010673e6dd5816ca66b ]
#        PA            7.24  ExtUtils::Liblist                                                               [ MD5: 67a5281be16b6a38bd6ee668e1e629c8 ]
#        PA            7.24  ExtUtils::Liblist::Kid                                                          [ MD5: c9f416543d718ca94cbc3be3e144c6cf ]
#        PA            7.24  ExtUtils::MakeMaker                                                             [ MD5: 27cf678277a5d4812d0d5120bb9accc0 ]
#        PA            7.24  ExtUtils::MakeMaker::Config                                                     [ MD5: 356ee049ac3012508621d65f68e6d09a ]
#        PA            7.24  ExtUtils::MakeMaker::Locale                                                     [ MD5: e87da15952e5eb9f4de9b1efe1adb893 ]
#        PA            7.24  ExtUtils::MakeMaker::version                                                    [ MD5: ed031209c6103427ffa19c83c030a154 ]
#        PA            7.24  ExtUtils::MM                                                                    [ MD5: 9e150ea685a38e0b0e2929706034b8cc ]
#        PA            7.24  ExtUtils::MM_Any                                                                [ MD5: 4fa5e931e663ff16c3209e148fc51755 ]
#        PA            7.24  ExtUtils::MM_Unix                                                               [ MD5: 94cd530573a6925c632ab60ae7619a0a ]
#        PA            7.24  ExtUtils::MM_Win32                                                              [ MD5: 4b4e24fada7d4f19c55745cc7f1050de ]
#        PA            7.24  ExtUtils::MY                                                                    [ MD5: 6b05b247d4b5cbddf4768614777c947c ]
#        PA            1.13  Fcntl                                                                           [ MD5: b337d563fd4bc958c7e0a2bba2ca86d2 ]
#        PA            2.85  File::Basename                                                                  [ MD5: 060f029d056cc44e536c7d278f69bf43 ]
#        PA            2.32  File::Copy                                                                      [ MD5: 6bd3ccbef5e29781e19ab4d4a4dfc779 ]
#        PA            1.34  File::Find                                                                      [ MD5: 04150524197463018d3188f24e360c5e ]
#        PA            1.27  File::Glob                                                                      [ MD5: 9dad673a193675bed0eb7bb3aa6db13a ]
#        VL            1.00  File::HomeDir                                                                   [ MD5: dab54a50acb9cf1a884ac88be4294e82 ]
#        VL            1.00  File::HomeDir::Driver                                                           [ MD5: c4065f96c83394a428c8f78c5168f55a ]
#        VL            1.00  File::HomeDir::Windows                                                          [ MD5: 222fb87107f90ecacef7ad3c07482f50 ]
#        PA         2.12_01  File::Path                                                                      [ MD5: b71c56316d768bc029229b0ee4e40f5e ]
#        PA            3.66  File::Spec                                                                      [ MD5: f966e6643029633ebddd5d8c9f2b7826 ]
#        PA            3.66  File::Spec::Unix                                                                [ MD5: 3a3259a3739576959787b67b0f6b4450 ]
#        PA            3.66  File::Spec::Win32                                                               [ MD5: 301909aaa1574808e28c645985586f6d ]
#        PA            1.07  File::stat                                                                      [ MD5: d6fcb5be03ba2b0f34569f8dbc9c17c8 ]
#        PA          0.2304  File::Temp                                                                      [ MD5: 42d392eee808579f109684ac09d8649e ]
#        VL            1.21  File::Which                                                                     [ MD5: cdcf532119e982121ccf92387544f0cf ]
#        PA            1.01  integer                                                                         [ MD5: 3e5ff5fb486c95945e10e79859dd5bfb ]
#        PA            1.38  IO                                                                              [ MD5: 0fd9a20e71a733dbe5859bd96e32334d ]
#        PA            1.10  IO::Dir                                                                         [ MD5: 3382ea44d8e267cc12a596fbfe73ff92 ]
#        PA            1.16  IO::File                                                                        [ MD5: 206278c02dd4a3fb7792a4a193d2588b ]
#        PA            1.36  IO::Handle                                                                      [ MD5: ba4d379aeccdf0982810a9ebc71aa1ce ]
#        PA            1.10  IO::Seekable                                                                    [ MD5: f62813b55c062f449160100dca67d043 ]
#        VL            2.90  JSON                                                                            [ MD5: e0370519fe2c243fefdeba07e7a78697 ]
#        PA      2.27400_02  JSON::PP                                                                        [ MD5: 41a51e893f3f4b4e9cf1c50f415577c2 ]
#                      1.01  JSON::PP::IncrParser                                                          ! -f $INC{'JSON/PP/IncrParser.pm'}
#        VL            3.03  JSON::XS                                                                        [ MD5: baa251dcf7501acd5079f83714d2531c ]
#        PA            1.47  List::Util                                                                      [ MD5: c2f38938eed1e2f018667b2dd4c36ac9 ]
#        PA        1.999807  Math::BigInt                                                                    [ MD5: 0e191c477ff88383639caebe1d698be9 ]
#        VL                  Method::Generate::Accessor                                                      [ MD5: b46f462a852fd4e26aaaf6aeee585c8e ]
#        VL                  Method::Generate::Constructor                                                   [ MD5: 65d3a011070e91b35113a075a80cdeac ]
#        VL            0.09  Module::Implementation                                                          [ MD5: 2a146bb117cd6b798e2b928231799546 ]
#        VL           0.014  Module::Runtime                                                                 [ MD5: fb1d248a05a99e7fc65e99178bce0c5b ]
#        VL        2.003000  Moo                                                                             [ MD5: 6251ffbcbfe7a9fddf825d76a24ec904 ]
#        VL                  Moo::Object                                                                     [ MD5: 454a78f98f0239ac4044db19f07e8567 ]
#        VL                  Moo::sification                                                                 [ MD5: 061e62ee1cc9fa0d4877ea1b7d2aabb0 ]
#        PA            1.20  mro                                                                             [ MD5: 55e173fa7c4aa8a39d0b12f002d01a84 ]
#        SA            0.12  MRO::Compat                                                                     [ MD5: baa26363fce54b680b27331693f0bf47 ]
#        VL            0.27  namespace::clean                                                                [ MD5: f3e03f7f5f26391565d98357834e909b ]
#        PA            1.27  overload                                                                        [ MD5: 0c17f2c9a5fa9cd2bd24331bc9dcbd3c ]
#        PA            0.02  overloading                                                                     [ MD5: 36e1b34f8175e036d57e51fd7d56becd ]
#        VL            0.37  Package::Stash                                                                  [ MD5: e40c05afed4074ecb0455b05316523e8 ]
#        VL            0.28  Package::Stash::XS                                                              [ MD5: 5bafa791645794b7b7072bdefd80d787 ]
#        PA           0.236  parent                                                                          [ MD5: 0e42f824a13eae5979d10017afc8227b ]
#        VL            0.37  Path::Class                                                                     [ MD5: 62b3248e0d25291933a8d0f09e731547 ]
#        VL            0.37  Path::Class::Dir                                                                [ MD5: 9b7bd783037e1e812d6a82d62bcecb92 ]
#        VL            0.37  Path::Class::Entity                                                             [ MD5: 8e14d34b8f5a0909736e9bdaac460848 ]
#        VL            0.37  Path::Class::File                                                               [ MD5: b7f9029ac9e90dc1d509a95d12103c69 ]
#                  5.025008  perl                                                                            [ MD5: 38bf9b353f75e065e8bf3515a0580ed3 ]
#        PA            1.09  PerlIO                                                                          [ MD5: d39a87a60835f4adf917148eef5e0c79 ]
#        PA            1.47  Scalar::Util                                                                    [ MD5: f3c089157aadb2b9cb1219f456983d10 ]
#        SA            0.21  Scope::Guard                                                                    [ MD5: 914494bdeb65cd340f14eae265635cf2 ]
#        PA            1.02  SelectSaver                                                                     [ MD5: bddc465e351ad0508581b94ef112d322 ]
#        SA            1.81  SQL::Abstract                                                                   [ MD5: 671c03f308e5755d2b8ef3b1fe698685 ]
#        PA            2.59  Storable                                                                        [ MD5: e8b409428d4c646a75eb426f869ee0bf ]
#        PA            1.11  strict                                                                          [ MD5: 441328c7ffbbe42a0226ec65bde71715 ]
#        VL        2.003001  Sub::Defer                                                                      [ MD5: 8c8a1a6879473fa9c3d675a7b5eadc0b ]
#        VL        0.001013  Sub::Exporter::Progressive                                                      [ MD5: 5f37412f2438f87c7b088c7b2e6dd8ab ]
#        SA            0.21  Sub::Name                                                                       [ MD5: f03f7cf0bb678e86d57149b9037b8970 ]
#        VL        2.003001  Sub::Quote                                                                      [ MD5: f6d42cf3dbd389c78bb46d528e353800 ]
#        PA            1.47  Sub::Util                                                                       [ MD5: 1503a5e9b3273f9d223c2b3d0fcf6eab ]
#        PA            1.07  Symbol                                                                          [ MD5: 083c3fe866ec1be9c84540b9ac8e6eee ]
#        PA        1.302073  Test2::API                                                                      [ MD5: 9db7a975d32cfce80129752e6ebcdffb ]
#        PA        1.302073  Test2::API::Context                                                             [ MD5: 35acd04746bca123275efc3694d4c1cf ]
#        PA        1.302073  Test2::API::Instance                                                            [ MD5: 2a3f607c224ab2e20c927b2263183481 ]
#        PA        1.302073  Test2::API::Stack                                                               [ MD5: cb45341017bda8dc478cc44a3d2f9bcd ]
#        PA        1.302073  Test2::Event                                                                    [ MD5: f125d65854213e3fc23091f9668931e4 ]
#        PA        1.302073  Test2::Event::Bail                                                              [ MD5: 4f7cd2ab35433041d33eeebc21e5bc1e ]
#        PA        1.302073  Test2::Event::Diag                                                              [ MD5: 84821ce1bb31bbb263b2368a36156cb5 ]
#        PA        1.302073  Test2::Event::Exception                                                         [ MD5: 03925219fe3c380bb966da6ea37020cf ]
#        PA        1.302073  Test2::Event::Info                                                              [ MD5: c3266713b590114e62acc1a62fa33677 ]
#        PA        1.302073  Test2::Event::Note                                                              [ MD5: 5030a0c17339bfdb7aa947236038e9ba ]
#        PA        1.302073  Test2::Event::Ok                                                                [ MD5: 20d201e9a76f020a21e66d36fed36039 ]
#        PA        1.302073  Test2::Event::Plan                                                              [ MD5: 60cf451d00ebf0fb5654d69c8bebdf6a ]
#        PA        1.302073  Test2::Event::Skip                                                              [ MD5: 68167769a73632a51bf750918ee7fd90 ]
#        PA        1.302073  Test2::Event::Subtest                                                           [ MD5: 327dc62e6bf452ef184448867c0727ca ]
#        PA        1.302073  Test2::Event::Waiting                                                           [ MD5: fb8cb02e75b226fa76946e3d1c32f7a2 ]
#        PA        1.302073  Test2::Formatter                                                                [ MD5: 69860b015da9f0e90a09bcef8257ccca ]
#        PA        1.302073  Test2::Formatter::TAP                                                           [ MD5: 626a343deb4120417d1cb2e52d9b6063 ]
#        PA        1.302073  Test2::Hub                                                                      [ MD5: fb2b74de573d62ced49f61bbf91df4de ]
#        PA        1.302073  Test2::Hub::Interceptor                                                         [ MD5: f10ae48fb3034322e22629581277234d ]
#        PA        1.302073  Test2::Hub::Interceptor::Terminator                                             [ MD5: d4390d1ca859de4d700953b79d9da543 ]
#        PA        1.302073  Test2::Hub::Subtest                                                             [ MD5: 517fcad09262694258195aa1188714a2 ]
#        PA        1.302073  Test2::Util                                                                     [ MD5: f16b25058c4e519001e4d956bbbe2df2 ]
#        PA        1.302073  Test2::Util::ExternalMeta                                                       [ MD5: 9112664759b2ef35702ca61179614f43 ]
#        PA           0.002  Test2::Util::HashBase                                                           [ MD5: 1d40b9fc9546ef50625d3e685a54068d ]
#        PA        1.302073  Test2::Util::Trace                                                              [ MD5: a3865b3f95e807d53eb995634d34e4b7 ]
#        PA        1.302073  Test::Builder                                                                   [ MD5: c7e6ffaf45e3e55eb9708c46dfdfa86c ]
#        PA        1.302073  Test::Builder::Formatter                                                        [ MD5: 1db626f9e032613c42c7553db1464b4a ]
#        PA        1.302073  Test::Builder::Module                                                           [ MD5: 94f9739a69138173000295be1ab852b3 ]
#        PA        1.302073  Test::Builder::TodoDiag                                                         [ MD5: 78375f97f3dbc791c1f0f227168f18c4 ]
#        PA        1.302073  Test::More                                                                      [ MD5: 3cb27660d280388e105ffbe75c974755 ]
#        VL            1.33  Text::CSV                                                                       [ MD5: facf1f1c610ff035663dc31ffb24a763 ]
#        VL            1.26  Text::CSV_XS                                                                    [ MD5: bb64cf5fef888a266dc1d390cb0d74ca ]
#        PA            1.05  Tie::Hash                                                                       [ MD5: acc4709f0adb89bef2863771b6995d2b ]
#        PA          1.9741  Time::HiRes                                                                     [ MD5: 1d000317cf75b2f0496533568e8a2711 ]
#        VL            0.27  Try::Tiny                                                                       [ MD5: 1f32db3c4cc69547f04b56e4ce492e57 ]
#        VL             1.0  Types::Serialiser                                                               [ MD5: b409e70ebab79d5b48b44dde9574b411 ]
#        PA            1.19  utf8                                                                            [ MD5: 1e81482deb175e2b15443c5223ec2e17 ]
#        VL            0.60  Variable::Magic                                                                 [ MD5: d033bb047976119855941117a56f5385 ]
#        PA            1.03  vars                                                                            [ MD5: 613c5318b87aa69b1145ca028f964445 ]
#        PA          0.9917  version                                                                         [ MD5: 0fbc5ad8182938d1d4069286b234f4a4 ]
#        PA          0.9917  version::regex                                                                  [ MD5: 20be5542bf2a20a4732c68d7e9e785be ]
#        PA            1.37  warnings                                                                        [ MD5: 0e16d816918d9c552dd93339cd3c7b49 ]
#        PA            1.04  warnings::register                                                              [ MD5: 2d8f6ce093a2176b982c0e12c0194b3b ]
#        PA            0.52  Win32                                                                           [ MD5: 01a6c628a01fceb31a8356f0423ddb6a ]
#        VL        0.003001  Win32::ShellQuote                                                               [ MD5: ca96e333f868b1c2231e1ffb54bee5bc ]
#        PA            0.24  XSLoader                                                                        [ MD5: f9e086f42b170bed94cc5eb79c52095b ]
# =============================
# 
# List of loadable modules within both the core and *OPTIONAL* dependency chains
# present on this system (modules sourced from ./blib, ./lib, ./t, and ./xt
# with versions identical to their parent namespace were omitted for brevity)
# 
#     *** Note that *MANY* of these modules will *NEVER* be loaded ***
#             *** during normal operation of DBIx::Class ***
# 
# 
t/00describe_environment.t .......................... ok
t/04_c3_mro.t ....................................... ok
t/05components.t .................................... ok
t/100extra_source.t ................................. ok
t/100populate.t ..................................... ok
t/101populate_rs.t .................................. ok
t/101source.t ....................................... ok
t/102load_classes.t ................................. ok
t/103many_to_many_warning.t ......................... ok
t/104view.t ......................................... ok
t/106dbic_carp.t .................................... ok
t/107obj_result_class.t ............................. ok
t/18insert_default.t ................................ ok
t/19retrieve_on_insert.t ............................ ok
t/20setuperrors.t ................................... ok
t/26dumper.t ........................................ ok
t/33exception_wrap.t ................................ ok
t/34exception_action.t .............................. ok
t/35exception_inaction.t ............................ ok
t/39load_namespaces_1.t ............................. ok
t/39load_namespaces_2.t ............................. ok
t/39load_namespaces_3.t ............................. ok
t/39load_namespaces_4.t ............................. ok
t/39load_namespaces_exception.t ..................... ok
t/39load_namespaces_rt41083.t ....................... ok
t/39load_namespaces_stress.t ........................ ok
t/40compose_connection.t ............................ ok
t/40resultsetmanager.t .............................. ok
t/46where_attribute.t ............................... ok
t/50fork.t .......................................... skipped: Set $ENV{DBICTEST_PG_DSN}, _USER and _PASS to run this test (note: creates and drops a table named artist!)
No such signal: SIGSYS at C:/Strawberry258/perl/lib/Test2/API/Instance.pm line 312.
No such signal: SIGSYS at C:/Strawberry258/perl/lib/Test2/API/Instance.pm line 312.
t/51threadnodb.t .................................... ok
No such signal: SIGSYS at C:/Strawberry258/perl/lib/Test2/API/Instance.pm line 312.
No such signal: SIGSYS at C:/Strawberry258/perl/lib/Test2/API/Instance.pm line 312.
t/51threads.t ....................................... skipped: Set $ENV{DBICTEST_PG_DSN}, _USER and _PASS to run this test (note: creates and drops a table named artist!)
No such signal: SIGSYS at C:/Strawberry258/perl/lib/Test2/API/Instance.pm line 312.
No such signal: SIGSYS at C:/Strawberry258/perl/lib/Test2/API/Instance.pm line 312.
t/51threadtxn.t ..................................... skipped: Set $ENV{DBICTEST_PG_DSN}, _USER and _PASS to run this test (note: creates and drops a table named artist!)
t/52leaks.t ......................................... ok
t/53lean_startup.t .................................. ok
t/55namespaces_cleaned.t ............................ ok
t/60core.t .......................................... ok
t/61findnot.t ....................................... ok
t/63register_class.t ................................ ok
t/63register_column.t ............................... ok
t/63register_source.t ............................... ok
t/64db.t ............................................ ok
t/65multipk.t ....................................... ok
t/67pager.t ......................................... ok
t/69update.t ........................................ ok
t/70auto.t .......................................... ok
t/71mysql.t ......................................... skipped: Set $ENV{DBICTEST_MYSQL_DSN}, _USER and _PASS to run this test
t/72pg.t ............................................ skipped: Set $ENV{DBICTEST_PG_DSN}, _USER and _PASS to run this test
t/72pg_bytea.t ...................................... skipped: Set $ENV{DBICTEST_PG_DSN}, _USER and _PASS to run this test
t/73oracle.t ........................................ skipped: Set $ENV{DBICTEST_ORA_DSN}, _USER and _PASS to run this test.
t/73oracle_blob.t ................................... skipped: Set $ENV{DBICTEST_ORA_DSN}, _USER and _PASS to run this test.
t/73oracle_hq.t ..................................... skipped: Set $ENV{DBICTEST_ORA_DSN}, _USER and _PASS to run this test.
t/745db2.t .......................................... skipped: Set $ENV{DBICTEST_DB2_DSN}, _USER and _PASS to run this test
t/746db2_400.t ...................................... skipped: Set $ENV{DBICTEST_DB2_400_DSN}, _USER and _PASS to run this test
t/746mssql.t ........................................ skipped: Set $ENV{DBICTEST_MSSQL_ODBC_DSN}, _USER and _PASS to run this test
t/746sybase.t ....................................... skipped: Set $ENV{DBICTEST_SYBASE_DSN}, _USER and _PASS to run this test. Warning: This test drops and creates the tables: 'artist', 'money_test' and 'bindtype_test'
t/747mssql_ado.t .................................... skipped: Set $ENV{DBICTEST_MSSQL_ADO_DSN}, _USER and _PASS to run this test
t/748informix.t ..................................... skipped: Set $ENV{DBICTEST_INFORMIX_DSN}, _USER and _PASS to run this test
t/749sqlanywhere.t .................................. skipped: Set $ENV{DBICTEST_SQLANYWHERE_DSN} and/or $ENV{DBICTEST_SQLANYWHERE_ODBC_DSN},
t/74mssql.t ......................................... skipped: Set $ENV{DBICTEST_MSSQL_DSN}, _USER and _PASS to run this test
t/750firebird.t ..................................... skipped: Set $ENV{DBICTEST_FIREBIRD_DSN} and/or $ENV{DBICTEST_FIREBIRD_INTERBASE_DSN} and/or $ENV{DBICTEST_FIREBIRD_ODBC_DSN}, _USER and _PASS to run these tests. WARNING: this test creates and drops the tables "artist", "bindtype_test" and "sequence_test"; the generators "gen_artist_artistid", "pkid1_seq", "pkid2_seq" and "nonpkid_seq" and the trigger "artist_bi".
t/751msaccess.t ..................................... skipped: Set $ENV{DBICTEST_MSACCESS_ODBC_DSN} and/or $ENV{DBICTEST_MSACCESS_ADO_DSN} (and optionally _USER and _PASS) to run these tests.
t/752sqlite.t ....................................... ok
t/76joins.t ......................................... ok
t/76select.t ........................................ ok
t/77join_count.t .................................... ok
t/78self_referencial.t .............................. ok
t/79aliasing.t ...................................... ok
t/80unique.t ........................................ ok
t/82cascade_copy.t .................................. ok
t/83cache.t ......................................... ok
t/84serialize.t ..................................... ok
t/85utf8.t .......................................... ok
t/86might_have.t .................................... ok
t/86sqlt.t .......................................... skipped: Test needs SQL::Translator >= 0.11018 (see DBIx::Class::Optional::Dependencies for details)
t/87ordered.t ....................................... ok
t/88result_set_column.t ............................. ok
t/90ensure_class_loaded.t ........................... ok
t/90join_torture.t .................................. ok
t/91merge_joinpref_attr.t ........................... ok
t/93autocast.t ...................................... ok
t/93single_accessor_object.t ........................ ok
t/94pk_mutation.t ................................... ok
t/94versioning.t .................................... skipped: Set $ENV{DBICTEST_MYSQL_DSN}, _USER and _PASS to run this test
t/96_is_deteministic_value.t ........................ skipped: Test needs DateTime >= 0.55, DateTime::Format::Strptime >= 1.2
t/97result_class.t .................................. ok
t/99dbic_sqlt_parser.t .............................. skipped: Test needs SQL::Translator >= 0.11018 (see DBIx::Class::Optional::Dependencies for details)
t/admin/01load.t .................................... skipped: Test needs JSON::Any >= 1.23, Moose >= 0.98, MooseX::Types >= 0.21, MooseX::Types::JSON >= 0.02, MooseX::Types::LoadableClass >= 0.011, MooseX::Types::Path::Class >= 0.05 (see DBIx::Class::Optional::Dependencies for details)
t/admin/02ddl.t ..................................... skipped: Test needs JSON::Any >= 1.23, Moose >= 0.98, MooseX::Types >= 0.21, MooseX::Types::JSON >= 0.02, MooseX::Types::LoadableClass >= 0.011, MooseX::Types::Path::Class >= 0.05 (see DBIx::Class::Optional::Dependencies for details)
t/admin/03data.t .................................... skipped: Test needs JSON::Any >= 1.23, Moose >= 0.98, MooseX::Types >= 0.21, MooseX::Types::JSON >= 0.02, MooseX::Types::LoadableClass >= 0.011, MooseX::Types::Path::Class >= 0.05 (see DBIx::Class::Optional::Dependencies for details)
t/admin/10script.t .................................. skipped: Test needs Getopt::Long::Descriptive >= 0.081, JSON::Any >= 1.31, Moose >= 0.98, MooseX::Types >= 0.21, MooseX::Types::JSON >= 0.02, MooseX::Types::LoadableClass >= 0.011, MooseX::Types::Path::Class >= 0.05
t/cdbi/01-columns.t ................................. skipped: Class::DBI required for this test
t/cdbi/02-Film.t .................................... skipped: Class::DBI required for this test
t/cdbi/03-subclassing.t ............................. skipped: Class::DBI required for this test
t/cdbi/04-lazy.t .................................... skipped: Class::DBI required for this test
t/cdbi/06-hasa.t .................................... skipped: Class::DBI required for this test
t/cdbi/08-inheritcols.t ............................. skipped: Class::DBI required for this test
t/cdbi/09-has_many.t ................................ skipped: Class::DBI required for this test
t/cdbi/11-triggers.t ................................ skipped: Class::DBI required for this test
t/cdbi/12-filter.t .................................. skipped: Class::DBI required for this test
t/cdbi/13-constraint.t .............................. skipped: Class::DBI required for this test
t/cdbi/14-might_have.t .............................. skipped: Class::DBI required for this test
t/cdbi/15-accessor.t ................................ skipped: Class::DBI required for this test
t/cdbi/16-reserved.t ................................ skipped: Class::DBI required for this test
t/cdbi/18-has_a.t ................................... skipped: Class::DBI required for this test
t/cdbi/19-set_sql.t ................................. skipped: Class::DBI required for this test
t/cdbi/21-iterator.t ................................ skipped: Class::DBI required for this test
t/cdbi/22-deflate_order.t ........................... skipped: Class::DBI required for this test
t/cdbi/22-self_referential.t ........................ skipped: Class::DBI required for this test
t/cdbi/23-cascade.t ................................. skipped: Class::DBI required for this test
t/cdbi/24-meta_info.t ............................... skipped: Class::DBI required for this test
t/cdbi/26-mutator.t ................................. skipped: Class::DBI required for this test
t/cdbi/30-pager.t ................................... skipped: Class::DBI required for this test
t/cdbi/68-inflate_has_a.t ........................... skipped: Class::DBI required for this test
t/cdbi/70_implicit_inflate.t ........................ skipped: Test needs DateTime >= 0.55, DateTime::Format::SQLite, DateTime::Format::Strptime >= 1.2
t/cdbi/71_column_object.t ........................... skipped: The tested functionality is only available in Class::DBI >= 3.0.5
t/cdbi/98-failure.t ................................. skipped: Class::DBI required for this test
t/cdbi/abstract/search_where.t ...................... skipped: Class::DBI required for this test
t/cdbi/columns_as_hashes.t .......................... skipped: Class::DBI required for this test
t/cdbi/columns_dont_override_custom_accessors.t ..... skipped: Class::DBI required for this test
t/cdbi/construct.t .................................. skipped: Class::DBI required for this test
t/cdbi/copy.t ....................................... skipped: Class::DBI required for this test
t/cdbi/DeepAbstractSearch/01_search.t ............... skipped: Class::DBI required for this test
t/cdbi/early_column_heisenbug.t ..................... skipped: Class::DBI required for this test
t/cdbi/has_many_loads_foreign_class.t ............... skipped: Class::DBI required for this test
t/cdbi/hasa_without_loading.t ....................... skipped: Class::DBI required for this test
t/cdbi/max_min_value_of.t ........................... skipped: Class::DBI required for this test
t/cdbi/mk_group_accessors.t ......................... skipped: Class::DBI required for this test
t/cdbi/multi_column_set.t ........................... skipped: Class::DBI required for this test
t/cdbi/object_cache.t ............................... skipped: Class::DBI required for this test
t/cdbi/retrieve_from_sql_with_limit.t ............... skipped: Class::DBI required for this test
t/cdbi/set_to_undef.t ............................... skipped: Class::DBI required for this test
t/cdbi/set_vs_DateTime.t ............................ skipped: Class::DBI required for this test
t/cdbi/sweet/08pager.t .............................. skipped: Class::DBI required for this test
t/count/count_rs.t .................................. ok
t/count/distinct.t .................................. ok
t/count/group_by_func.t ............................. ok
t/count/grouped_pager.t ............................. ok
t/count/in_subquery.t ............................... ok
t/count/joined.t .................................... ok
t/count/prefetch.t .................................. ok
t/count/search_related.t ............................ ok
t/delete/cascade_missing.t .......................... ok
t/delete/complex.t .................................. ok
t/delete/m2m.t ...................................... ok
t/delete/related.t .................................. ok
t/discard_changes_in_DESTROY.t ...................... ok
t/inflate/core.t .................................... skipped: Inflation tests need DateTime >= 0.55, DateTime::Format::Strptime >= 1.2
t/inflate/datetime.t ................................ skipped: DT inflation tests need DateTime >= 0.55, DateTime::Format::SQLite, DateTime::Format::Strptime >= 1.2
t/inflate/datetime_determine_parser.t ............... skipped: Test needs DateTime >= 0.55, DateTime::Format::SQLite, DateTime::Format::Strptime >= 1.2
t/inflate/datetime_firebird.t ....................... skipped: Set $ENV{DBICTEST_FIREBIRD_DSN} and/or $ENV{DBICTEST_FIREBIRD_INTERBASE_DSN} and/or $ENV{DBICTEST_FIREBIRD_ODBC_DSN}, _USER and _PASS to run these tests. WARNING: This test drops and creates a table called 'event'
t/inflate/datetime_informix.t ....................... skipped: Test needs DateTime >= 0.55, DateTime::Format::Strptime >= 1.2 and
t/inflate/datetime_missing_deps.t ................... ok
t/inflate/datetime_msaccess.t ....................... skipped: Set $ENV{DBICTEST_MSACCESS_ODBC_DSN} and/or $ENV{DBICTEST_MSACCESS_ADO_DSN} (and optionally _USER and _PASS) to run these tests.
t/inflate/datetime_mssql.t .......................... skipped: Set $ENV{DBICTEST_MSSQL_ODBC_DSN} and/or $ENV{DBICTEST_MSSQL_DSN} and/or $ENV{DBICTEST_MSSQL_ADO_DSN} _USER and _PASS to run this test
t/inflate/datetime_mysql.t .......................... skipped: Inflation tests need DateTime >= 0.55, DateTime::Format::MySQL, DateTime::Format::Strptime >= 1.2
t/inflate/datetime_oracle.t ......................... skipped: Set $ENV{DBICTEST_ORA_DSN}, _USER and _PASS to run this test. Warning: This test drops and creates a table called 'event'
t/inflate/datetime_pg.t ............................. skipped: Test needs DateTime >= 0.55, DateTime::Format::Pg >= 0.16004, DateTime::Format::Strptime >= 1.2
t/inflate/datetime_sqlanywhere.t .................... skipped: Set $ENV{DBICTEST_SQLANYWHERE_DSN} and/or $ENV{DBICTEST_SQLANYWHERE_ODBC_DSN}
t/inflate/datetime_sybase.t ......................... skipped: Test needs DateTime >= 0.55, DateTime::Format::Strptime >= 1.2 and
t/inflate/file_column.t ............................. ok
t/inflate/hri.t ..................................... ok
t/inflate/hri_torture.t ............................. ok
t/inflate/serialize.t ............................... ok
t/multi_create/cd_single.t .......................... ok
t/multi_create/diamond.t ............................ ok
t/multi_create/existing_in_chain.t .................. ok
t/multi_create/find_or_multicreate.t ................ ok
t/multi_create/has_many.t ........................... ok
t/multi_create/in_memory.t .......................... ok
t/multi_create/insert_defaults.t .................... ok
t/multi_create/m2m.t ................................ ok
t/multi_create/multilev_single_PKeqFK.t ............. ok
t/multi_create/reentrance_count.t ................... skipped: Disable test entirely until multicreate is rewritten in terms of subqueries
t/multi_create/standard.t ........................... ok
t/multi_create/torture.t ............................ ok
t/ordered/cascade_delete.t .......................... ok
t/ordered/unordered_movement.t ...................... ok
t/prefetch/attrs_untouched.t ........................ ok
t/prefetch/correlated.t ............................. ok
t/prefetch/count.t .................................. ok
t/prefetch/diamond.t ................................ ok
t/prefetch/double_prefetch.t ........................ ok
t/prefetch/empty_cache.t ............................ ok
t/prefetch/false_colvalues.t ........................ ok
t/prefetch/grouped.t ................................ ok
t/prefetch/incomplete.t ............................. ok
t/prefetch/join_type.t .............................. ok
t/prefetch/lazy_cursor.t ............................ ok
t/prefetch/manual.t ................................. ok
t/prefetch/multiple_hasmany.t ....................... ok
t/prefetch/multiple_hasmany_torture.t ............... ok
t/prefetch/o2m_o2m_order_by_with_limit.t ............ ok
t/prefetch/one_to_many_to_one.t ..................... ok
t/prefetch/refined_search_on_relation.t ............. ok
t/prefetch/restricted_children_set.t ................ ok
t/prefetch/standard.t ............................... ok
t/prefetch/via_search_related.t ..................... ok
t/prefetch/with_limit.t ............................. ok
t/relationship/after_update.t ....................... ok
t/relationship/core.t ............................... ok
t/relationship/custom.t ............................. ok
t/relationship/custom_opaque.t ...................... ok
t/relationship/custom_with_null_in_cond.t ........... ok
t/relationship/doesnt_exist.t ....................... ok
t/relationship/dynamic_foreign_columns.t ............ ok
t/relationship/info.t ............................... ok
t/relationship/malformed_declaration.t .............. ok
t/relationship/proxy.t .............................. ok
t/relationship/set_column_on_fk.t ................... ok
t/relationship/unresolvable.t ....................... ok
t/relationship/update_or_create_multi.t ............. ok
t/relationship/update_or_create_single.t ............ ok
t/resultset/as_query.t .............................. ok
t/resultset/as_subselect_rs.t ....................... ok
t/resultset/bind_attr.t ............................. ok
t/resultset/find_on_subquery_cond.t ................. ok
t/resultset/inflate_result_api.t .................... ok
t/resultset/inflatemap_abuse.t ...................... ok
t/resultset/is_ordered.t ............................ ok
t/resultset/is_paged.t .............................. ok
t/resultset/nulls_only.t ............................ ok
t/resultset/plus_select.t ........................... ok
t/resultset/rowparser_internals.t ................... ok
t/resultset/update_delete.t ......................... ok
t/resultset_class.t ................................. ok
t/resultset_overload.t .............................. ok
t/resultsource/bare_resultclass_exception.t ......... ok
t/resultsource/set_primary_key.t .................... ok
t/row/copy_with_extra_selection.t ................... ok
t/row/filter_column.t ............................... ok
t/row/find_one_has_many.t ........................... ok
t/row/inflate_result.t .............................. ok
t/row/pkless.t ...................................... ok
t/row/set_extra_column.t ............................ ok
t/schema/anon.t ..................................... ok
t/schema/clone.t .................................... ok
t/search/deprecated_attributes.t .................... ok
t/search/distinct.t ................................. ok
t/search/empty_attrs.t .............................. ok
t/search/preserve_original_rs.t ..................... ok
t/search/reentrancy.t ............................... ok
t/search/related_has_many.t ......................... ok
t/search/related_strip_prefetch.t ................... ok
t/search/select_chains.t ............................ ok
t/search/select_chains_unbalanced.t ................. ok
t/search/stack_cond.t ............................... ok
t/search/subquery.t ................................. ok
t/search/void.t ..................................... ok
t/sqlmaker/bind_transport.t ......................... ok
t/sqlmaker/core.t ................................... ok
t/sqlmaker/core_quoted.t ............................ ok
t/sqlmaker/dbihacks_internals.t ..................... ok
t/sqlmaker/hierarchical/oracle.t .................... skipped: Test needs Math::Base36 >= 0.07
t/sqlmaker/legacy_joins.t ........................... ok
t/sqlmaker/limit_dialects/basic.t ................... ok
t/sqlmaker/limit_dialects/custom.t .................. ok
t/sqlmaker/limit_dialects/fetch_first.t ............. ok
t/sqlmaker/limit_dialects/first_skip.t .............. ok
t/sqlmaker/limit_dialects/generic_subq.t ............ ok
t/sqlmaker/limit_dialects/mssql_torture.t ........... ok
t/sqlmaker/limit_dialects/rno.t ..................... ok
t/sqlmaker/limit_dialects/rownum.t .................. ok
t/sqlmaker/limit_dialects/skip_first.t .............. ok
t/sqlmaker/limit_dialects/toplimit.t ................ ok
t/sqlmaker/limit_dialects/torture.t ................. ok
t/sqlmaker/literal_with_bind.t ...................... ok
t/sqlmaker/msaccess.t ............................... ok
t/sqlmaker/mysql.t .................................. ok
t/sqlmaker/nest_deprec.t ............................ ok
t/sqlmaker/oracle.t ................................. skipped: Test needs Math::Base36 >= 0.07
t/sqlmaker/oraclejoin.t ............................. skipped: Test needs Math::Base36 >= 0.07
t/sqlmaker/order_by_bindtransport.t ................. ok
t/sqlmaker/order_by_func.t .......................... ok
t/sqlmaker/pg.t ..................................... ok
t/sqlmaker/quotes.t ................................. ok
t/sqlmaker/sqlite.t ................................. ok
t/storage/base.t .................................... ok
t/storage/cursor.t .................................. ok
t/storage/dbh_do.t .................................. ok
t/storage/dbi_coderef.t ............................. ok
t/storage/dbi_env.t ................................. ok
t/storage/dbic_pretty.t ............................. skipped: Test needs JSON::Any >= 1.23
t/storage/debug.t ................................... ok
t/storage/deploy.t .................................. skipped: Test needs SQL::Translator >= 0.11018 (see DBIx::Class::Optional::Dependencies for details)
t/storage/deprecated_exception_source_bind_attrs.t .. ok
t/storage/disable_sth_caching.t ..................... ok
t/storage/error.t ................................... ok
t/storage/exception.t ............................... ok
t/storage/global_destruction.t ...................... ok
t/storage/nobindvars.t .............................. ok
t/storage/on_connect_call.t ......................... ok
t/storage/on_connect_do.t ........................... ok
t/storage/ping_count.t .............................. ok
t/storage/prefer_stringification.t .................. ok
t/storage/quote_names.t ............................. ok
t/storage/reconnect.t ............................... ok
t/storage/replicated.t .............................. skipped: Test needs Moose >= 0.98, MooseX::Types >= 0.21, MooseX::Types::LoadableClass >= 0.011, Test::Moose
t/storage/savepoints.t .............................. ok
t/storage/stats.t ................................... ok
t/storage/txn.t ..................................... ok
t/storage/txn_scope_guard.t ......................... ok
t/update/all.t ...................................... ok
t/update/ident_cond.t ............................... ok
t/update/type_aware.t ............................... ok
# 
# 
# 
# 208 contributors made this library what it is today
# 
# 
# Distinguished patrons:
#   * ( 2014 ~ 2015 ) Henry Van Styn, creator of http://p3rl.org/RapidApp
# 
# 
t/zzzzzzz_authors.t ................................. ok
t/zzzzzzz_perl_perf_bug.t ........................... skipped: Skipping as system appears to be a smoker
t/zzzzzzz_sqlite_deadlock.t ......................... ok
xt/authors.t ........................................ ok
xt/dbictest_unlink_guard.t .......................... ok
xt/footers.t ........................................ ok
xt/old_envvars.t .................................... ok
xt/optional_deps.t .................................. ok
xt/pod.t ............................................ skipped: Test needs: Test::Pod >= 1.42
xt/podcoverage.t .................................... skipped: Test needs: Pod::Coverage >= 0.20, Test::Pod::Coverage >= 1.08
xt/quote_sub.t ...................................... ok
No such signal: SIGSYS at C:/Strawberry258/perl/lib/Test2/API/Instance.pm line 312.
No such signal: SIGSYS at C:/Strawberry258/perl/lib/Test2/API/Instance.pm line 312.
xt/standalone_testschema_resultclasses.t ............ ok
xt/strictures.t ..................................... skipped: Test needs: Test::Strict >= 0.20
xt/whitespace.t ..................................... skipped: Test needs: Test::EOL >= 1.0, Test::NoTabs >= 0.9
All tests successful.
Files=319, Tests=40872, 465 wallclock secs ( 3.86 usr +  5.56 sys =  9.41 CPU)
Result: PASS

------------------------------
PREREQUISITES
------------------------------

Prerequisite modules loaded:

requires:

    Module                   Need     Have    
    ------------------------ -------- --------
    Class::Accessor::Grouped 0.10012  0.10012 
    Class::C3::Componentised 1.0009   1.001000
    Class::Inspector         1.24     1.31    
    Config::Any              0.20     0.27    
    Context::Preserve        0.01     0.01    
    Data::Dumper::Concise    2.020    2.022   
    Data::Page               2.00     2.02    
    DBD::SQLite              1.29     1.54    
    DBI                      1.57     1.636   
    Devel::GlobalDestruction 0.09     0.14    
    File::Temp               0.22     0.2304  
    Hash::Merge              0.12     0.200   
    List::Util               1.16     1.47    
    Module::Find             0.07     0.13    
    Moo                      2.000    2.003000
    MRO::Compat              0.12     0.12    
    namespace::clean         0.24     0.27    
    Package::Stash           0.28     0.37    
    Path::Class              0.18     0.37    
    perl                     5.008001 5.025008
    Scope::Guard             0.03     0.21    
    SQL::Abstract            1.81     1.81    
    Sub::Name                0.04     0.21    
    Test::Deep               0.101    1.124   
    Test::Exception          0.31     0.43    
    Test::More               0.94     1.302073
    Test::Warn               0.21     0.32    
    Text::Balanced           2.00     2.03    
    Try::Tiny                0.07     0.27    

build_requires:

    Module                   Need     Have    
    ------------------------ -------- --------
    DBD::SQLite              1.29     1.54    
    ExtUtils::MakeMaker      6.59     7.24    
    File::Temp               0.22     0.2304  
    Package::Stash           0.28     0.37    
    Test::Deep               0.101    1.124   
    Test::Exception          0.31     0.43    
    Test::More               0.94     1.302073
    Test::Warn               0.21     0.32    

configure_requires:

    Module                   Need     Have    
    ------------------------ -------- --------
    ExtUtils::MakeMaker      6.59     7.24    


------------------------------
ENVIRONMENT AND OTHER CONTEXT
------------------------------

Environment variables:

    AUTOMATED_TESTING = 1
    COMSPEC = C:\WINDOWS\system32\cmd.exe
    NONINTERACTIVE_TESTING = 1
    NUMBER_OF_PROCESSORS = 1
    PATH = C:\Program Files\Far Manager\;C:\WINDOWS\system32;C:\WINDOWS;C:\WINDOWS\System32\Wbem;C:\Git\cmd;C:\Strawberry258\c\bin;C:\Strawberry258\perl\site\bin;C:\Strawberry258\perl\bin
    PERL5LIB = 
    PERL5OPT = 
    PERL5_CPANPLUS_IS_RUNNING = 5428
    PERL5_CPAN_IS_RUNNING = 5428
    PERL5_CPAN_IS_RUNNING_IN_RECURSION = 5708,5428
    PERL_CR_SMOKER_CURRENT = DBIx::Class
    PERL_EXTUTILS_AUTOINSTALL = --defaultdeps
    PERL_HASH_SEED = 0x11111111
    PERL_MM_USE_DEFAULT = 1
    PROCESSOR_IDENTIFIER = x86 Family 16 Model 5 Stepping 3, AuthenticAMD
    TEMP = C:\DOCUME~1\a\LOCALS~1\Temp

Perl special variables (and OS-specific diagnostics, for MSWin32):

    $^X = C:\Strawberry258\perl\bin\perl.exe
    $UID/$EUID = 0 / 0
    $GID = 0
    $EGID = 0
    Win32::GetOSName = WinXP/.Net
    Win32::GetOSVersion = Service Pack 3, 5, 1, 2600, 2, 3, 0, 256, 1
    Win32::FsType = NTFS
    Win32::IsAdminUser = 1

Perl module toolchain versions installed:

    Module              Have      
    ------------------- ----------
    CPAN                2.14_01   
    CPAN::Meta          2.150010  
    Cwd                 3.66      
    ExtUtils::CBuilder  0.280225  
    ExtUtils::Command   7.24      
    ExtUtils::Install   2.04      
    ExtUtils::MakeMaker 7.24      
    ExtUtils::Manifest  1.70      
    ExtUtils::ParseXS   3.33      
    File::Spec          3.66      
    JSON                2.90      
    JSON::PP            2.27400_02
    Module::Build       0.4220    
    Module::Signature   n/a       
    Parse::CPAN::Meta   2.150010  
    Test::Harness       3.36_01   
    Test::More          1.302073  
    YAML                1.21      
    YAML::Syck          n/a       
    version             0.9917    


--

Summary of my perl5 (revision 5 version 25 subversion 8) configuration:
   
  Platform:
    osname=MSWin32
    osvers=4.0
    archname=MSWin32-x86-multi-thread
    uname='Win32 strawberry-perl 5.25.8.1-beta1 #1 Thu Dec 29 20:16:24 2016 i386'
    config_args='undef'
    hint=recommended
    useposix=true
    d_sigaction=undef
    useithreads=define
    usemultiplicity=define
    use64bitint=undef
    use64bitall=undef
    uselongdouble=undef
    usemymalloc=n
    bincompat5005=undef
  Compiler:
    cc='gcc'
    ccflags =' -s -O2 -DWIN32  -DPERL_TEXTMODE_SCRIPTS -DPERL_IMPLICIT_CONTEXT -DPERL_IMPLICIT_SYS -fwrapv -fno-strict-aliasing -mms-bitfields'
    optimize='-s -O2'
    cppflags='-DWIN32'
    ccversion=''
    gccversion='4.9.2'
    gccosandvers=''
    intsize=4
    longsize=4
    ptrsize=4
    doublesize=8
    byteorder=1234
    doublekind=3
    d_longlong=define
    longlongsize=8
    d_longdbl=define
    longdblsize=12
    longdblkind=3
    ivtype='long'
    ivsize=4
    nvtype='double'
    nvsize=8
    Off_t='long long'
    lseeksize=8
    alignbytes=8
    prototype=define
  Linker and Libraries:
    ld='g++'
    ldflags ='-s -L"C:\STRAWB~1\perl\lib\CORE" -L"C:\STRAWB~1\c\lib"'
    libpth=C:\STRAWB~1\c\lib C:\STRAWB~1\c\i686-w64-mingw32\lib C:\STRAWB~1\c\lib\gcc\i686-w64-mingw32\4.9.2
    libs=-lmoldname -lkernel32 -luser32 -lgdi32 -lwinspool -lcomdlg32 -ladvapi32 -lshell32 -lole32 -loleaut32 -lnetapi32 -luuid -lws2_32 -lmpr -lwinmm -lversion -lodbc32 -lodbccp32 -lcomctl32
    perllibs=-lmoldname -lkernel32 -luser32 -lgdi32 -lwinspool -lcomdlg32 -ladvapi32 -lshell32 -lole32 -loleaut32 -lnetapi32 -luuid -lws2_32 -lmpr -lwinmm -lversion -lodbc32 -lodbccp32 -lcomctl32
    libc=
    so=dll
    useshrplib=true
    libperl=libperl525.a
    gnulibc_version=''
  Dynamic Linking:
    dlsrc=dl_win32.xs
    dlext=xs.dll
    d_dlsymun=undef
    ccdlflags=' '
    cccdlflags=' '
    lddlflags='-mdll -s -L"C:\STRAWB~1\perl\lib\CORE" -L"C:\STRAWB~1\c\lib"'


Characteristics of this binary (from libperl): 
  Compile-time options:
    HAS_TIMES
    HAVE_INTERP_INTERN
    MULTIPLICITY
    PERLIO_LAYERS
    PERL_COPY_ON_WRITE
    PERL_DONT_CREATE_GVSV
    PERL_HASH_FUNC_ONE_AT_A_TIME_HARD
    PERL_IMPLICIT_CONTEXT
    PERL_IMPLICIT_SYS
    PERL_MALLOC_WRAP
    PERL_OP_PARENT
    PERL_PRESERVE_IVUV
    USE_ITHREADS
    USE_LARGE_FILES
    USE_LOCALE
    USE_LOCALE_COLLATE
    USE_LOCALE_CTYPE
    USE_LOCALE_NUMERIC
    USE_LOCALE_TIME
    USE_PERLIO
    USE_PERL_ATOF
  Built under MSWin32
  Compiled at Dec 29 2016 20:25:17
  %ENV:
    PERL5_CPANPLUS_IS_RUNNING="5428"
    PERL5_CPAN_IS_RUNNING="5428"
    PERL5_CPAN_IS_RUNNING_IN_RECURSION="5708,5428"
    PERL_CR_SMOKER_CURRENT="DBIx::Class"
    PERL_EXTUTILS_AUTOINSTALL="--defaultdeps"
    PERL_HASH_SEED="0x11111111"
    PERL_MM_USE_DEFAULT="1"
  @INC:
    C:/Strawberry258/perl/site/lib
    C:/Strawberry258/perl/vendor/lib
    C:/Strawberry258/perl/lib
    .