Software-License v0.103014 Perl 5 v5.30.0 aarch64-linux

Status
Pass
From
Dist
Software-License v0.103014
Platform
Perl 5 v5.30.0 aarch64-linux
Date
2019-08-23 19:22:29
ID
58eac59c-c5db-11e9-ac47-b39d42f1a2c8
This distribution has been tested as part of the CPAN Testers
project, supporting the Perl programming language.  See
http://wiki.cpantesters.org/ for more information or email
questions to cpan-testers-discuss@perl.org


--
Dear Leon Timmermans,

This is a computer-generated report for Software-License-0.103014
on perl 5.30.0, created by CPAN-Reporter-1.2018.

Thank you for uploading your work to CPAN.  Congratulations!
All tests were successful.

Sections of this report:

    * Tester comments
    * Program output
    * Prerequisites
    * Environment and other context

------------------------------
TESTER COMMENTS
------------------------------

Additional comments from tester:

none provided

------------------------------
PROGRAM OUTPUT
------------------------------

Output from 'make test':

PERL_DL_NONLAZY=1 "/usr/local/bin/perl" "-MExtUtils::Command::MM" "-MTest::Harness" "-e" "undef *Test::Harness::Switches; test_harness(0, 'blib/lib', 'blib/arch')" t/*.t
# 
# Versions for all modules listed in MYMETA.json (including optional ones):
# 
# === Configure Requires ===
# 
#     Module              Want Have
#     ------------------- ---- ----
#     ExtUtils::MakeMaker  any 7.36
# 
# === Configure Suggests ===
# 
#     Module      Want Have
#     -------- ------- ----
#     JSON::PP 2.27300 4.04
# 
# === Build Requires ===
# 
#     Module              Want Have
#     ------------------- ---- ----
#     ExtUtils::MakeMaker  any 7.36
# 
# === Test Requires ===
# 
#     Module              Want     Have
#     ------------------- ---- --------
#     ExtUtils::MakeMaker  any     7.36
#     File::Spec           any     3.78
#     Test::More          0.96 1.302162
#     Try::Tiny            any     0.30
# 
# === Test Recommends ===
# 
#     Module         Want     Have
#     ---------- -------- --------
#     CPAN::Meta 2.120900 2.150010
# 
# === Runtime Requires ===
# 
#     Module         Want     Have
#     -------------- ---- --------
#     Carp            any     1.50
#     Data::Section   any 0.200007
#     File::Spec      any     3.78
#     IO::Dir         any     1.40
#     Module::Load    any     0.34
#     Text::Template  any     1.56
#     parent          any    0.237
#     strict          any     1.11
#     utf8            any     1.22
#     warnings        any     1.44
# 
t/00-report-prereqs.t ....... ok
t/basic.t ................... ok
t/bsd-url.t ................. ok
t/creative_commons.t ........ skipped: requires Software::License::CCpack to test this
t/custom.t .................. ok
t/from-spdx-expression.t .... ok
t/guess_license_from_pod.t .. ok
t/guess_meta_license.t ...... ok
t/meta-names.t .............. ok
t/round-trip.t .............. ok
t/short_name.t .............. ok
t/spdx-expression.t ......... ok
t/two-dots.t ................ ok
t/utils.t ................... ok
All tests successful.
Files=14, Tests=219, 67 wallclock secs ( 0.38 usr  0.07 sys +  6.76 cusr  0.69 csys =  7.90 CPU)
Result: PASS

------------------------------
PREREQUISITES
------------------------------

Prerequisite modules loaded:

requires:

    Module              Need     Have    
    ------------------- -------- --------
    Carp                0        1.50    
    Data::Section       0        0.200007
    File::Spec          0        3.78    
    IO::Dir             0        1.40    
    Module::Load        0        0.34    
    parent              0        0.237   
    perl                5.006    5.030000
    strict              0        1.11    
    Text::Template      0        1.56    
    utf8                0        1.22    
    warnings            0        1.44    

build_requires:

    Module              Need     Have    
    ------------------- -------- --------
    ExtUtils::MakeMaker 0        7.36    
    File::Spec          0        3.78    
    Test::More          0.96     1.302162
    Try::Tiny           0        0.30    

configure_requires:

    Module              Need     Have    
    ------------------- -------- --------
    ExtUtils::MakeMaker 0        7.36    

opt_build_requires:

    Module              Need     Have    
    ------------------- -------- --------
    CPAN::Meta          2.120900 2.150010


------------------------------
ENVIRONMENT AND OTHER CONTEXT
------------------------------

Environment variables:

    LANG = C
    NONINTERACTIVE_TESTING = 1
    PATH = /usr/local/sbin:/usr/local/bin:/usr/sbin:/usr/bin:/sbin:/bin
    PERL5LIB = 
    PERL5OPT = 
    PERL5_CPANPLUS_IS_RUNNING = 27326
    PERL5_CPAN_IS_RUNNING = 27326
    PERL_MM_USE_DEFAULT = 1
    PERL_USE_UNSAFE_INC = 1
    SHELL = /bin/bash
    TERM = screen.xterm-256color

Perl special variables (and OS-specific diagnostics, for MSWin32):

    $^X = /usr/local/bin/perl
    $UID/$EUID = 0 / 0
    $GID = 0 0
    $EGID = 0 0

Perl module toolchain versions installed:

    Module              Have    
    ------------------- --------
    CPAN                2.27    
    CPAN::Meta          2.150010
    Cwd                 3.78    
    ExtUtils::CBuilder  0.280231
    ExtUtils::Command   7.36    
    ExtUtils::Install   2.14    
    ExtUtils::MakeMaker 7.36    
    ExtUtils::Manifest  1.72    
    ExtUtils::ParseXS   3.40    
    File::Spec          3.78    
    JSON                4.02    
    JSON::PP            4.04    
    Module::Build       0.4229  
    Module::Signature   n/a     
    Parse::CPAN::Meta   2.150010
    Test::Harness       3.42    
    Test::More          1.302162
    YAML                n/a     
    YAML::Syck          n/a     
    version             0.9924  


--

Summary of my perl5 (revision 5 version 30 subversion 0) configuration:
   
  Platform:
    osname=linux
    osvers=4.4.15+
    archname=aarch64-linux
    uname='linux localhost 4.4.15+ #1 smp preempt sat jan 27 13:28:19 cst 2018 aarch64 gnulinux '
    config_args='-des -Dinc_version_list=none'
    hint=recommended
    useposix=true
    d_sigaction=define
    useithreads=undef
    usemultiplicity=undef
    use64bitint=define
    use64bitall=define
    uselongdouble=undef
    usemymalloc=n
    default_inc_excludes_dot=define
    bincompat5005=undef
  Compiler:
    cc='cc'
    ccflags ='-fwrapv -fno-strict-aliasing -pipe -fstack-protector-strong -I/usr/local/include -D_LARGEFILE_SOURCE -D_FILE_OFFSET_BITS=64 -D_FORTIFY_SOURCE=2'
    optimize='-O2'
    cppflags='-fwrapv -fno-strict-aliasing -pipe -fstack-protector-strong -I/usr/local/include'
    ccversion=''
    gccversion='8.3.0'
    gccosandvers=''
    intsize=4
    longsize=8
    ptrsize=8
    doublesize=8
    byteorder=12345678
    doublekind=3
    d_longlong=define
    longlongsize=8
    d_longdbl=define
    longdblsize=16
    longdblkind=1
    ivtype='long'
    ivsize=8
    nvtype='double'
    nvsize=8
    Off_t='off_t'
    lseeksize=8
    alignbytes=8
    prototype=define
  Linker and Libraries:
    ld='cc'
    ldflags =' -fstack-protector-strong -L/usr/local/lib'
    libpth=/usr/local/lib /usr/lib/gcc/aarch64-linux-gnu/8/include-fixed /usr/include/aarch64-linux-gnu /usr/lib /lib/aarch64-linux-gnu /lib/../lib /usr/lib/aarch64-linux-gnu /usr/lib/../lib /lib
    libs=-lpthread -lnsl -ldl -lm -lcrypt -lutil -lc
    perllibs=-lpthread -lnsl -ldl -lm -lcrypt -lutil -lc
    libc=libc-2.28.so
    so=so
    useshrplib=false
    libperl=libperl.a
    gnulibc_version='2.28'
  Dynamic Linking:
    dlsrc=dl_dlopen.xs
    dlext=so
    d_dlsymun=undef
    ccdlflags='-Wl,-E'
    cccdlflags='-fPIC'
    lddlflags='-shared -O2 -L/usr/local/lib -fstack-protector-strong'


Characteristics of this binary (from libperl): 
  Compile-time options:
    HAS_TIMES
    PERLIO_LAYERS
    PERL_COPY_ON_WRITE
    PERL_DONT_CREATE_GVSV
    PERL_MALLOC_WRAP
    PERL_OP_PARENT
    PERL_PRESERVE_IVUV
    USE_64_BIT_ALL
    USE_64_BIT_INT
    USE_LARGE_FILES
    USE_LOCALE
    USE_LOCALE_COLLATE
    USE_LOCALE_CTYPE
    USE_LOCALE_NUMERIC
    USE_LOCALE_TIME
    USE_PERLIO
    USE_PERL_ATOF
  Built under linux
  Compiled at Aug 22 2019 11:11:54
  %ENV:
    PERL5LIB=""
    PERL5OPT=""
    PERL5_CPANPLUS_IS_RUNNING="27326"
    PERL5_CPAN_IS_RUNNING="27326"
    PERL_MM_USE_DEFAULT="1"
    PERL_USE_UNSAFE_INC="1"
  @INC:
    /usr/local/lib/perl5/site_perl/5.30.0/aarch64-linux
    /usr/local/lib/perl5/site_perl/5.30.0
    /usr/local/lib/perl5/5.30.0/aarch64-linux
    /usr/local/lib/perl5/5.30.0
    .