PLUTO v0.30 Perl 5 v5.36.0 x86_64-linux

Status
Pass
From
Nedzad Hrnjica (NHRNJICA)
Dist
PLUTO v0.30
Platform
Perl 5 v5.36.0 x86_64-linux
Date
2022-07-24 21:41:16
ID
58f18948-0b99-11ed-95e6-b5e221f29030
This distribution has been tested as part of the CPAN Testers
project, supporting the Perl programming language.  See
http://wiki.cpantesters.org/ for more information or email
questions to cpan-testers-discuss@perl.org


--
Dear EKAWAS,

This is a computer-generated report for PLUTO-0.30
on perl 5.36.0, created by App::cpanminus::reporter 0.17 (1.7046).

Thank you for uploading your work to CPAN.  Congratulations!
All tests were successful.

Sections of this report:

    * Tester comments
    * Program output
    * Prerequisites
    * Environment and other context

------------------------------
TESTER COMMENTS
------------------------------

Additional comments from tester:

none provided

------------------------------
PROGRAM OUTPUT
------------------------------

Output from '':

Building and testing PLUTO-0.30
cp lib/ODO/Jena/Vocabulary.pm blib/lib/ODO/Jena/Vocabulary.pm
cp lib/ODO/Jena/DB/Settings.n3 blib/lib/ODO/Jena/DB/Settings.n3
cp lib/ODO/Ontology/OWL/Lite.pm blib/lib/ODO/Ontology/OWL/Lite.pm
cp lib/ODO/Jena/Graph.pm blib/lib/ODO/Jena/Graph.pm
cp lib/ODO/Ontology/OWL/Lite/Restriction.pm blib/lib/ODO/Ontology/OWL/Lite/Restriction.pm
cp lib/ODO/Jena/Graph/Settings.pm blib/lib/ODO/Jena/Graph/Settings.pm
cp lib/ODO/Ontology/OWL/Lite/Templates/OWLLitePropertyInitializer.tt blib/lib/ODO/Ontology/OWL/Lite/Templates/OWLLitePropertyInitializer.tt
cp lib/ODO/Jena/etc/.keep blib/lib/ODO/Jena/etc/.keep
cp lib/ODO/DB.pm blib/lib/ODO/DB.pm
cp lib/ODO/Graph.pm blib/lib/ODO/Graph.pm
cp lib/ODO/Ontology.pm blib/lib/ODO/Ontology.pm
cp lib/ODO/Exception.pm blib/lib/ODO/Exception.pm
cp lib/ODO/Jena/Graph/Storage.pm blib/lib/ODO/Jena/Graph/Storage.pm
cp lib/ODO/Graph/Storage.pm blib/lib/ODO/Graph/Storage.pm
cp lib/ODO/Jena/Graph/System.pm blib/lib/ODO/Jena/Graph/System.pm
cp lib/ODO/Jena/Graph/Settings.n3 blib/lib/ODO/Jena/Graph/Settings.n3
cp lib/ODO/Node.pm blib/lib/ODO/Node.pm
cp lib/ODO/Ontology/OWL/Lite/ObjectWriter.pm blib/lib/ODO/Ontology/OWL/Lite/ObjectWriter.pm
cp lib/ODO.pm blib/lib/ODO.pm
cp lib/ODO/Graph/Events.pm blib/lib/ODO/Graph/Events.pm
cp lib/ODO/Ontology/OWL/Lite/Properties.pm blib/lib/ODO/Ontology/OWL/Lite/Properties.pm
cp lib/ODO/Graph/Simple.pm blib/lib/ODO/Graph/Simple.pm
cp lib/ODO/Jena/DB/Settings.pm blib/lib/ODO/Jena/DB/Settings.pm
cp lib/ODO/Ontology/OWL/Lite/Templates/OWLLiteConstructor.tt blib/lib/ODO/Ontology/OWL/Lite/Templates/OWLLiteConstructor.tt
cp lib/ODO/Ontology/OWL/Lite/Fragments.pm blib/lib/ODO/Ontology/OWL/Lite/Fragments.pm
cp lib/ODO/Ontology/OWL/Lite/Classes.pm blib/lib/ODO/Ontology/OWL/Lite/Classes.pm
cp lib/ODO/Aspect.pm blib/lib/ODO/Aspect.pm
cp lib/ODO/Jena/Node.pm blib/lib/ODO/Jena/Node.pm
cp lib/ODO/Jena/SQL.pm blib/lib/ODO/Jena/SQL.pm
cp lib/ODO/Graph/Storage/Memory.pm blib/lib/ODO/Graph/Storage/Memory.pm
cp lib/ODO/Jena/Node/Parser.pm blib/lib/ODO/Jena/Node/Parser.pm
cp lib/ODO/Jena.pm blib/lib/ODO/Jena.pm
cp lib/ODO/Graph/Storage/Database.pm blib/lib/ODO/Graph/Storage/Database.pm
cp lib/ODO/Jena/Query/Result.pm blib/lib/ODO/Jena/Query/Result.pm
cp lib/ODO/Ontology/OWL/Lite/Templates/OWLLitePropertyAccessorMethod.tt blib/lib/ODO/Ontology/OWL/Lite/Templates/OWLLitePropertyAccessorMethod.tt
cp lib/ODO/Ontology/OWL/Fragments.pm blib/lib/ODO/Ontology/OWL/Fragments.pm
cp lib/ODO/Ontology/OWL/Classes.pm blib/lib/ODO/Ontology/OWL/Classes.pm
cp lib/ODO/Ontology/OWL/Vocabulary.pm blib/lib/ODO/Ontology/OWL/Vocabulary.pm
cp lib/ODO/Ontology/ObjectWriter/Package.pm blib/lib/ODO/Ontology/ObjectWriter/Package.pm
cp lib/ODO/Parser/XML.pm blib/lib/ODO/Parser/XML.pm
cp lib/ODO/Ontology/PerlEntity.pm blib/lib/ODO/Ontology/PerlEntity.pm
cp lib/ODO/Ontology/RDFS/List/Iterator.pm blib/lib/ODO/Ontology/RDFS/List/Iterator.pm
cp lib/ODO/Query/Result.pm blib/lib/ODO/Query/Result.pm
cp lib/ODO/Ontology/Vocabulary.pm blib/lib/ODO/Ontology/Vocabulary.pm
cp lib/ODO/Ontology/ObjectWriter.pm blib/lib/ODO/Ontology/ObjectWriter.pm
cp lib/ODO/Query/Handler.pm blib/lib/ODO/Query/Handler.pm
cp lib/ODO/Ontology/RDFS.pm blib/lib/ODO/Ontology/RDFS.pm
cp lib/ODO/Parser/XML/Slow.pm blib/lib/ODO/Parser/XML/Slow.pm
cp lib/ODO/Parser/NTriples.pm blib/lib/ODO/Parser/NTriples.pm
cp lib/ODO/Query/Constraint.pm blib/lib/ODO/Query/Constraint.pm
cp lib/ODO/Ontology/RDFS/Templates/Constructor.tt blib/lib/ODO/Ontology/RDFS/Templates/Constructor.tt
cp lib/ODO/Ontology/OWL/Lite/Thing.pm blib/lib/ODO/Ontology/OWL/Lite/Thing.pm
cp lib/ODO/Parser/N3.pm blib/lib/ODO/Parser/N3.pm
cp lib/ODO/Parser/XML/RDFAttributes.pm blib/lib/ODO/Parser/XML/RDFAttributes.pm
cp lib/ODO/Ontology/RDFS/Templates/PropertyInitializer.tt blib/lib/ODO/Ontology/RDFS/Templates/PropertyInitializer.tt
cp lib/ODO/Parser.pm blib/lib/ODO/Parser.pm
cp lib/ODO/Ontology/RDFS/ObjectWriter.pm blib/lib/ODO/Ontology/RDFS/ObjectWriter.pm
cp lib/ODO/Query/RDQL.pm blib/lib/ODO/Query/RDQL.pm
cp lib/ODO/Query/RDQL/DefaultHandler.pm blib/lib/ODO/Query/RDQL/DefaultHandler.pm
cp lib/ODO/Ontology/Templates/PropertyAccessorMethod.tt blib/lib/ODO/Ontology/Templates/PropertyAccessorMethod.tt
cp lib/ODO/Query/Simple.pm blib/lib/ODO/Query/Simple.pm
cp lib/ODO/Query/SPARQL/Parser.pm blib/lib/ODO/Query/SPARQL/Parser.pm
cp lib/ODO/Ontology/RDFS/Vocabulary.pm blib/lib/ODO/Ontology/RDFS/Vocabulary.pm
cp lib/ODO/Ontology/Templates/PropertyContainer.tt blib/lib/ODO/Ontology/Templates/PropertyContainer.tt
cp lib/ODO/Ontology/ObjectWriter/AccessorMethod.pm blib/lib/ODO/Ontology/ObjectWriter/AccessorMethod.pm
cp lib/ODO/Ontology/RDFS/BaseClass.pm blib/lib/ODO/Ontology/RDFS/BaseClass.pm
cp lib/ODO/Query/RDQL/Parser.pm blib/lib/ODO/Query/RDQL/Parser.pm
cp lib/ODO/Ontology/Templates/Package.tt blib/lib/ODO/Ontology/Templates/Package.tt
cp lib/ODO/Ontology/RDFS/PerlEntity.pm blib/lib/ODO/Ontology/RDFS/PerlEntity.pm
cp lib/ODO/Ontology/ObjectWriter/PropertiesContainer.pm blib/lib/ODO/Ontology/ObjectWriter/PropertiesContainer.pm
cp lib/ODO/RDFS/ContainerMembershipProperty.pm blib/lib/ODO/RDFS/ContainerMembershipProperty.pm
cp lib/ODO/RDFS/Container/PropertiesContainer.pm blib/lib/ODO/RDFS/Container/PropertiesContainer.pm
cp lib/ODO/RDFS/Properties/isDefinedBy.pm blib/lib/ODO/RDFS/Properties/isDefinedBy.pm
cp lib/ODO/RDFS/Properties/label.pm blib/lib/ODO/RDFS/Properties/label.pm
cp lib/ODO/RDFS/ContainerMembershipProperty/PropertiesContainer.pm blib/lib/ODO/RDFS/ContainerMembershipProperty/PropertiesContainer.pm
cp lib/ODO/RDFS/Bag/PropertiesContainer.pm blib/lib/ODO/RDFS/Bag/PropertiesContainer.pm
cp lib/ODO/RDFS/Literal.pm blib/lib/ODO/RDFS/Literal.pm
cp lib/ODO/RDFS/Properties/first.pm blib/lib/ODO/RDFS/Properties/first.pm
cp lib/ODO/RDFS/Properties/comment/PropertiesContainer.pm blib/lib/ODO/RDFS/Properties/comment/PropertiesContainer.pm
cp lib/ODO/RDFS/Bag.pm blib/lib/ODO/RDFS/Bag.pm
cp lib/ODO/RDFS/Class.pm blib/lib/ODO/RDFS/Class.pm
cp lib/ODO/RDFS/List/PropertiesContainer.pm blib/lib/ODO/RDFS/List/PropertiesContainer.pm
cp lib/ODO/Query/Simple/Result.pm blib/lib/ODO/Query/Simple/Result.pm
cp lib/ODO/RDFS/Properties/domain/PropertiesContainer.pm blib/lib/ODO/RDFS/Properties/domain/PropertiesContainer.pm
cp lib/ODO/RDFS/Datatype/PropertiesContainer.pm blib/lib/ODO/RDFS/Datatype/PropertiesContainer.pm
cp lib/ODO/RDFS/Container.pm blib/lib/ODO/RDFS/Container.pm
cp lib/ODO/RDFS/Properties/isDefinedBy/PropertiesContainer.pm blib/lib/ODO/RDFS/Properties/isDefinedBy/PropertiesContainer.pm
cp lib/ODO/RDFS/Datatype.pm blib/lib/ODO/RDFS/Datatype.pm
cp lib/ODO/Query/Simple/Mapper.pm blib/lib/ODO/Query/Simple/Mapper.pm
cp lib/ODO/RDFS/Alt.pm blib/lib/ODO/RDFS/Alt.pm
cp lib/ODO/RDFS/Literal/PropertiesContainer.pm blib/lib/ODO/RDFS/Literal/PropertiesContainer.pm
cp lib/ODO/RDFS/Properties/first/PropertiesContainer.pm blib/lib/ODO/RDFS/Properties/first/PropertiesContainer.pm
cp lib/ODO/RDFS/Properties/label/PropertiesContainer.pm blib/lib/ODO/RDFS/Properties/label/PropertiesContainer.pm
cp lib/ODO/RDFS/Properties/comment.pm blib/lib/ODO/RDFS/Properties/comment.pm
cp lib/ODO/RDFS/List.pm blib/lib/ODO/RDFS/List.pm
cp lib/ODO/Query/VariablePatternMap.pm blib/lib/ODO/Query/VariablePatternMap.pm
cp lib/ODO/Query/Simple/Parser.pm blib/lib/ODO/Query/Simple/Parser.pm
cp lib/ODO/RDFS/Alt/PropertiesContainer.pm blib/lib/ODO/RDFS/Alt/PropertiesContainer.pm
cp lib/ODO/RDFS/Class/PropertiesContainer.pm blib/lib/ODO/RDFS/Class/PropertiesContainer.pm
cp lib/ODO/RDFS/Properties/domain.pm blib/lib/ODO/RDFS/Properties/domain.pm
cp lib/ODO/RDFS/Properties/object/PropertiesContainer.pm blib/lib/ODO/RDFS/Properties/object/PropertiesContainer.pm
cp lib/ODO/RDFS/Properties/subject.pm blib/lib/ODO/RDFS/Properties/subject.pm
cp lib/ODO/RDFS/Properties/subPropertyOf.pm blib/lib/ODO/RDFS/Properties/subPropertyOf.pm
cp lib/ODO/RDFS/Properties/rest/PropertiesContainer.pm blib/lib/ODO/RDFS/Properties/rest/PropertiesContainer.pm
cp lib/ODO/RDFS/Properties/predicate.pm blib/lib/ODO/RDFS/Properties/predicate.pm
cp lib/ODO/RDFS/Properties/subPropertyOf/PropertiesContainer.pm blib/lib/ODO/RDFS/Properties/subPropertyOf/PropertiesContainer.pm
cp lib/ODO/RDFS/Properties/subClassOf.pm blib/lib/ODO/RDFS/Properties/subClassOf.pm
cp lib/ODO/RDFS/Properties/subject/PropertiesContainer.pm blib/lib/ODO/RDFS/Properties/subject/PropertiesContainer.pm
cp lib/ODO/RDFS/Properties/range/PropertiesContainer.pm blib/lib/ODO/RDFS/Properties/range/PropertiesContainer.pm
cp lib/ODO/RDFS/Properties/member/PropertiesContainer.pm blib/lib/ODO/RDFS/Properties/member/PropertiesContainer.pm
cp lib/ODO/RDFS/Properties/member.pm blib/lib/ODO/RDFS/Properties/member.pm
cp lib/ODO/RDFS/Property/PropertiesContainer.pm blib/lib/ODO/RDFS/Property/PropertiesContainer.pm
cp lib/ODO/RDFS/Resource/PropertiesContainer.pm blib/lib/ODO/RDFS/Resource/PropertiesContainer.pm
cp lib/ODO/RDFS/Resource.pm blib/lib/ODO/RDFS/Resource.pm
cp lib/ODO/RDFS/Properties/rest.pm blib/lib/ODO/RDFS/Properties/rest.pm
cp lib/ODO/RDFS/Property.pm blib/lib/ODO/RDFS/Property.pm
cp lib/ODO/RDFS/Properties/range.pm blib/lib/ODO/RDFS/Properties/range.pm
cp lib/ODO/RDFS/Properties/seeAlso/PropertiesContainer.pm blib/lib/ODO/RDFS/Properties/seeAlso/PropertiesContainer.pm
cp lib/ODO/RDFS/Properties/predicate/PropertiesContainer.pm blib/lib/ODO/RDFS/Properties/predicate/PropertiesContainer.pm
cp lib/ODO/RDFS/Properties/seeAlso.pm blib/lib/ODO/RDFS/Properties/seeAlso.pm
cp lib/ODO/RDFS/Properties/subClassOf/PropertiesContainer.pm blib/lib/ODO/RDFS/Properties/subClassOf/PropertiesContainer.pm
cp lib/ODO/RDFS/Properties/type/PropertiesContainer.pm blib/lib/ODO/RDFS/Properties/type/PropertiesContainer.pm
cp lib/ODO/RDFS/Seq/PropertiesContainer.pm blib/lib/ODO/RDFS/Seq/PropertiesContainer.pm
cp lib/ODO/RDFS/Properties/object.pm blib/lib/ODO/RDFS/Properties/object.pm
cp lib/ODO/RDFS/Properties/value.pm blib/lib/ODO/RDFS/Properties/value.pm
cp lib/ODO/RDFS/Properties/value/PropertiesContainer.pm blib/lib/ODO/RDFS/Properties/value/PropertiesContainer.pm
cp lib/ODO/RDFS/Seq.pm blib/lib/ODO/RDFS/Seq.pm
cp lib/ODO/RDFS/Properties/type.pm blib/lib/ODO/RDFS/Properties/type.pm
cp lib/ODO/Statement/Group.pm blib/lib/ODO/Statement/Group.pm
cp lib/ODO/Serializer.pm blib/lib/ODO/Serializer.pm
cp lib/PLUTO.pm blib/lib/PLUTO.pm
cp lib/ODO/RDFS/Statement.pm blib/lib/ODO/RDFS/Statement.pm
cp lib/ODO/Serializer/NTriples.pm blib/lib/ODO/Serializer/NTriples.pm
cp lib/ODO/Vocabulary.pm blib/lib/ODO/Vocabulary.pm
cp lib/ODO/Statement.pm blib/lib/ODO/Statement.pm
cp lib/ODO/RDFS/Statement/PropertiesContainer.pm blib/lib/ODO/RDFS/Statement/PropertiesContainer.pm
Manifying 34 pod documents
Manifying 17 pod documents
PERL_DL_NONLAZY=1 "/home/liveapp/.plenv/versions/5.36.0/bin/perl5.36.0" "-MExtUtils::Command::MM" "-MTest::Harness" "-e" "undef *Test::Harness::Switches; test_harness(0, 'inc', 'blib/lib', 'blib/arch')" t/00_base.t t/10_nodes.t t/20_statements.t t/30_graph.t t/31_graph_memory.t t/40_parser.t t/41_parser_ntriples.t t/42_parser_xml.t t/43_parser_n3.t t/50_db.t t/60_jena.t t/61_jena_sql.t t/70_query.t t/71_query_simple.t t/72_query_rdql.t t/80_ontology.t t/81_ontology_rdfs.t t/81b_ontology_rdfs.t t/82_ontology_jena.t t/85_jena_graph_system.t
t/00_base.t ............... ok
Name "ODO::Node::Any::DEBUG" used only once: possible typo at /home/liveapp/.plenv/versions/5.36.0/lib/perl5/site_perl/5.36.0/Class/Base.pm line 34.
t/10_nodes.t .............. ok
Name "ODO::Node::Any::DEBUG" used only once: possible typo at /home/liveapp/.plenv/versions/5.36.0/lib/perl5/site_perl/5.36.0/Class/Base.pm line 34.
t/20_statements.t ......... ok
t/30_graph.t .............. ok
Name "ODO::Node::Any::DEBUG" used only once: possible typo at /home/liveapp/.plenv/versions/5.36.0/lib/perl5/site_perl/5.36.0/Class/Base.pm line 34.
t/31_graph_memory.t ....... ok
Name "ODO::Node::Any::DEBUG" used only once: possible typo at /home/liveapp/.plenv/versions/5.36.0/lib/perl5/site_perl/5.36.0/Class/Base.pm line 34.
t/40_parser.t ............. ok
Name "ODO::Node::Any::DEBUG" used only once: possible typo at /home/liveapp/.plenv/versions/5.36.0/lib/perl5/site_perl/5.36.0/Class/Base.pm line 34.
t/41_parser_ntriples.t .... ok
Name "ODO::Node::Any::DEBUG" used only once: possible typo at /home/liveapp/.plenv/versions/5.36.0/lib/perl5/site_perl/5.36.0/Class/Base.pm line 34.
Subroutine XML::Namespace::rdf redefined at /home/liveapp/.plenv/versions/5.36.0/lib/perl5/site_perl/5.36.0/XML/Namespace.pm line 54.
Subroutine XML::Namespace::rdf redefined at /home/liveapp/.plenv/versions/5.36.0/lib/perl5/site_perl/5.36.0/XML/Namespace.pm line 54.
Please download the latest approved test cases and place them in t/rdf.
See http://www.w3.org/2000/10/rdf-tests/rdfcore/latest_Approved.zip
t/42_parser_xml.t ......... ok
Name "ODO::Node::Any::DEBUG" used only once: possible typo at /home/liveapp/.plenv/versions/5.36.0/lib/perl5/site_perl/5.36.0/Class/Base.pm line 34.
t/43_parser_n3.t .......... ok
t/50_db.t ................. ok
Name "ODO::Node::Any::DEBUG" used only once: possible typo at /home/liveapp/.plenv/versions/5.36.0/lib/perl5/site_perl/5.36.0/Class/Base.pm line 34.
t/60_jena.t ............... ok
Unescaped left brace in regex is passed through in regex; marked by <-- HERE in m/\${ <-- HERE a}/ at /home/liveapp/.cpanm/work/1658698842.2665502/PLUTO-0.30/blib/lib/ODO/Jena/SQL.pm line 138.
Unescaped left brace in regex is passed through in regex; marked by <-- HERE in m/\${ <-- HERE b}/ at /home/liveapp/.cpanm/work/1658698842.2665502/PLUTO-0.30/blib/lib/ODO/Jena/SQL.pm line 138.
Unescaped left brace in regex is passed through in regex; marked by <-- HERE in m/\${ <-- HERE c}/ at /home/liveapp/.cpanm/work/1658698842.2665502/PLUTO-0.30/blib/lib/ODO/Jena/SQL.pm line 138.
Unescaped left brace in regex is passed through in regex; marked by <-- HERE in m/\${ <-- HERE d}/ at /home/liveapp/.cpanm/work/1658698842.2665502/PLUTO-0.30/blib/lib/ODO/Jena/SQL.pm line 138.
t/61_jena_sql.t ........... ok
Name "ODO::Node::Any::DEBUG" used only once: possible typo at /home/liveapp/.plenv/versions/5.36.0/lib/perl5/site_perl/5.36.0/Class/Base.pm line 34.
Name "ODO::Query::Simple::DEBUG" used only once: possible typo at /home/liveapp/.plenv/versions/5.36.0/lib/perl5/site_perl/5.36.0/Class/Base.pm line 34.
t/70_query.t .............. ok
Name "ODO::Query::Simple::DEBUG" used only once: possible typo at /home/liveapp/.plenv/versions/5.36.0/lib/perl5/site_perl/5.36.0/Class/Base.pm line 34.
Name "ODO::Node::Any::DEBUG" used only once: possible typo at /home/liveapp/.plenv/versions/5.36.0/lib/perl5/site_perl/5.36.0/Class/Base.pm line 34.
t/71_query_simple.t ....... ok
Name "ODO::Query::Simple::DEBUG" used only once: possible typo at /home/liveapp/.plenv/versions/5.36.0/lib/perl5/site_perl/5.36.0/Class/Base.pm line 34.
Name "ODO::Node::Any::DEBUG" used only once: possible typo at /home/liveapp/.plenv/versions/5.36.0/lib/perl5/site_perl/5.36.0/Class/Base.pm line 34.
Use of uninitialized value in substr at /home/liveapp/.plenv/versions/5.36.0/lib/perl5/site_perl/5.36.0/Class/ParamParser.pm line 353.
Subroutine XML::Namespace::rdf redefined at /home/liveapp/.plenv/versions/5.36.0/lib/perl5/site_perl/5.36.0/XML/Namespace.pm line 54.
Subroutine XML::Namespace::rdf redefined at /home/liveapp/.plenv/versions/5.36.0/lib/perl5/site_perl/5.36.0/XML/Namespace.pm line 54.
t/72_query_rdql.t ......... ok
Name "ODO::Node::Any::DEBUG" used only once: possible typo at /home/liveapp/.plenv/versions/5.36.0/lib/perl5/site_perl/5.36.0/Class/Base.pm line 34.
Name "ODO::Query::Simple::DEBUG" used only once: possible typo at /home/liveapp/.plenv/versions/5.36.0/lib/perl5/site_perl/5.36.0/Class/Base.pm line 34.
t/80_ontology.t ........... ok
Subroutine XML::Namespace::rdf redefined at /home/liveapp/.plenv/versions/5.36.0/lib/perl5/site_perl/5.36.0/XML/Namespace.pm line 54.
Name "ODO::Query::Simple::DEBUG" used only once: possible typo at /home/liveapp/.plenv/versions/5.36.0/lib/perl5/site_perl/5.36.0/Class/Base.pm line 34.
Name "ODO::Node::Any::DEBUG" used only once: possible typo at /home/liveapp/.plenv/versions/5.36.0/lib/perl5/site_perl/5.36.0/Class/Base.pm line 34.
Subroutine XML::Namespace::rdf redefined at /home/liveapp/.plenv/versions/5.36.0/lib/perl5/site_perl/5.36.0/XML/Namespace.pm line 54.
Subroutine XML::Namespace::rdfs redefined at /home/liveapp/.plenv/versions/5.36.0/lib/perl5/site_perl/5.36.0/XML/Namespace.pm line 54.
Subroutine XML::Namespace::rdf redefined at /home/liveapp/.plenv/versions/5.36.0/lib/perl5/site_perl/5.36.0/XML/Namespace.pm line 54.
Odd number of elements in hash assignment at /home/liveapp/.cpanm/work/1658698842.2665502/PLUTO-0.30/blib/lib/ODO/RDFS/Resource.pm line 24.
Odd number of elements in hash assignment at /home/liveapp/.cpanm/work/1658698842.2665502/PLUTO-0.30/blib/lib/ODO/RDFS/Class.pm line 24.
Odd number of elements in hash assignment at /home/liveapp/.cpanm/work/1658698842.2665502/PLUTO-0.30/blib/lib/ODO/RDFS/Resource.pm line 24.
Odd number of elements in hash assignment at (eval 163) line 34.
Odd number of elements in hash assignment at (eval 144) line 34.
Odd number of elements in hash assignment at (eval 198) line 34.
Odd number of elements in hash assignment at /home/liveapp/.cpanm/work/1658698842.2665502/PLUTO-0.30/blib/lib/ODO/RDFS/Container.pm line 24.
Odd number of elements in hash assignment at /home/liveapp/.cpanm/work/1658698842.2665502/PLUTO-0.30/blib/lib/ODO/RDFS/Resource.pm line 24.
Odd number of elements in hash assignment at (eval 163) line 34.
Odd number of elements in hash assignment at (eval 144) line 34.
Odd number of elements in hash assignment at (eval 198) line 34.
Odd number of elements in hash assignment at /home/liveapp/.cpanm/work/1658698842.2665502/PLUTO-0.30/blib/lib/ODO/RDFS/Container.pm line 24.
Odd number of elements in hash assignment at /home/liveapp/.cpanm/work/1658698842.2665502/PLUTO-0.30/blib/lib/ODO/RDFS/Resource.pm line 24.
t/81_ontology_rdfs.t ...... ok
Subroutine XML::Namespace::rdf redefined at /home/liveapp/.plenv/versions/5.36.0/lib/perl5/site_perl/5.36.0/XML/Namespace.pm line 54.
Name "ODO::Node::Any::DEBUG" used only once: possible typo at /home/liveapp/.plenv/versions/5.36.0/lib/perl5/site_perl/5.36.0/Class/Base.pm line 34.
Name "ODO::Query::Simple::DEBUG" used only once: possible typo at /home/liveapp/.plenv/versions/5.36.0/lib/perl5/site_perl/5.36.0/Class/Base.pm line 34.
Subroutine XML::Namespace::rdf redefined at /home/liveapp/.plenv/versions/5.36.0/lib/perl5/site_perl/5.36.0/XML/Namespace.pm line 54.
Subroutine XML::Namespace::rdfs redefined at /home/liveapp/.plenv/versions/5.36.0/lib/perl5/site_perl/5.36.0/XML/Namespace.pm line 54.
Subroutine XML::Namespace::rdf redefined at /home/liveapp/.plenv/versions/5.36.0/lib/perl5/site_perl/5.36.0/XML/Namespace.pm line 54.
Odd number of elements in hash assignment at /home/liveapp/.cpanm/work/1658698842.2665502/PLUTO-0.30/blib/lib/ODO/RDFS/Resource.pm line 24.
Odd number of elements in hash assignment at /home/liveapp/.cpanm/work/1658698842.2665502/PLUTO-0.30/blib/lib/ODO/RDFS/Class.pm line 24.
Odd number of elements in hash assignment at /home/liveapp/.cpanm/work/1658698842.2665502/PLUTO-0.30/blib/lib/ODO/RDFS/Resource.pm line 24.
Odd number of elements in hash assignment at (eval 151) line 34.
Odd number of elements in hash assignment at (eval 144) line 34.
Odd number of elements in hash assignment at (eval 178) line 34.
Odd number of elements in hash assignment at /home/liveapp/.cpanm/work/1658698842.2665502/PLUTO-0.30/blib/lib/ODO/RDFS/Container.pm line 24.
Odd number of elements in hash assignment at /home/liveapp/.cpanm/work/1658698842.2665502/PLUTO-0.30/blib/lib/ODO/RDFS/Resource.pm line 24.
Odd number of elements in hash assignment at (eval 151) line 34.
Odd number of elements in hash assignment at (eval 144) line 34.
Odd number of elements in hash assignment at (eval 178) line 34.
Odd number of elements in hash assignment at /home/liveapp/.cpanm/work/1658698842.2665502/PLUTO-0.30/blib/lib/ODO/RDFS/Container.pm line 24.
Odd number of elements in hash assignment at /home/liveapp/.cpanm/work/1658698842.2665502/PLUTO-0.30/blib/lib/ODO/RDFS/Resource.pm line 24.
t/81b_ontology_rdfs.t ..... ok
Name "ODO::Query::Simple::DEBUG" used only once: possible typo at /home/liveapp/.plenv/versions/5.36.0/lib/perl5/site_perl/5.36.0/Class/Base.pm line 34.
Name "ODO::Node::Any::DEBUG" used only once: possible typo at /home/liveapp/.plenv/versions/5.36.0/lib/perl5/site_perl/5.36.0/Class/Base.pm line 34.
t/82_ontology_jena.t ...... ok
t/85_jena_graph_system.t .. skipped: Ignored because of problems installing DBD::mysql
All tests successful.
Files=20, Tests=192,  2 wallclock secs ( 0.09 usr  0.00 sys +  2.26 cusr  0.27 csys =  2.62 CPU)
Result: PASS

------------------------------
PREREQUISITES
------------------------------

Prerequisite modules loaded:

    No requirements found

------------------------------
ENVIRONMENT AND OTHER CONTEXT
------------------------------

Environment variables:

    LANG = C.UTF-8
    PATH = /home/liveapp/.plenv/versions/5.36.0/bin:/home/liveapp/.plenv/libexec:/home/liveapp/.plenv/plugins/perl-build/bin:/home/liveapp/cpantesters.new/5.36.0/local/bin:/home/liveapp/.plenv/shims:/home/liveapp/.plenv/bin:/usr/local/sbin:/usr/local/bin:/usr/sbin:/usr/bin:/sbin:/bin:/usr/games:/usr/local/games:/snap/bin
    PERL5LIB = /home/liveapp/cpantesters.new/5.36.0/local/lib/perl5
    SHELL = /bin/bash
    TERM = xterm-256color

Perl special variables (and OS-specific diagnostics, for MSWin32):

    EGID = 1001 27 1001
    EUID = 1001
    EXECUTABLE_NAME = /home/liveapp/.plenv/versions/5.36.0/bin/perl5.36.0
    GID = 1001 27 1001
    UID = 1001

Perl module toolchain versions installed:

    Module              Have    
    ------------------- --------
    CPAN                2.33    
    CPAN::Meta          2.150010
    Cwd                 3.84    
    ExtUtils::CBuilder  0.280236
    ExtUtils::Command   7.64    
    ExtUtils::Install   2.20    
    ExtUtils::MakeMaker 7.64    
    ExtUtils::Manifest  1.73    
    ExtUtils::ParseXS   3.45    
    File::Spec          3.84    
    JSON                4.07    
    JSON::PP            4.10    
    Module::Build       0.4231  
    Module::Signature   n/a     
    Parse::CPAN::Meta   2.150010
    Test::Harness       3.44    
    Test::More          1.302191
    YAML                1.30    
    YAML::Syck          1.34    
    version             0.9929  


--

Summary of my perl5 (revision 5 version 36 subversion 0) configuration:
   
  Platform:
    osname=linux
    osvers=5.4.0-91-generic
    archname=x86_64-linux
    uname='linux supremeadmin 5.4.0-91-generic #102-ubuntu smp fri nov 5 16:31:28 utc 2021 x86_64 x86_64 x86_64 gnulinux '
    config_args='-Dprefix=/home/liveapp/.plenv/versions/5.36.0 -de -Dversiononly -A'eval:scriptdir=/home/liveapp/.plenv/versions/5.36.0/bin''
    hint=recommended
    useposix=true
    d_sigaction=define
    useithreads=undef
    usemultiplicity=undef
    use64bitint=define
    use64bitall=define
    uselongdouble=undef
    usemymalloc=n
    default_inc_excludes_dot=define
  Compiler:
    cc='cc'
    ccflags ='-fwrapv -fno-strict-aliasing -pipe -fstack-protector-strong -I/usr/local/include -D_LARGEFILE_SOURCE -D_FILE_OFFSET_BITS=64'
    optimize='-O2'
    cppflags='-fwrapv -fno-strict-aliasing -pipe -fstack-protector-strong -I/usr/local/include'
    ccversion=''
    gccversion='9.4.0'
    gccosandvers=''
    intsize=4
    longsize=8
    ptrsize=8
    doublesize=8
    byteorder=12345678
    doublekind=3
    d_longlong=define
    longlongsize=8
    d_longdbl=define
    longdblsize=16
    longdblkind=3
    ivtype='long'
    ivsize=8
    nvtype='double'
    nvsize=8
    Off_t='off_t'
    lseeksize=8
    alignbytes=8
    prototype=define
  Linker and Libraries:
    ld='cc'
    ldflags =' -fstack-protector-strong -L/usr/local/lib'
    libpth=/usr/local/lib /usr/lib/x86_64-linux-gnu /usr/lib /lib/x86_64-linux-gnu /lib
    libs=-lpthread -lnsl -ldl -lm -lcrypt -lutil -lc
    perllibs=-lpthread -lnsl -ldl -lm -lcrypt -lutil -lc
    libc=libc-2.31.so
    so=so
    useshrplib=false
    libperl=libperl.a
    gnulibc_version='2.31'
  Dynamic Linking:
    dlsrc=dl_dlopen.xs
    dlext=so
    d_dlsymun=undef
    ccdlflags='-Wl,-E'
    cccdlflags='-fPIC'
    lddlflags='-shared -O2 -L/usr/local/lib -fstack-protector-strong'


Characteristics of this binary (from libperl): 
  Compile-time options:
    HAS_TIMES
    PERLIO_LAYERS
    PERL_COPY_ON_WRITE
    PERL_DONT_CREATE_GVSV
    PERL_MALLOC_WRAP
    PERL_OP_PARENT
    PERL_PRESERVE_IVUV
    USE_64_BIT_ALL
    USE_64_BIT_INT
    USE_LARGE_FILES
    USE_LOCALE
    USE_LOCALE_COLLATE
    USE_LOCALE_CTYPE
    USE_LOCALE_NUMERIC
    USE_LOCALE_TIME
    USE_PERLIO
    USE_PERL_ATOF
  Built under linux
  Compiled at Jul 20 2022 21:52:50
  %ENV:
    PERL5LIB="/home/liveapp/cpantesters.new/5.36.0/local/lib/perl5"
  @INC:
    /home/liveapp/cpantesters.new/5.36.0/local/lib/perl5
    /home/liveapp/.plenv/versions/5.36.0/lib/perl5/site_perl/5.36.0/x86_64-linux
    /home/liveapp/.plenv/versions/5.36.0/lib/perl5/site_perl/5.36.0
    /home/liveapp/.plenv/versions/5.36.0/lib/perl5/5.36.0/x86_64-linux
    /home/liveapp/.plenv/versions/5.36.0/lib/perl5/5.36.0