Data-Visitor v0.32 Perl 5 v5.41.6 x86_64-linux
- Status
- Pass
- From
- Andreas J. König (ANDK)
- Dist
-
Data-Visitor v0.32
- Platform
- Perl 5 v5.41.6 x86_64-linux
- Date
- 2024-12-01 11:56:49
- ID
- 58fc9c8c-afdb-11ef-b351-af9dbb71d7b9
This distribution has been tested as part of the CPAN Testers
project, supporting the Perl programming language. See
http://wiki.cpantesters.org/ for more information or email
questions to cpan-testers-discuss@perl.org
--
Dear Karen Etheridge,
This is a computer-generated report for Data-Visitor-0.32
on perl 5.41.6, created by CPAN-Reporter-1.2020.
Thank you for uploading your work to CPAN. Congratulations!
All tests were successful.
Sections of this report:
* Tester comments
* Program output
* Prerequisites
* Environment and other context
------------------------------
TESTER COMMENTS
------------------------------
Additional comments from tester:
this report is from an automated smoke testing program
and was not reviewed by a human for accuracy
------------------------------
PROGRAM OUTPUT
------------------------------
Output from '/usr/bin/make test':
PERL_DL_NONLAZY=1 "/home/sand/src/perl/repoperls/installed-perls/host/k93msid/v5.41.6/bb7f/bin/perl" "-MExtUtils::Command::MM" "-MTest::Harness" "-e" "undef *Test::Harness::Switches; test_harness(0, 'blib/lib', 'blib/arch')" t/*.t
#
# Versions for all modules listed in MYMETA.json (including optional ones):
#
# === Configure Requires ===
#
# Module Want Have
# ------------------- ----- --------
# ExtUtils::MakeMaker any 7.70
# perl 5.006 5.041006
#
# === Configure Suggests ===
#
# Module Want Have
# -------- ------- ----
# JSON::PP 2.27300 4.16
#
# === Build Requires ===
#
# Module Want Have
# ------------------- ---- ----
# ExtUtils::MakeMaker any 7.70
#
# === Test Requires ===
#
# Module Want Have
# ------------------- ----- --------
# ExtUtils::MakeMaker any 7.70
# File::Spec any 3.93
# Test::More 0.88 1.302204
# Test::Needs any 0.002010
# Tie::RefHash any 1.41
# perl 5.006 5.041006
#
# === Test Recommends ===
#
# Module Want Have
# ---------- -------- --------
# CPAN::Meta 2.120900 2.150010
#
# === Runtime Requires ===
#
# Module Want Have
# ---------------- ----- --------
# Carp any 1.54
# Moose 0.89 2.2207
# Scalar::Util any 1.68_01
# Symbol any 1.09
# Tie::ToObject 0.01 0.03
# constant any 1.33
# namespace::clean 0.19 0.27
# overload any 1.39
# perl 5.006 5.041006
# strict any 1.13
# warnings any 1.71
#
# === Other Modules ===
#
# Module Have
# --------------- -------
# Encode 3.21
# File::Temp 0.2311
# JSON::PP 4.16
# Module::Runtime 0.016
# Pod::Coverage missing
# Sub::Name missing
# YAML 1.31
# autodie 2.37
#
t/00-report-prereqs.t .... ok
t/base.t ................. ok
t/bugs.t ................. ok
t/callback.t ............. ok
t/callback_aliasing.t .... ok
t/callback_hash_entry.t .. ok
t/callback_moose_tc.t .... ok
t/circular_refs.t ........ ok
t/globs.t ................ ok
t/magic.t ................ ok
t/weak.t ................. skipped: these tests require Data::Alias or fixes to use core aliasing
All tests successful.
Files=11, Tests=106, 8 wallclock secs ( 0.06 usr 0.02 sys + 2.53 cusr 0.39 csys = 3.00 CPU)
Result: PASS
------------------------------
PREREQUISITES
------------------------------
Prerequisite modules loaded:
requires:
Module Need Have
------------------- ----- --------
Carp 0 1.54
constant 0 1.33
Moose 0.89 2.2207
namespace::clean 0.19 0.27
overload 0 1.39
perl 5.006 5.041006
Scalar::Util 0 1.68_01
strict 0 1.13
Symbol 0 1.09
Tie::ToObject 0.01 0.03
warnings 0 1.71
build_requires:
Module Need Have
------------------- ----- --------
ExtUtils::MakeMaker 0 7.70
File::Spec 0 3.93
Test::More 0.88 1.302204
Test::Needs 0 0.002010
Tie::RefHash 0 1.41
configure_requires:
Module Need Have
------------------- ----- --------
ExtUtils::MakeMaker 0 7.70
perl 5.006 5.041006
------------------------------
ENVIRONMENT AND OTHER CONTEXT
------------------------------
Environment variables:
AUTOMATED_TESTING = 1
LANG = en_US.UTF-8
LANGUAGE = en_US:en
PATH = /home/sand/bin:/usr/local/bin:/usr/bin:/bin:/usr/games:/usr/local/perl/bin:/usr/X11/bin:/sbin:/usr/sbin
PERL5LIB =
PERL5OPT =
PERL5_CPANPLUS_IS_RUNNING = 402449
PERL5_CPAN_IS_RUNNING = 402449
PERL_CANARY_STABILITY_NOPROMPT = 1
PERL_MM_USE_DEFAULT = 1
PERL_USE_UNSAFE_INC = 1
SHELL = /usr/bin/zsh
TERM = screen
Perl special variables (and OS-specific diagnostics, for MSWin32):
$^X = /home/sand/src/perl/repoperls/installed-perls/host/k93msid/v5.41.6/bb7f/bin/perl
$UID/$EUID = 1005 / 1005
$GID = 1005 1005
$EGID = 1005 1005
Perl module toolchain versions installed:
Module Have
------------------- --------
CPAN 2.38
CPAN::Meta 2.150010
Cwd 3.92
ExtUtils::CBuilder 0.280240
ExtUtils::Command 7.70
ExtUtils::Install 2.22
ExtUtils::MakeMaker 7.70
ExtUtils::Manifest 1.75
ExtUtils::ParseXS 3.56
File::Spec 3.93
JSON 4.10
JSON::PP 4.16
Module::Build 0.4234
Module::Signature 0.89
Parse::CPAN::Meta 2.150010
Test2 1.302204
Test::Harness 3.50
Test::More 1.302204
YAML 1.31
YAML::Syck 1.34
version 0.9933
--
Summary of my perl5 (revision 5 version 41 subversion 6) configuration:
Commit id: 5ae25c7756bbd08831a5a3900da1d60b7ba2c19a
Platform:
osname=linux
osvers=6.8.12-amd64
archname=x86_64-linux
uname='linux k93msid 6.8.12-amd64 #1 smp preempt_dynamic debian 6.8.12-1 (2024-05-31) x86_64 gnulinux '
config_args='-Dprefix=/home/sand/src/perl/repoperls/installed-perls/host/k93msid/v5.41.6/bb7f -Dmyhostname=k93msid -Dinstallusrbinperl=n -Uversiononly -Dusedevel -des -Ui_db -Dlibswanted=cl pthread socket inet nsl gdbm dbm malloc dl ld sun m crypt sec util c cposix posix ucb BSD gdbm_compat -Uuseithreads -Uuselongdouble -DEBUGGING=both'
hint=recommended
useposix=true
d_sigaction=define
useithreads=undef
usemultiplicity=undef
use64bitint=define
use64bitall=define
uselongdouble=undef
usemymalloc=n
default_inc_excludes_dot=define
Compiler:
cc='cc'
ccflags ='-fwrapv -DDEBUGGING -fno-strict-aliasing -pipe -fstack-protector-strong -I/usr/local/include -D_LARGEFILE_SOURCE -D_FILE_OFFSET_BITS=64 -D_FORTIFY_SOURCE=2'
optimize='-O2 -g'
cppflags='-fwrapv -DDEBUGGING -fno-strict-aliasing -pipe -fstack-protector-strong -I/usr/local/include'
ccversion=''
gccversion='13.3.0'
gccosandvers=''
intsize=4
longsize=8
ptrsize=8
doublesize=8
byteorder=12345678
doublekind=3
d_longlong=define
longlongsize=8
d_longdbl=define
longdblsize=16
longdblkind=3
ivtype='long'
ivsize=8
nvtype='double'
nvsize=8
Off_t='off_t'
lseeksize=8
alignbytes=8
prototype=define
Linker and Libraries:
ld='cc'
ldflags =' -fstack-protector-strong -L/usr/local/lib'
libpth=/usr/local/lib /usr/lib/x86_64-linux-gnu /usr/lib /usr/lib64
libs=-lpthread -ldl -lm -lcrypt -lutil -lc
perllibs=-lpthread -ldl -lm -lcrypt -lutil -lc
libc=/lib/x86_64-linux-gnu/libc.so.6
so=so
useshrplib=false
libperl=libperl.a
gnulibc_version='2.38'
Dynamic Linking:
dlsrc=dl_dlopen.xs
dlext=so
d_dlsymun=undef
ccdlflags='-Wl,-E'
cccdlflags='-fPIC'
lddlflags='-shared -O2 -g -L/usr/local/lib -fstack-protector-strong'
Characteristics of this binary (from libperl):
Compile-time options:
DEBUGGING
HAS_LONG_DOUBLE
HAS_STRTOLD
HAS_TIMES
PERLIO_LAYERS
PERL_COPY_ON_WRITE
PERL_DONT_CREATE_GVSV
PERL_HASH_FUNC_SIPHASH13
PERL_HASH_USE_SBOX32
PERL_MALLOC_WRAP
PERL_OP_PARENT
PERL_PRESERVE_IVUV
PERL_USE_DEVEL
PERL_USE_SAFE_PUTENV
USE_64_BIT_ALL
USE_64_BIT_INT
USE_LARGE_FILES
USE_LOCALE
USE_LOCALE_COLLATE
USE_LOCALE_CTYPE
USE_LOCALE_NUMERIC
USE_LOCALE_TIME
USE_PERLIO
USE_PERL_ATOF
Built under linux
Compiled at Nov 21 2024 09:37:34
%ENV:
PERL5LIB=""
PERL5OPT=""
PERL5_CPANPLUS_IS_RUNNING="402449"
PERL5_CPAN_IS_RUNNING="402449"
PERL_CANARY_STABILITY_NOPROMPT="1"
PERL_MM_USE_DEFAULT="1"
PERL_USE_UNSAFE_INC="1"
@INC:
/home/sand/src/perl/repoperls/installed-perls/host/k93msid/v5.41.6/bb7f/lib/site_perl/5.41.6/x86_64-linux
/home/sand/src/perl/repoperls/installed-perls/host/k93msid/v5.41.6/bb7f/lib/site_perl/5.41.6
/home/sand/src/perl/repoperls/installed-perls/host/k93msid/v5.41.6/bb7f/lib/5.41.6/x86_64-linux
/home/sand/src/perl/repoperls/installed-perls/host/k93msid/v5.41.6/bb7f/lib/5.41.6
.