Back
From: metabase:user:314402c4-2aae-11df-837a-5e0a49663a4f
Subject: PASS WWW-Curl-Simple-0.100191 v5.21.2 GNU/Linux
Date: 2014-08-06T17:30:24Z
This distribution has been tested as part of the CPAN Testers
project, supporting the Perl programming language. See
http://wiki.cpantesters.org/ for more information or email
questions to cpan-testers-discuss@perl.org
--
Dear Andreas Marienborg,
This is a computer-generated report for WWW-Curl-Simple-0.100191
on perl 5.21.2, created by CPAN-Reporter-1.2011.
Thank you for uploading your work to CPAN. Congratulations!
All tests were successful.
Sections of this report:
* Tester comments
* Program output
* Prerequisites
* Environment and other context
------------------------------
TESTER COMMENTS
------------------------------
Additional comments from tester:
none provided
------------------------------
PROGRAM OUTPUT
------------------------------
Output from '/usr/bin/make test':
PERL_DL_NONLAZY=1 /opt/perl-5.21.2/bin/perl5.21.2 "-MExtUtils::Command::MM" "-MTest::Harness" "-e" "undef *Test::Harness::Switches; test_harness(0, 'blib/lib', 'blib/arch')" t/*.t
t/00-compile.t ................... ok
# Testing WWW::Curl::Simple 0.100191, Perl 5.021002, /opt/perl-5.21.2/bin/perl5.21.2
t/00.load.t ...................... ok
#
#
# Generated by Dist::Zilla::Plugin::ReportVersions::Tiny v1.10
# perl: 5.021002 (wanted any version) on linux from /opt/perl-5.21.2/bin/perl5.21.2
#
# Carp => 1.34 (want any version)
# ExtUtils::MakeMaker => 6.98 (want 6.30)
# File::Spec => 3.49 (want any version)
# HTTP::Request => 6.00 (want any version)
# HTTP::Response => 6.04 (want any version)
# IO::Handle => 1.35 (want any version)
# IPC::Open3 => 1.17 (want any version)
# Moose => 2.1210 (want any version)
# Scalar::Util => 1.39 (want any version)
# Test::Exception => 0.32 (want any version)
# Test::More => 1.001003 (want 0.96)
# Time::HiRes => 1.9726 (want 1.9705)
# WWW::Curl::Easy => 4.17 (want any version)
# WWW::Curl::Multi => <undef> (want any version)
# base => 2.22 (want any version)
# namespace::clean => 0.25 (want any version)
# strict => 1.08 (want any version)
# warnings => 1.26 (want any version)
#
# Thanks for using my code. I hope it works for you.
# If not, please try and include this output in the bug report.
# That will help me reproduce the issue and solve your problem.
#
t/000-report-versions-tiny.t ..... ok
t/10.simple.t .................... ok
t/20.timeout.t ................... ok
t/author-10.usage.multi.t ........ skipped: these tests are for testing by the author
t/author-10.usage.single.t ....... skipped: these tests are for testing by the author
t/author-20.non-fatal.t .......... skipped: these tests are for testing by the author
t/author-20.timeout-old.t ........ skipped: these tests are for testing by the author
t/author-30.max-redirects.t ...... skipped: these tests are for testing by the author
t/author-31.check-ssl-certs.t .... skipped: these tests are for testing by the author
t/author-99.pua-compat.t ......... skipped: these tests are for testing by the author
t/release-changes_has_content.t .. skipped: these tests are for release candidate testing
t/release-cpan-changes.t ......... skipped: these tests are for release candidate testing
t/release-pod-coverage.t ......... skipped: these tests are for release candidate testing
t/release-pod-syntax.t ........... skipped: these tests are for release candidate testing
t/release-synopsis.t ............. skipped: these tests are for release candidate testing
All tests successful.
Files=17, Tests=9, 5 wallclock secs ( 0.04 usr 0.07 sys + 1.56 cusr 0.41 csys = 2.08 CPU)
Result: PASS
------------------------------
PREREQUISITES
------------------------------
Prerequisite modules loaded:
requires:
Module Need Have
------------------- ------ --------
Carp 0 1.34
HTTP::Request 0 6.00
HTTP::Response 0 6.04
Moose 0 2.1210
namespace::clean 0 0.25
Scalar::Util 0 1.39
Time::HiRes 1.9705 1.9726
WWW::Curl::Easy 0 4.17
WWW::Curl::Multi 0 0
build_requires:
Module Need Have
------------------- ------ --------
base 0 2.22
File::Spec 0 3.49
IO::Handle 0 1.35
IPC::Open3 0 1.17
strict 0 1.08
Test::Exception 0 0.32
Test::More 0.96 1.001003
warnings 0 1.26
configure_requires:
Module Need Have
------------------- ------ --------
ExtUtils::MakeMaker 6.30 6.98
------------------------------
ENVIRONMENT AND OTHER CONTEXT
------------------------------
Environment variables:
DBIC_NO_WARN_BAD_PERL = 1
LANG = C
PATH = /usr/local/bin:/usr/bin:/bin:/usr/local/sbin:/usr/sbin:/sbin:/home/eserte/bin/linux-gnu:/home/eserte/bin/sh:/home/eserte/bin:/usr/games:/home/eserte/devel:/home/eserte/src/srezic-misc/scripts
PERL5LIB = /home/eserte/.cpan/build/WWW-Curl-4.17-frJ4CP/blib/arch:/home/eserte/.cpan/build/WWW-Curl-4.17-frJ4CP/blib/lib
PERL5OPT =
PERL5_CPANPLUS_IS_RUNNING = 23080
PERL5_CPAN_IS_RUNNING = 23080
PERL5_CPAN_IS_RUNNING_IN_RECURSION = 23057,23080
PERLDOC = -MPod::Perldoc::ToTextOverstrike
PERL_BATCH = yes
PERL_CPAN_REPORTER_CONFIG = /var/tmp/cpansmoker-1001/Yc7xvkJXbE_config.ini
PERL_EXTUTILS_AUTOINSTALL = --defaultdeps
PERL_HTML_DISPLAY_CLASS = HTML::Display::Mozilla
SHELL = /bin/zsh
TERM = screen
TMPDIR = /var/tmp/cpansmoker-1001
Perl special variables (and OS-specific diagnostics, for MSWin32):
$^X = /opt/perl-5.21.2/bin/perl5.21.2
$UID/$EUID = 1001 / 1001
$GID = 1001 109 1001
$EGID = 1001 109 1001
Perl module toolchain versions installed:
Module Have
------------------- --------
CPAN 2.05
CPAN::Meta 2.141520
Cwd 3.49
ExtUtils::CBuilder 0.280216
ExtUtils::Command 1.18
ExtUtils::Install 1.68
ExtUtils::MakeMaker 6.98
ExtUtils::Manifest 1.64
ExtUtils::ParseXS 3.25
File::Spec 3.49
JSON 2.90
JSON::PP 2.27203
Module::Build 0.4206
Module::Signature 0.73
Parse::CPAN::Meta 1.4414
Test::Harness 3.32
Test::More 1.001003
YAML 0.98
YAML::Syck 1.27
version 0.9908
--
Summary of my perl5 (revision 5 version 21 subversion 2) configuration:
Platform:
osname=linux, osvers=3.2.0-4-amd64, archname=x86_64-linux
uname='linux eserte 3.2.0-4-amd64 #1 smp debian 3.2.57-3+deb7u2 x86_64 gnulinux '
config_args='-ds -e -Dprefix=/opt/perl-5.21.2 -Dusedevel -Dusemallocwrap=no'
hint=recommended, useposix=true, d_sigaction=define
useithreads=undef, usemultiplicity=undef
use64bitint=define, use64bitall=define, uselongdouble=undef
usemymalloc=n, bincompat5005=undef
Compiler:
cc='cc', ccflags ='-fwrapv -fno-strict-aliasing -pipe -fstack-protector -I/usr/local/include -D_LARGEFILE_SOURCE -D_FILE_OFFSET_BITS=64 -D_FORTIFY_SOURCE=2',
optimize='-O2',
cppflags='-fwrapv -fno-strict-aliasing -pipe -fstack-protector -I/usr/local/include'
ccversion='', gccversion='4.7.2', gccosandvers=''
intsize=4, longsize=8, ptrsize=8, doublesize=8, byteorder=12345678
d_longlong=define, longlongsize=8, d_longdbl=define, longdblsize=16
ivtype='long', ivsize=8, nvtype='double', nvsize=8, Off_t='off_t', lseeksize=8
alignbytes=8, prototype=define
Linker and Libraries:
ld='cc', ldflags =' -fstack-protector -L/usr/local/lib'
libpth=/usr/local/lib /usr/lib/gcc/x86_64-linux-gnu/4.7/include-fixed /usr/include/x86_64-linux-gnu /usr/lib /lib/x86_64-linux-gnu /lib/../lib /usr/lib/x86_64-linux-gnu /usr/lib/../lib /lib
libs=-lnsl -ldb -ldl -lm -lcrypt -lutil -lc
perllibs=-lnsl -ldl -lm -lcrypt -lutil -lc
libc=libc-2.13.so, so=so, useshrplib=false, libperl=libperl.a
gnulibc_version='2.13'
Dynamic Linking:
dlsrc=dl_dlopen.xs, dlext=so, d_dlsymun=undef, ccdlflags='-Wl,-E'
cccdlflags='-fPIC', lddlflags='-shared -O2 -L/usr/local/lib -fstack-protector'
Characteristics of this binary (from libperl):
Compile-time options: HAS_TIMES PERLIO_LAYERS PERL_DONT_CREATE_GVSV
PERL_HASH_FUNC_ONE_AT_A_TIME_HARD
PERL_NEW_COPY_ON_WRITE PERL_PRESERVE_IVUV
PERL_USE_DEVEL USE_64_BIT_ALL USE_64_BIT_INT
USE_LARGE_FILES USE_LOCALE USE_LOCALE_COLLATE
USE_LOCALE_CTYPE USE_LOCALE_NUMERIC USE_LOCALE_TIME
USE_PERLIO USE_PERL_ATOF
Built under linux
Compiled at Jul 21 2014 05:22:36
%ENV:
PERL5LIB="/home/eserte/.cpan/build/WWW-Curl-4.17-frJ4CP/blib/arch:/home/eserte/.cpan/build/WWW-Curl-4.17-frJ4CP/blib/lib"
PERL5OPT=""
PERL5_CPANPLUS_IS_RUNNING="23080"
PERL5_CPAN_IS_RUNNING="23080"
PERL5_CPAN_IS_RUNNING_IN_RECURSION="23057,23080"
PERLDOC="-MPod::Perldoc::ToTextOverstrike"
PERL_BATCH="yes"
PERL_CPAN_REPORTER_CONFIG="/var/tmp/cpansmoker-1001/Yc7xvkJXbE_config.ini"
PERL_EXTUTILS_AUTOINSTALL="--defaultdeps"
PERL_HTML_DISPLAY_CLASS="HTML::Display::Mozilla"
@INC:
/home/eserte/.cpan/build/WWW-Curl-4.17-frJ4CP/blib/arch
/home/eserte/.cpan/build/WWW-Curl-4.17-frJ4CP/blib/lib
/opt/perl-5.21.2/lib/site_perl/5.21.2/x86_64-linux
/opt/perl-5.21.2/lib/site_perl/5.21.2
/opt/perl-5.21.2/lib/5.21.2/x86_64-linux
/opt/perl-5.21.2/lib/5.21.2
.