Text-WideChar-Util v0.170 Perl 5 v5.31.5 amd64-freebsd

Status
Pass
From
Slaven Rezić (SREZIC)
Dist
Text-WideChar-Util v0.170
Platform
Perl 5 v5.31.5 amd64-freebsd
Date
2019-11-20 22:30:26
ID
593b1b6e-0be5-11ea-bde1-8a3a1f24ea8f
This distribution has been tested as part of the CPAN Testers
project, supporting the Perl programming language.  See
http://wiki.cpantesters.org/ for more information or email
questions to cpan-testers-discuss@perl.org


--
Dear perlancar,

This is a computer-generated report for Text-WideChar-Util-0.170
on perl 5.31.5, created by CPAN-Reporter-1.2018.

Thank you for uploading your work to CPAN.  Congratulations!
All tests were successful.

Sections of this report:

    * Tester comments
    * Program output
    * Prerequisites
    * Environment and other context

------------------------------
TESTER COMMENTS
------------------------------

Additional comments from tester:

none provided

------------------------------
PROGRAM OUTPUT
------------------------------

Output from '/usr/bin/make test':

PERL_DL_NONLAZY=1 "/usr/perl5.31.5p/bin/perl5.31.5" "-MExtUtils::Command::MM" "-MTest::Harness" "-e" "undef *Test::Harness::Switches; test_harness(0, 'blib/lib', 'blib/arch')" t/*.t
t/00-compile.t ........... ok
t/01-basics.t ............ skipped: Chinese locale not supported on this system
t/author-critic.t ........ skipped: these tests are for testing by the author
t/author-pod-coverage.t .. skipped: these tests are for testing by the author
t/author-pod-syntax.t .... skipped: these tests are for testing by the author
Wide character (U+5B58) in pattern match (m//) at /usr/home/cpansand/.cpan/build/2019111201/Text-WideChar-Util-0.170-0/blib/lib/Text/WideChar/Util.pm line 165.
Wide character (U+5B58) in pattern match (m//) at /usr/home/cpansand/.cpan/build/2019111201/Text-WideChar-Util-0.170-0/blib/lib/Text/WideChar/Util.pm line 197.
Wide character (U+5B58) in pattern match (m//) at /usr/home/cpansand/.cpan/build/2019111201/Text-WideChar-Util-0.170-0/blib/lib/Text/WideChar/Util.pm line 197.
Wide character (U+5B58) in pattern match (m//) at /usr/home/cpansand/.cpan/build/2019111201/Text-WideChar-Util-0.170-0/blib/lib/Text/WideChar/Util.pm line 197.
Wide character (U+5B58) in pattern match (m//) at /usr/home/cpansand/.cpan/build/2019111201/Text-WideChar-Util-0.170-0/blib/lib/Text/WideChar/Util.pm line 197.
Wide character (U+5B58) in pattern match (m//) at /usr/home/cpansand/.cpan/build/2019111201/Text-WideChar-Util-0.170-0/blib/lib/Text/WideChar/Util.pm line 197.
Wide character (U+5B58) in pattern match (m//) at /usr/home/cpansand/.cpan/build/2019111201/Text-WideChar-Util-0.170-0/blib/lib/Text/WideChar/Util.pm line 197.
Wide character (U+5B58) in pattern match (m//) at /usr/home/cpansand/.cpan/build/2019111201/Text-WideChar-Util-0.170-0/blib/lib/Text/WideChar/Util.pm line 197.
Wide character (U+5B58) in pattern match (m//) at /usr/home/cpansand/.cpan/build/2019111201/Text-WideChar-Util-0.170-0/blib/lib/Text/WideChar/Util.pm line 197.
Wide character (U+50A8) in pattern match (m//) at /usr/home/cpansand/.cpan/build/2019111201/Text-WideChar-Util-0.170-0/blib/lib/Text/WideChar/Util.pm line 197.
Wide character (U+50A8) in pattern match (m//) at /usr/home/cpansand/.cpan/build/2019111201/Text-WideChar-Util-0.170-0/blib/lib/Text/WideChar/Util.pm line 197.
Wide character (U+50A8) in pattern match (m//) at /usr/home/cpansand/.cpan/build/2019111201/Text-WideChar-Util-0.170-0/blib/lib/Text/WideChar/Util.pm line 197.
Wide character (U+50A8) in pattern match (m//) at /usr/home/cpansand/.cpan/build/2019111201/Text-WideChar-Util-0.170-0/blib/lib/Text/WideChar/Util.pm line 197.
Wide character (U+50A8) in pattern match (m//) at /usr/home/cpansand/.cpan/build/2019111201/Text-WideChar-Util-0.170-0/blib/lib/Text/WideChar/Util.pm line 197.
Wide character (U+50A8) in pattern match (m//) at /usr/home/cpansand/.cpan/build/2019111201/Text-WideChar-Util-0.170-0/blib/lib/Text/WideChar/Util.pm line 197.
Wide character (U+50A8) in pattern match (m//) at /usr/home/cpansand/.cpan/build/2019111201/Text-WideChar-Util-0.170-0/blib/lib/Text/WideChar/Util.pm line 197.
Wide character (U+50A8) in pattern match (m//) at /usr/home/cpansand/.cpan/build/2019111201/Text-WideChar-Util-0.170-0/blib/lib/Text/WideChar/Util.pm line 197.
Wide character (U+548C) in pattern match (m//) at /usr/home/cpansand/.cpan/build/2019111201/Text-WideChar-Util-0.170-0/blib/lib/Text/WideChar/Util.pm line 197.
Wide character (U+548C) in pattern match (m//) at /usr/home/cpansand/.cpan/build/2019111201/Text-WideChar-Util-0.170-0/blib/lib/Text/WideChar/Util.pm line 197.
Wide character (U+548C) in pattern match (m//) at /usr/home/cpansand/.cpan/build/2019111201/Text-WideChar-Util-0.170-0/blib/lib/Text/WideChar/Util.pm line 197.
Wide character (U+548C) in pattern match (m//) at /usr/home/cpansand/.cpan/build/2019111201/Text-WideChar-Util-0.170-0/blib/lib/Text/WideChar/Util.pm line 197.
Wide character (U+548C) in pattern match (m//) at /usr/home/cpansand/.cpan/build/2019111201/Text-WideChar-Util-0.170-0/blib/lib/Text/WideChar/Util.pm line 197.
Wide character (U+548C) in pattern match (m//) at /usr/home/cpansand/.cpan/build/2019111201/Text-WideChar-Util-0.170-0/blib/lib/Text/WideChar/Util.pm line 197.
Wide character (U+548C) in pattern match (m//) at /usr/home/cpansand/.cpan/build/2019111201/Text-WideChar-Util-0.170-0/blib/lib/Text/WideChar/Util.pm line 197.
Wide character (U+548C) in pattern match (m//) at /usr/home/cpansand/.cpan/build/2019111201/Text-WideChar-Util-0.170-0/blib/lib/Text/WideChar/Util.pm line 197.
Wide character (U+4FE1) in pattern match (m//) at /usr/home/cpansand/.cpan/build/2019111201/Text-WideChar-Util-0.170-0/blib/lib/Text/WideChar/Util.pm line 197.
Wide character (U+4FE1) in pattern match (m//) at /usr/home/cpansand/.cpan/build/2019111201/Text-WideChar-Util-0.170-0/blib/lib/Text/WideChar/Util.pm line 197.
Wide character (U+4FE1) in pattern match (m//) at /usr/home/cpansand/.cpan/build/2019111201/Text-WideChar-Util-0.170-0/blib/lib/Text/WideChar/Util.pm line 197.
Wide character (U+4FE1) in pattern match (m//) at /usr/home/cpansand/.cpan/build/2019111201/Text-WideChar-Util-0.170-0/blib/lib/Text/WideChar/Util.pm line 197.
Wide character (U+4FE1) in pattern match (m//) at /usr/home/cpansand/.cpan/build/2019111201/Text-WideChar-Util-0.170-0/blib/lib/Text/WideChar/Util.pm line 197.
Wide character (U+4FE1) in pattern match (m//) at /usr/home/cpansand/.cpan/build/2019111201/Text-WideChar-Util-0.170-0/blib/lib/Text/WideChar/Util.pm line 197.
Wide character (U+4FE1) in pattern match (m//) at /usr/home/cpansand/.cpan/build/2019111201/Text-WideChar-Util-0.170-0/blib/lib/Text/WideChar/Util.pm line 197.
Wide character (U+4FE1) in pattern match (m//) at /usr/home/cpansand/.cpan/build/2019111201/Text-WideChar-Util-0.170-0/blib/lib/Text/WideChar/Util.pm line 197.
Wide character (U+606F) in pattern match (m//) at /usr/home/cpansand/.cpan/build/2019111201/Text-WideChar-Util-0.170-0/blib/lib/Text/WideChar/Util.pm line 197.
Wide character (U+606F) in pattern match (m//) at /usr/home/cpansand/.cpan/build/2019111201/Text-WideChar-Util-0.170-0/blib/lib/Text/WideChar/Util.pm line 197.
Wide character (U+606F) in pattern match (m//) at /usr/home/cpansand/.cpan/build/2019111201/Text-WideChar-Util-0.170-0/blib/lib/Text/WideChar/Util.pm line 197.
Wide character (U+606F) in pattern match (m//) at /usr/home/cpansand/.cpan/build/2019111201/Text-WideChar-Util-0.170-0/blib/lib/Text/WideChar/Util.pm line 197.
Wide character (U+606F) in pattern match (m//) at /usr/home/cpansand/.cpan/build/2019111201/Text-WideChar-Util-0.170-0/blib/lib/Text/WideChar/Util.pm line 197.
Wide character (U+606F) in pattern match (m//) at /usr/home/cpansand/.cpan/build/2019111201/Text-WideChar-Util-0.170-0/blib/lib/Text/WideChar/Util.pm line 197.
Wide character (U+606F) in pattern match (m//) at /usr/home/cpansand/.cpan/build/2019111201/Text-WideChar-Util-0.170-0/blib/lib/Text/WideChar/Util.pm line 197.
Wide character (U+606F) in pattern match (m//) at /usr/home/cpansand/.cpan/build/2019111201/Text-WideChar-Util-0.170-0/blib/lib/Text/WideChar/Util.pm line 197.
Wide character (U+7BA1) in pattern match (m//) at /usr/home/cpansand/.cpan/build/2019111201/Text-WideChar-Util-0.170-0/blib/lib/Text/WideChar/Util.pm line 197.
Wide character (U+7BA1) in pattern match (m//) at /usr/home/cpansand/.cpan/build/2019111201/Text-WideChar-Util-0.170-0/blib/lib/Text/WideChar/Util.pm line 197.
Wide character (U+7BA1) in pattern match (m//) at /usr/home/cpansand/.cpan/build/2019111201/Text-WideChar-Util-0.170-0/blib/lib/Text/WideChar/Util.pm line 197.
Wide character (U+7BA1) in pattern match (m//) at /usr/home/cpansand/.cpan/build/2019111201/Text-WideChar-Util-0.170-0/blib/lib/Text/WideChar/Util.pm line 197.
Wide character (U+7BA1) in pattern match (m//) at /usr/home/cpansand/.cpan/build/2019111201/Text-WideChar-Util-0.170-0/blib/lib/Text/WideChar/Util.pm line 197.
Wide character (U+7BA1) in pattern match (m//) at /usr/home/cpansand/.cpan/build/2019111201/Text-WideChar-Util-0.170-0/blib/lib/Text/WideChar/Util.pm line 197.
Wide character (U+7BA1) in pattern match (m//) at /usr/home/cpansand/.cpan/build/2019111201/Text-WideChar-Util-0.170-0/blib/lib/Text/WideChar/Util.pm line 197.
Wide character (U+7BA1) in pattern match (m//) at /usr/home/cpansand/.cpan/build/2019111201/Text-WideChar-Util-0.170-0/blib/lib/Text/WideChar/Util.pm line 197.
Wide character (U+7406) in pattern match (m//) at /usr/home/cpansand/.cpan/build/2019111201/Text-WideChar-Util-0.170-0/blib/lib/Text/WideChar/Util.pm line 197.
Wide character (U+7406) in pattern match (m//) at /usr/home/cpansand/.cpan/build/2019111201/Text-WideChar-Util-0.170-0/blib/lib/Text/WideChar/Util.pm line 197.
Wide character (U+7406) in pattern match (m//) at /usr/home/cpansand/.cpan/build/2019111201/Text-WideChar-Util-0.170-0/blib/lib/Text/WideChar/Util.pm line 197.
Wide character (U+7406) in pattern match (m//) at /usr/home/cpansand/.cpan/build/2019111201/Text-WideChar-Util-0.170-0/blib/lib/Text/WideChar/Util.pm line 197.
Wide character (U+7406) in pattern match (m//) at /usr/home/cpansand/.cpan/build/2019111201/Text-WideChar-Util-0.170-0/blib/lib/Text/WideChar/Util.pm line 197.
Wide character (U+7406) in pattern match (m//) at /usr/home/cpansand/.cpan/build/2019111201/Text-WideChar-Util-0.170-0/blib/lib/Text/WideChar/Util.pm line 197.
Wide character (U+7406) in pattern match (m//) at /usr/home/cpansand/.cpan/build/2019111201/Text-WideChar-Util-0.170-0/blib/lib/Text/WideChar/Util.pm line 197.
Wide character (U+7406) in pattern match (m//) at /usr/home/cpansand/.cpan/build/2019111201/Text-WideChar-Util-0.170-0/blib/lib/Text/WideChar/Util.pm line 197.
Wide character (U+516C) in pattern match (m//) at /usr/home/cpansand/.cpan/build/2019111201/Text-WideChar-Util-0.170-0/blib/lib/Text/WideChar/Util.pm line 197.
Wide character (U+516C) in pattern match (m//) at /usr/home/cpansand/.cpan/build/2019111201/Text-WideChar-Util-0.170-0/blib/lib/Text/WideChar/Util.pm line 197.
Wide character (U+516C) in pattern match (m//) at /usr/home/cpansand/.cpan/build/2019111201/Text-WideChar-Util-0.170-0/blib/lib/Text/WideChar/Util.pm line 197.
Wide character (U+516C) in pattern match (m//) at /usr/home/cpansand/.cpan/build/2019111201/Text-WideChar-Util-0.170-0/blib/lib/Text/WideChar/Util.pm line 197.
Wide character (U+516C) in pattern match (m//) at /usr/home/cpansand/.cpan/build/2019111201/Text-WideChar-Util-0.170-0/blib/lib/Text/WideChar/Util.pm line 197.
Wide character (U+516C) in pattern match (m//) at /usr/home/cpansand/.cpan/build/2019111201/Text-WideChar-Util-0.170-0/blib/lib/Text/WideChar/Util.pm line 197.
Wide character (U+516C) in pattern match (m//) at /usr/home/cpansand/.cpan/build/2019111201/Text-WideChar-Util-0.170-0/blib/lib/Text/WideChar/Util.pm line 197.
Wide character (U+516C) in pattern match (m//) at /usr/home/cpansand/.cpan/build/2019111201/Text-WideChar-Util-0.170-0/blib/lib/Text/WideChar/Util.pm line 197.
Wide character (U+53F8) in pattern match (m//) at /usr/home/cpansand/.cpan/build/2019111201/Text-WideChar-Util-0.170-0/blib/lib/Text/WideChar/Util.pm line 197.
Wide character (U+53F8) in pattern match (m//) at /usr/home/cpansand/.cpan/build/2019111201/Text-WideChar-Util-0.170-0/blib/lib/Text/WideChar/Util.pm line 197.
Wide character (U+53F8) in pattern match (m//) at /usr/home/cpansand/.cpan/build/2019111201/Text-WideChar-Util-0.170-0/blib/lib/Text/WideChar/Util.pm line 197.
Wide character (U+53F8) in pattern match (m//) at /usr/home/cpansand/.cpan/build/2019111201/Text-WideChar-Util-0.170-0/blib/lib/Text/WideChar/Util.pm line 197.
Wide character (U+53F8) in pattern match (m//) at /usr/home/cpansand/.cpan/build/2019111201/Text-WideChar-Util-0.170-0/blib/lib/Text/WideChar/Util.pm line 197.
Wide character (U+53F8) in pattern match (m//) at /usr/home/cpansand/.cpan/build/2019111201/Text-WideChar-Util-0.170-0/blib/lib/Text/WideChar/Util.pm line 197.
Wide character (U+53F8) in pattern match (m//) at /usr/home/cpansand/.cpan/build/2019111201/Text-WideChar-Util-0.170-0/blib/lib/Text/WideChar/Util.pm line 197.
Wide character (U+53F8) in pattern match (m//) at /usr/home/cpansand/.cpan/build/2019111201/Text-WideChar-Util-0.170-0/blib/lib/Text/WideChar/Util.pm line 197.
Wide character (U+4F4D) in pattern match (m//) at /usr/home/cpansand/.cpan/build/2019111201/Text-WideChar-Util-0.170-0/blib/lib/Text/WideChar/Util.pm line 199.
Wide character (U+4E8E) in pattern match (m//) at /usr/home/cpansand/.cpan/build/2019111201/Text-WideChar-Util-0.170-0/blib/lib/Text/WideChar/Util.pm line 199.
Wide character (U+963F) in pattern match (m//) at /usr/home/cpansand/.cpan/build/2019111201/Text-WideChar-Util-0.170-0/blib/lib/Text/WideChar/Util.pm line 199.
Wide character (U+6839) in pattern match (m//) at /usr/home/cpansand/.cpan/build/2019111201/Text-WideChar-Util-0.170-0/blib/lib/Text/WideChar/Util.pm line 199.
Wide character (U+5EF7) in pattern match (m//) at /usr/home/cpansand/.cpan/build/2019111201/Text-WideChar-Util-0.170-0/blib/lib/Text/WideChar/Util.pm line 199.
Wide character (U+9996) in pattern match (m//) at /usr/home/cpansand/.cpan/build/2019111201/Text-WideChar-Util-0.170-0/blib/lib/Text/WideChar/Util.pm line 199.
Wide character (U+90FD) in pattern match (m//) at /usr/home/cpansand/.cpan/build/2019111201/Text-WideChar-Util-0.170-0/blib/lib/Text/WideChar/Util.pm line 199.
Wide character (U+5E03) in pattern match (m//) at /usr/home/cpansand/.cpan/build/2019111201/Text-WideChar-Util-0.170-0/blib/lib/Text/WideChar/Util.pm line 199.
Wide character (U+5B9C) in pattern match (m//) at /usr/home/cpansand/.cpan/build/2019111201/Text-WideChar-Util-0.170-0/blib/lib/Text/WideChar/Util.pm line 199.
Wide character (U+8BFA) in pattern match (m//) at /usr/home/cpansand/.cpan/build/2019111201/Text-WideChar-Util-0.170-0/blib/lib/Text/WideChar/Util.pm line 199.
Wide character (U+65AF) in pattern match (m//) at /usr/home/cpansand/.cpan/build/2019111201/Text-WideChar-Util-0.170-0/blib/lib/Text/WideChar/Util.pm line 199.
Wide character (U+827E) in pattern match (m//) at /usr/home/cpansand/.cpan/build/2019111201/Text-WideChar-Util-0.170-0/blib/lib/Text/WideChar/Util.pm line 199.
Wide character (U+5229) in pattern match (m//) at /usr/home/cpansand/.cpan/build/2019111201/Text-WideChar-Util-0.170-0/blib/lib/Text/WideChar/Util.pm line 199.
Wide character (U+65AF) in pattern match (m//) at /usr/home/cpansand/.cpan/build/2019111201/Text-WideChar-Util-0.170-0/blib/lib/Text/WideChar/Util.pm line 199.
Wide character (U+7684) in pattern match (m//) at /usr/home/cpansand/.cpan/build/2019111201/Text-WideChar-Util-0.170-0/blib/lib/Text/WideChar/Util.pm line 199.
Wide character (U+4E00) in pattern match (m//) at /usr/home/cpansand/.cpan/build/2019111201/Text-WideChar-Util-0.170-0/blib/lib/Text/WideChar/Util.pm line 199.
Wide character (U+4E2A) in pattern match (m//) at /usr/home/cpansand/.cpan/build/2019111201/Text-WideChar-Util-0.170-0/blib/lib/Text/WideChar/Util.pm line 199.
Wide character (U+5927) in pattern match (m//) at /usr/home/cpansand/.cpan/build/2019111201/Text-WideChar-Util-0.170-0/blib/lib/Text/WideChar/Util.pm line 199.
Wide character (U+6570) in pattern match (m//) at /usr/home/cpansand/.cpan/build/2019111201/Text-WideChar-Util-0.170-0/blib/lib/Text/WideChar/Util.pm line 199.
Wide character (U+636E) in pattern match (m//) at /usr/home/cpansand/.cpan/build/2019111201/Text-WideChar-Util-0.170-0/blib/lib/Text/WideChar/Util.pm line 199.
Wide character (U+4E2D) in pattern match (m//) at /usr/home/cpansand/.cpan/build/2019111201/Text-WideChar-Util-0.170-0/blib/lib/Text/WideChar/Util.pm line 199.
Wide character (U+5FC3) in pattern match (m//) at /usr/home/cpansand/.cpan/build/2019111201/Text-WideChar-Util-0.170-0/blib/lib/Text/WideChar/Util.pm line 199.
Wide character (U+5468) in pattern match (m//) at /usr/home/cpansand/.cpan/build/2019111201/Text-WideChar-Util-0.170-0/blib/lib/Text/WideChar/Util.pm line 199.
Wide character (U+4E09) in pattern match (m//) at /usr/home/cpansand/.cpan/build/2019111201/Text-WideChar-Util-0.170-0/blib/lib/Text/WideChar/Util.pm line 199.
Wide character (U+906D) in pattern match (m//) at /usr/home/cpansand/.cpan/build/2019111201/Text-WideChar-Util-0.170-0/blib/lib/Text/WideChar/Util.pm line 199.
Wide character (U+5927) in pattern match (m//) at /usr/home/cpansand/.cpan/build/2019111201/Text-WideChar-Util-0.170-0/blib/lib/Text/WideChar/Util.pm line 199.
Wide character (U+706B) in pattern match (m//) at /usr/home/cpansand/.cpan/build/2019111201/Text-WideChar-Util-0.170-0/blib/lib/Text/WideChar/Util.pm line 199.
Wide character (U+70E7) in pattern match (m//) at /usr/home/cpansand/.cpan/build/2019111201/Text-WideChar-Util-0.170-0/blib/lib/Text/WideChar/Util.pm line 199.
Wide character (U+6BC1) in pattern match (m//) at /usr/home/cpansand/.cpan/build/2019111201/Text-WideChar-Util-0.170-0/blib/lib/Text/WideChar/Util.pm line 199.
Wide character (U+FF0C) in pattern match (m//) at /usr/home/cpansand/.cpan/build/2019111201/Text-WideChar-Util-0.170-0/blib/lib/Text/WideChar/Util.pm line 199.
Wide character (U+4E5D) in pattern match (m//) at /usr/home/cpansand/.cpan/build/2019111201/Text-WideChar-Util-0.170-0/blib/lib/Text/WideChar/Util.pm line 199.
Wide character (U+540D) in pattern match (m//) at /usr/home/cpansand/.cpan/build/2019111201/Text-WideChar-Util-0.170-0/blib/lib/Text/WideChar/Util.pm line 199.
Wide character (U+6D88) in pattern match (m//) at /usr/home/cpansand/.cpan/build/2019111201/Text-WideChar-Util-0.170-0/blib/lib/Text/WideChar/Util.pm line 199.
Wide character (U+9632) in pattern match (m//) at /usr/home/cpansand/.cpan/build/2019111201/Text-WideChar-Util-0.170-0/blib/lib/Text/WideChar/Util.pm line 199.
Wide character (U+5458) in pattern match (m//) at /usr/home/cpansand/.cpan/build/2019111201/Text-WideChar-Util-0.170-0/blib/lib/Text/WideChar/Util.pm line 199.
Wide character (U+5728) in pattern match (m//) at /usr/home/cpansand/.cpan/build/2019111201/Text-WideChar-Util-0.170-0/blib/lib/Text/WideChar/Util.pm line 199.
Wide character (U+6551) in pattern match (m//) at /usr/home/cpansand/.cpan/build/2019111201/Text-WideChar-Util-0.170-0/blib/lib/Text/WideChar/Util.pm line 199.
Wide character (U+706B) in pattern match (m//) at /usr/home/cpansand/.cpan/build/2019111201/Text-WideChar-Util-0.170-0/blib/lib/Text/WideChar/Util.pm line 199.
Wide character (U+4E2D) in pattern match (m//) at /usr/home/cpansand/.cpan/build/2019111201/Text-WideChar-Util-0.170-0/blib/lib/Text/WideChar/Util.pm line 199.
Wide character (U+4E27) in pattern match (m//) at /usr/home/cpansand/.cpan/build/2019111201/Text-WideChar-Util-0.170-0/blib/lib/Text/WideChar/Util.pm line 199.
Wide character (U+751F) in pattern match (m//) at /usr/home/cpansand/.cpan/build/2019111201/Text-WideChar-Util-0.170-0/blib/lib/Text/WideChar/Util.pm line 199.
Wide character (U+FF0C) in pattern match (m//) at /usr/home/cpansand/.cpan/build/2019111201/Text-WideChar-Util-0.170-0/blib/lib/Text/WideChar/Util.pm line 199.
Wide character (U+4EBA) in pattern match (m//) at /usr/home/cpansand/.cpan/build/2019111201/Text-WideChar-Util-0.170-0/blib/lib/Text/WideChar/Util.pm line 199.
Wide character (U+5931) in pattern match (m//) at /usr/home/cpansand/.cpan/build/2019111201/Text-WideChar-Util-0.170-0/blib/lib/Text/WideChar/Util.pm line 199.
Wide character (U+8E2A) in pattern match (m//) at /usr/home/cpansand/.cpan/build/2019111201/Text-WideChar-Util-0.170-0/blib/lib/Text/WideChar/Util.pm line 199.
Wide character (U+FF0C) in pattern match (m//) at /usr/home/cpansand/.cpan/build/2019111201/Text-WideChar-Util-0.170-0/blib/lib/Text/WideChar/Util.pm line 199.
Wide character (U+4EBA) in pattern match (m//) at /usr/home/cpansand/.cpan/build/2019111201/Text-WideChar-Util-0.170-0/blib/lib/Text/WideChar/Util.pm line 199.
Wide character (U+53D7) in pattern match (m//) at /usr/home/cpansand/.cpan/build/2019111201/Text-WideChar-Util-0.170-0/blib/lib/Text/WideChar/Util.pm line 199.
Wide character (U+4F24) in pattern match (m//) at /usr/home/cpansand/.cpan/build/2019111201/Text-WideChar-Util-0.170-0/blib/lib/Text/WideChar/Util.pm line 199.
Wide character (U+3002) in pattern match (m//) at /usr/home/cpansand/.cpan/build/2019111201/Text-WideChar-Util-0.170-0/blib/lib/Text/WideChar/Util.pm line 199.
Wide character (U+6570) in pattern match (m//) at /usr/home/cpansand/.cpan/build/2019111201/Text-WideChar-Util-0.170-0/blib/lib/Text/WideChar/Util.pm line 199.
Wide character (U+636E) in pattern match (m//) at /usr/home/cpansand/.cpan/build/2019111201/Text-WideChar-Util-0.170-0/blib/lib/Text/WideChar/Util.pm line 199.
Wide character (U+4E2D) in pattern match (m//) at /usr/home/cpansand/.cpan/build/2019111201/Text-WideChar-Util-0.170-0/blib/lib/Text/WideChar/Util.pm line 199.
Wide character (U+5FC3) in pattern match (m//) at /usr/home/cpansand/.cpan/build/2019111201/Text-WideChar-Util-0.170-0/blib/lib/Text/WideChar/Util.pm line 199.
Wide character (U+50A8) in pattern match (m//) at /usr/home/cpansand/.cpan/build/2019111201/Text-WideChar-Util-0.170-0/blib/lib/Text/WideChar/Util.pm line 199.
Wide character (U+5B58) in pattern match (m//) at /usr/home/cpansand/.cpan/build/2019111201/Text-WideChar-Util-0.170-0/blib/lib/Text/WideChar/Util.pm line 199.
Wide character (U+4E86) in pattern match (m//) at /usr/home/cpansand/.cpan/build/2019111201/Text-WideChar-Util-0.170-0/blib/lib/Text/WideChar/Util.pm line 199.
Wide character (U+963F) in pattern match (m//) at /usr/home/cpansand/.cpan/build/2019111201/Text-WideChar-Util-0.170-0/blib/lib/Text/WideChar/Util.pm line 199.
Wide character (U+6839) in pattern match (m//) at /usr/home/cpansand/.cpan/build/2019111201/Text-WideChar-Util-0.170-0/blib/lib/Text/WideChar/Util.pm line 199.
Wide character (U+5EF7) in pattern match (m//) at /usr/home/cpansand/.cpan/build/2019111201/Text-WideChar-Util-0.170-0/blib/lib/Text/WideChar/Util.pm line 199.
Wide character (U+592E) in pattern match (m//) at /usr/home/cpansand/.cpan/build/2019111201/Text-WideChar-Util-0.170-0/blib/lib/Text/WideChar/Util.pm line 199.
Wide character (U+884C) in pattern match (m//) at /usr/home/cpansand/.cpan/build/2019111201/Text-WideChar-Util-0.170-0/blib/lib/Text/WideChar/Util.pm line 199.
Wide character (U+548C) in pattern match (m//) at /usr/home/cpansand/.cpan/build/2019111201/Text-WideChar-Util-0.170-0/blib/lib/Text/WideChar/Util.pm line 199.
Wide character (U+4F01) in pattern match (m//) at /usr/home/cpansand/.cpan/build/2019111201/Text-WideChar-Util-0.170-0/blib/lib/Text/WideChar/Util.pm line 199.
Wide character (U+4E1A) in pattern match (m//) at /usr/home/cpansand/.cpan/build/2019111201/Text-WideChar-Util-0.170-0/blib/lib/Text/WideChar/Util.pm line 199.
Wide character (U+6863) in pattern match (m//) at /usr/home/cpansand/.cpan/build/2019111201/Text-WideChar-Util-0.170-0/blib/lib/Text/WideChar/Util.pm line 199.
Wide character (U+6848) in pattern match (m//) at /usr/home/cpansand/.cpan/build/2019111201/Text-WideChar-Util-0.170-0/blib/lib/Text/WideChar/Util.pm line 199.
Wide character (U+FF0C) in pattern match (m//) at /usr/home/cpansand/.cpan/build/2019111201/Text-WideChar-Util-0.170-0/blib/lib/Text/WideChar/Util.pm line 199.
Wide character (U+56E0) in pattern match (m//) at /usr/home/cpansand/.cpan/build/2019111201/Text-WideChar-Util-0.170-0/blib/lib/Text/WideChar/Util.pm line 199.
Wide character (U+6B64) in pattern match (m//) at /usr/home/cpansand/.cpan/build/2019111201/Text-WideChar-Util-0.170-0/blib/lib/Text/WideChar/Util.pm line 199.
Wide character (U+635F) in pattern match (m//) at /usr/home/cpansand/.cpan/build/2019111201/Text-WideChar-Util-0.170-0/blib/lib/Text/WideChar/Util.pm line 199.
Wide character (U+5931) in pattern match (m//) at /usr/home/cpansand/.cpan/build/2019111201/Text-WideChar-Util-0.170-0/blib/lib/Text/WideChar/Util.pm line 199.
Wide character (U+53EF) in pattern match (m//) at /usr/home/cpansand/.cpan/build/2019111201/Text-WideChar-Util-0.170-0/blib/lib/Text/WideChar/Util.pm line 199.
Wide character (U+80FD) in pattern match (m//) at /usr/home/cpansand/.cpan/build/2019111201/Text-WideChar-Util-0.170-0/blib/lib/Text/WideChar/Util.pm line 199.
Wide character (U+975E) in pattern match (m//) at /usr/home/cpansand/.cpan/build/2019111201/Text-WideChar-Util-0.170-0/blib/lib/Text/WideChar/Util.pm line 199.
Wide character (U+5E38) in pattern match (m//) at /usr/home/cpansand/.cpan/build/2019111201/Text-WideChar-Util-0.170-0/blib/lib/Text/WideChar/Util.pm line 199.
Wide character (U+5DE8) in pattern match (m//) at /usr/home/cpansand/.cpan/build/2019111201/Text-WideChar-Util-0.170-0/blib/lib/Text/WideChar/Util.pm line 199.
Wide character (U+5927) in pattern match (m//) at /usr/home/cpansand/.cpan/build/2019111201/Text-WideChar-Util-0.170-0/blib/lib/Text/WideChar/Util.pm line 199.
Wide character (U+3002) in pattern match (m//) at /usr/home/cpansand/.cpan/build/2019111201/Text-WideChar-Util-0.170-0/blib/lib/Text/WideChar/Util.pm line 199.
Wide character (U+8FD9) in pattern match (m//) at /usr/home/cpansand/.cpan/build/2019111201/Text-WideChar-Util-0.170-0/blib/lib/Text/WideChar/Util.pm line 199.
Wide character (U+4E2A) in pattern match (m//) at /usr/home/cpansand/.cpan/build/2019111201/Text-WideChar-Util-0.170-0/blib/lib/Text/WideChar/Util.pm line 199.
Wide character (U+6570) in pattern match (m//) at /usr/home/cpansand/.cpan/build/2019111201/Text-WideChar-Util-0.170-0/blib/lib/Text/WideChar/Util.pm line 199.
Wide character (U+636E) in pattern match (m//) at /usr/home/cpansand/.cpan/build/2019111201/Text-WideChar-Util-0.170-0/blib/lib/Text/WideChar/Util.pm line 199.
Wide character (U+4E2D) in pattern match (m//) at /usr/home/cpansand/.cpan/build/2019111201/Text-WideChar-Util-0.170-0/blib/lib/Text/WideChar/Util.pm line 199.
Wide character (U+5FC3) in pattern match (m//) at /usr/home/cpansand/.cpan/build/2019111201/Text-WideChar-Util-0.170-0/blib/lib/Text/WideChar/Util.pm line 199.
Wide character (U+914D) in pattern match (m//) at /usr/home/cpansand/.cpan/build/2019111201/Text-WideChar-Util-0.170-0/blib/lib/Text/WideChar/Util.pm line 199.
Wide character (U+5907) in pattern match (m//) at /usr/home/cpansand/.cpan/build/2019111201/Text-WideChar-Util-0.170-0/blib/lib/Text/WideChar/Util.pm line 199.
Wide character (U+4E86) in pattern match (m//) at /usr/home/cpansand/.cpan/build/2019111201/Text-WideChar-Util-0.170-0/blib/lib/Text/WideChar/Util.pm line 199.
Wide character (U+79C1) in pattern match (m//) at /usr/home/cpansand/.cpan/build/2019111201/Text-WideChar-Util-0.170-0/blib/lib/Text/WideChar/Util.pm line 199.
Wide character (U+4EBA) in pattern match (m//) at /usr/home/cpansand/.cpan/build/2019111201/Text-WideChar-Util-0.170-0/blib/lib/Text/WideChar/Util.pm line 199.
Wide character (U+7684) in pattern match (m//) at /usr/home/cpansand/.cpan/build/2019111201/Text-WideChar-Util-0.170-0/blib/lib/Text/WideChar/Util.pm line 199.
Wide character (U+6551) in pattern match (m//) at /usr/home/cpansand/.cpan/build/2019111201/Text-WideChar-Util-0.170-0/blib/lib/Text/WideChar/Util.pm line 199.
Wide character (U+706B) in pattern match (m//) at /usr/home/cpansand/.cpan/build/2019111201/Text-WideChar-Util-0.170-0/blib/lib/Text/WideChar/Util.pm line 199.
Wide character (U+961F) in pattern match (m//) at /usr/home/cpansand/.cpan/build/2019111201/Text-WideChar-Util-0.170-0/blib/lib/Text/WideChar/Util.pm line 199.
Wide character (U+FF0C) in pattern match (m//) at /usr/home/cpansand/.cpan/build/2019111201/Text-WideChar-Util-0.170-0/blib/lib/Text/WideChar/Util.pm line 199.
Wide character (U+81EA) in pattern match (m//) at /usr/home/cpansand/.cpan/build/2019111201/Text-WideChar-Util-0.170-0/blib/lib/Text/WideChar/Util.pm line 199.
Wide character (U+52A8) in pattern match (m//) at /usr/home/cpansand/.cpan/build/2019111201/Text-WideChar-Util-0.170-0/blib/lib/Text/WideChar/Util.pm line 199.
Wide character (U+55B7) in pattern match (m//) at /usr/home/cpansand/.cpan/build/2019111201/Text-WideChar-Util-0.170-0/blib/lib/Text/WideChar/Util.pm line 199.
Wide character (U+6C34) in pattern match (m//) at /usr/home/cpansand/.cpan/build/2019111201/Text-WideChar-Util-0.170-0/blib/lib/Text/WideChar/Util.pm line 199.
Wide character (U+706D) in pattern match (m//) at /usr/home/cpansand/.cpan/build/2019111201/Text-WideChar-Util-0.170-0/blib/lib/Text/WideChar/Util.pm line 199.
Wide character (U+706B) in pattern match (m//) at /usr/home/cpansand/.cpan/build/2019111201/Text-WideChar-Util-0.170-0/blib/lib/Text/WideChar/Util.pm line 199.
Wide character (U+7CFB) in pattern match (m//) at /usr/home/cpansand/.cpan/build/2019111201/Text-WideChar-Util-0.170-0/blib/lib/Text/WideChar/Util.pm line 199.
Wide character (U+7EDF) in pattern match (m//) at /usr/home/cpansand/.cpan/build/2019111201/Text-WideChar-Util-0.170-0/blib/lib/Text/WideChar/Util.pm line 199.
Wide character (U+FF0C) in pattern match (m//) at /usr/home/cpansand/.cpan/build/2019111201/Text-WideChar-Util-0.170-0/blib/lib/Text/WideChar/Util.pm line 199.
Wide character (U+706B) in pattern match (m//) at /usr/home/cpansand/.cpan/build/2019111201/Text-WideChar-Util-0.170-0/blib/lib/Text/WideChar/Util.pm line 199.
Wide character (U+707E) in pattern match (m//) at /usr/home/cpansand/.cpan/build/2019111201/Text-WideChar-Util-0.170-0/blib/lib/Text/WideChar/Util.pm line 199.
Wide character (U+63A7) in pattern match (m//) at /usr/home/cpansand/.cpan/build/2019111201/Text-WideChar-Util-0.170-0/blib/lib/Text/WideChar/Util.pm line 199.
Wide character (U+5236) in pattern match (m//) at /usr/home/cpansand/.cpan/build/2019111201/Text-WideChar-Util-0.170-0/blib/lib/Text/WideChar/Util.pm line 199.
Wide character (U+7CFB) in pattern match (m//) at /usr/home/cpansand/.cpan/build/2019111201/Text-WideChar-Util-0.170-0/blib/lib/Text/WideChar/Util.pm line 199.
Wide character (U+7EDF) in pattern match (m//) at /usr/home/cpansand/.cpan/build/2019111201/Text-WideChar-Util-0.170-0/blib/lib/Text/WideChar/Util.pm line 199.
Wide character (U+4EE5) in pattern match (m//) at /usr/home/cpansand/.cpan/build/2019111201/Text-WideChar-Util-0.170-0/blib/lib/Text/WideChar/Util.pm line 199.
Wide character (U+53CA) in pattern match (m//) at /usr/home/cpansand/.cpan/build/2019111201/Text-WideChar-Util-0.170-0/blib/lib/Text/WideChar/Util.pm line 199.
Wide character (U+5176) in pattern match (m//) at /usr/home/cpansand/.cpan/build/2019111201/Text-WideChar-Util-0.170-0/blib/lib/Text/WideChar/Util.pm line 199.
Wide character (U+5B83) in pattern match (m//) at /usr/home/cpansand/.cpan/build/2019111201/Text-WideChar-Util-0.170-0/blib/lib/Text/WideChar/Util.pm line 199.
Wide character (U+706B) in pattern match (m//) at /usr/home/cpansand/.cpan/build/2019111201/Text-WideChar-Util-0.170-0/blib/lib/Text/WideChar/Util.pm line 199.
Wide character (U+707E) in pattern match (m//) at /usr/home/cpansand/.cpan/build/2019111201/Text-WideChar-Util-0.170-0/blib/lib/Text/WideChar/Util.pm line 199.
Wide character (U+9884) in pattern match (m//) at /usr/home/cpansand/.cpan/build/2019111201/Text-WideChar-Util-0.170-0/blib/lib/Text/WideChar/Util.pm line 199.
Wide character (U+9632) in pattern match (m//) at /usr/home/cpansand/.cpan/build/2019111201/Text-WideChar-Util-0.170-0/blib/lib/Text/WideChar/Util.pm line 199.
Wide character (U+7684) in pattern match (m//) at /usr/home/cpansand/.cpan/build/2019111201/Text-WideChar-Util-0.170-0/blib/lib/Text/WideChar/Util.pm line 199.
Wide character (U+63AA) in pattern match (m//) at /usr/home/cpansand/.cpan/build/2019111201/Text-WideChar-Util-0.170-0/blib/lib/Text/WideChar/Util.pm line 199.
Wide character (U+65BD) in pattern match (m//) at /usr/home/cpansand/.cpan/build/2019111201/Text-WideChar-Util-0.170-0/blib/lib/Text/WideChar/Util.pm line 199.
Wide character (U+3002) in pattern match (m//) at /usr/home/cpansand/.cpan/build/2019111201/Text-WideChar-Util-0.170-0/blib/lib/Text/WideChar/Util.pm line 199.
Wide character (U+4F46) in pattern match (m//) at /usr/home/cpansand/.cpan/build/2019111201/Text-WideChar-Util-0.170-0/blib/lib/Text/WideChar/Util.pm line 199.
Wide character (U+5373) in pattern match (m//) at /usr/home/cpansand/.cpan/build/2019111201/Text-WideChar-Util-0.170-0/blib/lib/Text/WideChar/Util.pm line 199.
Wide character (U+4FBF) in pattern match (m//) at /usr/home/cpansand/.cpan/build/2019111201/Text-WideChar-Util-0.170-0/blib/lib/Text/WideChar/Util.pm line 199.
Wide character (U+5982) in pattern match (m//) at /usr/home/cpansand/.cpan/build/2019111201/Text-WideChar-Util-0.170-0/blib/lib/Text/WideChar/Util.pm line 199.
Wide character (U+6B64) in pattern match (m//) at /usr/home/cpansand/.cpan/build/2019111201/Text-WideChar-Util-0.170-0/blib/lib/Text/WideChar/Util.pm line 199.
Wide character (U+FF0C) in pattern match (m//) at /usr/home/cpansand/.cpan/build/2019111201/Text-WideChar-Util-0.170-0/blib/lib/Text/WideChar/Util.pm line 199.
Wide character (U+4ECD) in pattern match (m//) at /usr/home/cpansand/.cpan/build/2019111201/Text-WideChar-Util-0.170-0/blib/lib/Text/WideChar/Util.pm line 199.
Wide character (U+7136) in pattern match (m//) at /usr/home/cpansand/.cpan/build/2019111201/Text-WideChar-Util-0.170-0/blib/lib/Text/WideChar/Util.pm line 199.
Wide character (U+6CA1) in pattern match (m//) at /usr/home/cpansand/.cpan/build/2019111201/Text-WideChar-Util-0.170-0/blib/lib/Text/WideChar/Util.pm line 199.
Wide character (U+6709) in pattern match (m//) at /usr/home/cpansand/.cpan/build/2019111201/Text-WideChar-Util-0.170-0/blib/lib/Text/WideChar/Util.pm line 199.
Wide character (U+9884) in pattern match (m//) at /usr/home/cpansand/.cpan/build/2019111201/Text-WideChar-Util-0.170-0/blib/lib/Text/WideChar/Util.pm line 199.
Wide character (U+9632) in pattern match (m//) at /usr/home/cpansand/.cpan/build/2019111201/Text-WideChar-Util-0.170-0/blib/lib/Text/WideChar/Util.pm line 199.
Wide character (U+707E) in pattern match (m//) at /usr/home/cpansand/.cpan/build/2019111201/Text-WideChar-Util-0.170-0/blib/lib/Text/WideChar/Util.pm line 199.
Wide character (U+96BE) in pattern match (m//) at /usr/home/cpansand/.cpan/build/2019111201/Text-WideChar-Util-0.170-0/blib/lib/Text/WideChar/Util.pm line 199.
Wide character (U+7684) in pattern match (m//) at /usr/home/cpansand/.cpan/build/2019111201/Text-WideChar-Util-0.170-0/blib/lib/Text/WideChar/Util.pm line 199.
Wide character (U+53D1) in pattern match (m//) at /usr/home/cpansand/.cpan/build/2019111201/Text-WideChar-Util-0.170-0/blib/lib/Text/WideChar/Util.pm line 199.
Wide character (U+751F) in pattern match (m//) at /usr/home/cpansand/.cpan/build/2019111201/Text-WideChar-Util-0.170-0/blib/lib/Text/WideChar/Util.pm line 199.
Wide character (U+3002) in pattern match (m//) at /usr/home/cpansand/.cpan/build/2019111201/Text-WideChar-Util-0.170-0/blib/lib/Text/WideChar/Util.pm line 199.
Wide character (U+76EE) in pattern match (m//) at /usr/home/cpansand/.cpan/build/2019111201/Text-WideChar-Util-0.170-0/blib/lib/Text/WideChar/Util.pm line 199.
Wide character (U+524D) in pattern match (m//) at /usr/home/cpansand/.cpan/build/2019111201/Text-WideChar-Util-0.170-0/blib/lib/Text/WideChar/Util.pm line 199.
Wide character (U+8FD8) in pattern match (m//) at /usr/home/cpansand/.cpan/build/2019111201/Text-WideChar-Util-0.170-0/blib/lib/Text/WideChar/Util.pm line 199.
Wide character (U+4E0D) in pattern match (m//) at /usr/home/cpansand/.cpan/build/2019111201/Text-WideChar-Util-0.170-0/blib/lib/Text/WideChar/Util.pm line 199.
Wide character (U+6E05) in pattern match (m//) at /usr/home/cpansand/.cpan/build/2019111201/Text-WideChar-Util-0.170-0/blib/lib/Text/WideChar/Util.pm line 199.
Wide character (U+695A) in pattern match (m//) at /usr/home/cpansand/.cpan/build/2019111201/Text-WideChar-Util-0.170-0/blib/lib/Text/WideChar/Util.pm line 199.
Wide character (U+6570) in pattern match (m//) at /usr/home/cpansand/.cpan/build/2019111201/Text-WideChar-Util-0.170-0/blib/lib/Text/WideChar/Util.pm line 199.
Wide character (U+636E) in pattern match (m//) at /usr/home/cpansand/.cpan/build/2019111201/Text-WideChar-Util-0.170-0/blib/lib/Text/WideChar/Util.pm line 199.
Wide character (U+4E2D) in pattern match (m//) at /usr/home/cpansand/.cpan/build/2019111201/Text-WideChar-Util-0.170-0/blib/lib/Text/WideChar/Util.pm line 199.
Wide character (U+5FC3) in pattern match (m//) at /usr/home/cpansand/.cpan/build/2019111201/Text-WideChar-Util-0.170-0/blib/lib/Text/WideChar/Util.pm line 199.
Wide character (U+8D77) in pattern match (m//) at /usr/home/cpansand/.cpan/build/2019111201/Text-WideChar-Util-0.170-0/blib/lib/Text/WideChar/Util.pm line 199.
Wide character (U+706B) in pattern match (m//) at /usr/home/cpansand/.cpan/build/2019111201/Text-WideChar-Util-0.170-0/blib/lib/Text/WideChar/Util.pm line 199.
Wide character (U+7684) in pattern match (m//) at /usr/home/cpansand/.cpan/build/2019111201/Text-WideChar-Util-0.170-0/blib/lib/Text/WideChar/Util.pm line 199.
Wide character (U+539F) in pattern match (m//) at /usr/home/cpansand/.cpan/build/2019111201/Text-WideChar-Util-0.170-0/blib/lib/Text/WideChar/Util.pm line 199.
Wide character (U+56E0) in pattern match (m//) at /usr/home/cpansand/.cpan/build/2019111201/Text-WideChar-Util-0.170-0/blib/lib/Text/WideChar/Util.pm line 199.
Wide character (U+3002) in pattern match (m//) at /usr/home/cpansand/.cpan/build/2019111201/Text-WideChar-Util-0.170-0/blib/lib/Text/WideChar/Util.pm line 199.
Wide character (U+4F4D) in pattern match (m//) at /usr/home/cpansand/.cpan/build/2019111201/Text-WideChar-Util-0.170-0/blib/lib/Text/WideChar/Util.pm line 203.
Wide character (U+4F4D) in pattern match (m//) at /usr/home/cpansand/.cpan/build/2019111201/Text-WideChar-Util-0.170-0/blib/lib/Text/WideChar/Util.pm line 205.
Wide character (U+4E8E) in pattern match (m//) at /usr/home/cpansand/.cpan/build/2019111201/Text-WideChar-Util-0.170-0/blib/lib/Text/WideChar/Util.pm line 205.
Wide character (U+963F) in pattern match (m//) at /usr/home/cpansand/.cpan/build/2019111201/Text-WideChar-Util-0.170-0/blib/lib/Text/WideChar/Util.pm line 205.
Wide character (U+6839) in pattern match (m//) at /usr/home/cpansand/.cpan/build/2019111201/Text-WideChar-Util-0.170-0/blib/lib/Text/WideChar/Util.pm line 205.
Wide character (U+5EF7) in pattern match (m//) at /usr/home/cpansand/.cpan/build/2019111201/Text-WideChar-Util-0.170-0/blib/lib/Text/WideChar/Util.pm line 205.
Wide character (U+9996) in pattern match (m//) at /usr/home/cpansand/.cpan/build/2019111201/Text-WideChar-Util-0.170-0/blib/lib/Text/WideChar/Util.pm line 205.
Wide character (U+90FD) in pattern match (m//) at /usr/home/cpansand/.cpan/build/2019111201/Text-WideChar-Util-0.170-0/blib/lib/Text/WideChar/Util.pm line 205.
Wide character (U+5E03) in pattern match (m//) at /usr/home/cpansand/.cpan/build/2019111201/Text-WideChar-Util-0.170-0/blib/lib/Text/WideChar/Util.pm line 205.
Wide character (U+5B9C) in pattern match (m//) at /usr/home/cpansand/.cpan/build/2019111201/Text-WideChar-Util-0.170-0/blib/lib/Text/WideChar/Util.pm line 205.
Wide character (U+8BFA) in pattern match (m//) at /usr/home/cpansand/.cpan/build/2019111201/Text-WideChar-Util-0.170-0/blib/lib/Text/WideChar/Util.pm line 205.
Wide character (U+65AF) in pattern match (m//) at /usr/home/cpansand/.cpan/build/2019111201/Text-WideChar-Util-0.170-0/blib/lib/Text/WideChar/Util.pm line 205.
Wide character (U+827E) in pattern match (m//) at /usr/home/cpansand/.cpan/build/2019111201/Text-WideChar-Util-0.170-0/blib/lib/Text/WideChar/Util.pm line 205.
Wide character (U+5229) in pattern match (m//) at /usr/home/cpansand/.cpan/build/2019111201/Text-WideChar-Util-0.170-0/blib/lib/Text/WideChar/Util.pm line 205.
Wide character (U+65AF) in pattern match (m//) at /usr/home/cpansand/.cpan/build/2019111201/Text-WideChar-Util-0.170-0/blib/lib/Text/WideChar/Util.pm line 205.
Wide character (U+7684) in pattern match (m//) at /usr/home/cpansand/.cpan/build/2019111201/Text-WideChar-Util-0.170-0/blib/lib/Text/WideChar/Util.pm line 205.
Wide character (U+4E00) in pattern match (m//) at /usr/home/cpansand/.cpan/build/2019111201/Text-WideChar-Util-0.170-0/blib/lib/Text/WideChar/Util.pm line 205.
Wide character (U+4E2A) in pattern match (m//) at /usr/home/cpansand/.cpan/build/2019111201/Text-WideChar-Util-0.170-0/blib/lib/Text/WideChar/Util.pm line 205.
Wide character (U+5927) in pattern match (m//) at /usr/home/cpansand/.cpan/build/2019111201/Text-WideChar-Util-0.170-0/blib/lib/Text/WideChar/Util.pm line 205.
Wide character (U+6570) in pattern match (m//) at /usr/home/cpansand/.cpan/build/2019111201/Text-WideChar-Util-0.170-0/blib/lib/Text/WideChar/Util.pm line 205.
Wide character (U+636E) in pattern match (m//) at /usr/home/cpansand/.cpan/build/2019111201/Text-WideChar-Util-0.170-0/blib/lib/Text/WideChar/Util.pm line 205.
Wide character (U+4E2D) in pattern match (m//) at /usr/home/cpansand/.cpan/build/2019111201/Text-WideChar-Util-0.170-0/blib/lib/Text/WideChar/Util.pm line 205.
Wide character (U+5FC3) in pattern match (m//) at /usr/home/cpansand/.cpan/build/2019111201/Text-WideChar-Util-0.170-0/blib/lib/Text/WideChar/Util.pm line 205.
Wide character (U+5468) in pattern match (m//) at /usr/home/cpansand/.cpan/build/2019111201/Text-WideChar-Util-0.170-0/blib/lib/Text/WideChar/Util.pm line 205.
Wide character (U+4E09) in pattern match (m//) at /usr/home/cpansand/.cpan/build/2019111201/Text-WideChar-Util-0.170-0/blib/lib/Text/WideChar/Util.pm line 205.
Wide character (U+906D) in pattern match (m//) at /usr/home/cpansand/.cpan/build/2019111201/Text-WideChar-Util-0.170-0/blib/lib/Text/WideChar/Util.pm line 205.
Wide character (U+5927) in pattern match (m//) at /usr/home/cpansand/.cpan/build/2019111201/Text-WideChar-Util-0.170-0/blib/lib/Text/WideChar/Util.pm line 205.
Wide character (U+706B) in pattern match (m//) at /usr/home/cpansand/.cpan/build/2019111201/Text-WideChar-Util-0.170-0/blib/lib/Text/WideChar/Util.pm line 205.
Wide character (U+70E7) in pattern match (m//) at /usr/home/cpansand/.cpan/build/2019111201/Text-WideChar-Util-0.170-0/blib/lib/Text/WideChar/Util.pm line 205.
Wide character (U+6BC1) in pattern match (m//) at /usr/home/cpansand/.cpan/build/2019111201/Text-WideChar-Util-0.170-0/blib/lib/Text/WideChar/Util.pm line 205.
Wide character (U+FF0C) in pattern match (m//) at /usr/home/cpansand/.cpan/build/2019111201/Text-WideChar-Util-0.170-0/blib/lib/Text/WideChar/Util.pm line 205.
Wide character (U+4E5D) in pattern match (m//) at /usr/home/cpansand/.cpan/build/2019111201/Text-WideChar-Util-0.170-0/blib/lib/Text/WideChar/Util.pm line 205.
Wide character (U+540D) in pattern match (m//) at /usr/home/cpansand/.cpan/build/2019111201/Text-WideChar-Util-0.170-0/blib/lib/Text/WideChar/Util.pm line 205.
Wide character (U+6D88) in pattern match (m//) at /usr/home/cpansand/.cpan/build/2019111201/Text-WideChar-Util-0.170-0/blib/lib/Text/WideChar/Util.pm line 205.
Wide character (U+9632) in pattern match (m//) at /usr/home/cpansand/.cpan/build/2019111201/Text-WideChar-Util-0.170-0/blib/lib/Text/WideChar/Util.pm line 205.
Wide character (U+5458) in pattern match (m//) at /usr/home/cpansand/.cpan/build/2019111201/Text-WideChar-Util-0.170-0/blib/lib/Text/WideChar/Util.pm line 205.
Wide character (U+5728) in pattern match (m//) at /usr/home/cpansand/.cpan/build/2019111201/Text-WideChar-Util-0.170-0/blib/lib/Text/WideChar/Util.pm line 205.
Wide character (U+6551) in pattern match (m//) at /usr/home/cpansand/.cpan/build/2019111201/Text-WideChar-Util-0.170-0/blib/lib/Text/WideChar/Util.pm line 205.
Wide character (U+706B) in pattern match (m//) at /usr/home/cpansand/.cpan/build/2019111201/Text-WideChar-Util-0.170-0/blib/lib/Text/WideChar/Util.pm line 205.
Wide character (U+4E2D) in pattern match (m//) at /usr/home/cpansand/.cpan/build/2019111201/Text-WideChar-Util-0.170-0/blib/lib/Text/WideChar/Util.pm line 205.
Wide character (U+4E27) in pattern match (m//) at /usr/home/cpansand/.cpan/build/2019111201/Text-WideChar-Util-0.170-0/blib/lib/Text/WideChar/Util.pm line 205.
Wide character (U+751F) in pattern match (m//) at /usr/home/cpansand/.cpan/build/2019111201/Text-WideChar-Util-0.170-0/blib/lib/Text/WideChar/Util.pm line 205.
Wide character (U+FF0C) in pattern match (m//) at /usr/home/cpansand/.cpan/build/2019111201/Text-WideChar-Util-0.170-0/blib/lib/Text/WideChar/Util.pm line 205.
Wide character (U+4EBA) in pattern match (m//) at /usr/home/cpansand/.cpan/build/2019111201/Text-WideChar-Util-0.170-0/blib/lib/Text/WideChar/Util.pm line 205.
Wide character (U+4EBA) in pattern match (m//) at /usr/home/cpansand/.cpan/build/2019111201/Text-WideChar-Util-0.170-0/blib/lib/Text/WideChar/Util.pm line 205.
Wide character (U+5931) in pattern match (m//) at /usr/home/cpansand/.cpan/build/2019111201/Text-WideChar-Util-0.170-0/blib/lib/Text/WideChar/Util.pm line 205.
Wide character (U+8E2A) in pattern match (m//) at /usr/home/cpansand/.cpan/build/2019111201/Text-WideChar-Util-0.170-0/blib/lib/Text/WideChar/Util.pm line 205.
Wide character (U+FF0C) in pattern match (m//) at /usr/home/cpansand/.cpan/build/2019111201/Text-WideChar-Util-0.170-0/blib/lib/Text/WideChar/Util.pm line 205.
Wide character (U+4EBA) in pattern match (m//) at /usr/home/cpansand/.cpan/build/2019111201/Text-WideChar-Util-0.170-0/blib/lib/Text/WideChar/Util.pm line 205.
Wide character (U+4EBA) in pattern match (m//) at /usr/home/cpansand/.cpan/build/2019111201/Text-WideChar-Util-0.170-0/blib/lib/Text/WideChar/Util.pm line 205.
Wide character (U+53D7) in pattern match (m//) at /usr/home/cpansand/.cpan/build/2019111201/Text-WideChar-Util-0.170-0/blib/lib/Text/WideChar/Util.pm line 205.
Wide character (U+4F24) in pattern match (m//) at /usr/home/cpansand/.cpan/build/2019111201/Text-WideChar-Util-0.170-0/blib/lib/Text/WideChar/Util.pm line 205.
Wide character (U+3002) in pattern match (m//) at /usr/home/cpansand/.cpan/build/2019111201/Text-WideChar-Util-0.170-0/blib/lib/Text/WideChar/Util.pm line 205.
Wide character (U+6570) in pattern match (m//) at /usr/home/cpansand/.cpan/build/2019111201/Text-WideChar-Util-0.170-0/blib/lib/Text/WideChar/Util.pm line 205.
Wide character (U+636E) in pattern match (m//) at /usr/home/cpansand/.cpan/build/2019111201/Text-WideChar-Util-0.170-0/blib/lib/Text/WideChar/Util.pm line 205.
Wide character (U+4E2D) in pattern match (m//) at /usr/home/cpansand/.cpan/build/2019111201/Text-WideChar-Util-0.170-0/blib/lib/Text/WideChar/Util.pm line 205.
Wide character (U+5FC3) in pattern match (m//) at /usr/home/cpansand/.cpan/build/2019111201/Text-WideChar-Util-0.170-0/blib/lib/Text/WideChar/Util.pm line 205.
Wide character (U+50A8) in pattern match (m//) at /usr/home/cpansand/.cpan/build/2019111201/Text-WideChar-Util-0.170-0/blib/lib/Text/WideChar/Util.pm line 205.
Wide character (U+5B58) in pattern match (m//) at /usr/home/cpansand/.cpan/build/2019111201/Text-WideChar-Util-0.170-0/blib/lib/Text/WideChar/Util.pm line 205.
Wide character (U+4E86) in pattern match (m//) at /usr/home/cpansand/.cpan/build/2019111201/Text-WideChar-Util-0.170-0/blib/lib/Text/WideChar/Util.pm line 205.
Wide character (U+963F) in pattern match (m//) at /usr/home/cpansand/.cpan/build/2019111201/Text-WideChar-Util-0.170-0/blib/lib/Text/WideChar/Util.pm line 205.
Wide character (U+6839) in pattern match (m//) at /usr/home/cpansand/.cpan/build/2019111201/Text-WideChar-Util-0.170-0/blib/lib/Text/WideChar/Util.pm line 205.
Wide character (U+5EF7) in pattern match (m//) at /usr/home/cpansand/.cpan/build/2019111201/Text-WideChar-Util-0.170-0/blib/lib/Text/WideChar/Util.pm line 205.
Wide character (U+592E) in pattern match (m//) at /usr/home/cpansand/.cpan/build/2019111201/Text-WideChar-Util-0.170-0/blib/lib/Text/WideChar/Util.pm line 205.
Wide character (U+884C) in pattern match (m//) at /usr/home/cpansand/.cpan/build/2019111201/Text-WideChar-Util-0.170-0/blib/lib/Text/WideChar/Util.pm line 205.
Wide character (U+548C) in pattern match (m//) at /usr/home/cpansand/.cpan/build/2019111201/Text-WideChar-Util-0.170-0/blib/lib/Text/WideChar/Util.pm line 205.
Wide character (U+4F01) in pattern match (m//) at /usr/home/cpansand/.cpan/build/2019111201/Text-WideChar-Util-0.170-0/blib/lib/Text/WideChar/Util.pm line 205.
Wide character (U+4E1A) in pattern match (m//) at /usr/home/cpansand/.cpan/build/2019111201/Text-WideChar-Util-0.170-0/blib/lib/Text/WideChar/Util.pm line 205.
Wide character (U+6863) in pattern match (m//) at /usr/home/cpansand/.cpan/build/2019111201/Text-WideChar-Util-0.170-0/blib/lib/Text/WideChar/Util.pm line 205.
Wide character (U+6848) in pattern match (m//) at /usr/home/cpansand/.cpan/build/2019111201/Text-WideChar-Util-0.170-0/blib/lib/Text/WideChar/Util.pm line 205.
Wide character (U+FF0C) in pattern match (m//) at /usr/home/cpansand/.cpan/build/2019111201/Text-WideChar-Util-0.170-0/blib/lib/Text/WideChar/Util.pm line 205.
Wide character (U+56E0) in pattern match (m//) at /usr/home/cpansand/.cpan/build/2019111201/Text-WideChar-Util-0.170-0/blib/lib/Text/WideChar/Util.pm line 205.
Wide character (U+6B64) in pattern match (m//) at /usr/home/cpansand/.cpan/build/2019111201/Text-WideChar-Util-0.170-0/blib/lib/Text/WideChar/Util.pm line 205.
Wide character (U+635F) in pattern match (m//) at /usr/home/cpansand/.cpan/build/2019111201/Text-WideChar-Util-0.170-0/blib/lib/Text/WideChar/Util.pm line 205.
Wide character (U+5931) in pattern match (m//) at /usr/home/cpansand/.cpan/build/2019111201/Text-WideChar-Util-0.170-0/blib/lib/Text/WideChar/Util.pm line 205.
Wide character (U+53EF) in pattern match (m//) at /usr/home/cpansand/.cpan/build/2019111201/Text-WideChar-Util-0.170-0/blib/lib/Text/WideChar/Util.pm line 205.
Wide character (U+80FD) in pattern match (m//) at /usr/home/cpansand/.cpan/build/2019111201/Text-WideChar-Util-0.170-0/blib/lib/Text/WideChar/Util.pm line 205.
Wide character (U+975E) in pattern match (m//) at /usr/home/cpansand/.cpan/build/2019111201/Text-WideChar-Util-0.170-0/blib/lib/Text/WideChar/Util.pm line 205.
Wide character (U+5E38) in pattern match (m//) at /usr/home/cpansand/.cpan/build/2019111201/Text-WideChar-Util-0.170-0/blib/lib/Text/WideChar/Util.pm line 205.
Wide character (U+5DE8) in pattern match (m//) at /usr/home/cpansand/.cpan/build/2019111201/Text-WideChar-Util-0.170-0/blib/lib/Text/WideChar/Util.pm line 205.
Wide character (U+5927) in pattern match (m//) at /usr/home/cpansand/.cpan/build/2019111201/Text-WideChar-Util-0.170-0/blib/lib/Text/WideChar/Util.pm line 205.
Wide character (U+3002) in pattern match (m//) at /usr/home/cpansand/.cpan/build/2019111201/Text-WideChar-Util-0.170-0/blib/lib/Text/WideChar/Util.pm line 205.
Wide character (U+8FD9) in pattern match (m//) at /usr/home/cpansand/.cpan/build/2019111201/Text-WideChar-Util-0.170-0/blib/lib/Text/WideChar/Util.pm line 205.
Wide character (U+4E2A) in pattern match (m//) at /usr/home/cpansand/.cpan/build/2019111201/Text-WideChar-Util-0.170-0/blib/lib/Text/WideChar/Util.pm line 205.
Wide character (U+6570) in pattern match (m//) at /usr/home/cpansand/.cpan/build/2019111201/Text-WideChar-Util-0.170-0/blib/lib/Text/WideChar/Util.pm line 205.
Wide character (U+636E) in pattern match (m//) at /usr/home/cpansand/.cpan/build/2019111201/Text-WideChar-Util-0.170-0/blib/lib/Text/WideChar/Util.pm line 205.
Wide character (U+4E2D) in pattern match (m//) at /usr/home/cpansand/.cpan/build/2019111201/Text-WideChar-Util-0.170-0/blib/lib/Text/WideChar/Util.pm line 205.
Wide character (U+5FC3) in pattern match (m//) at /usr/home/cpansand/.cpan/build/2019111201/Text-WideChar-Util-0.170-0/blib/lib/Text/WideChar/Util.pm line 205.
Wide character (U+914D) in pattern match (m//) at /usr/home/cpansand/.cpan/build/2019111201/Text-WideChar-Util-0.170-0/blib/lib/Text/WideChar/Util.pm line 205.
Wide character (U+5907) in pattern match (m//) at /usr/home/cpansand/.cpan/build/2019111201/Text-WideChar-Util-0.170-0/blib/lib/Text/WideChar/Util.pm line 205.
Wide character (U+4E86) in pattern match (m//) at /usr/home/cpansand/.cpan/build/2019111201/Text-WideChar-Util-0.170-0/blib/lib/Text/WideChar/Util.pm line 205.
Wide character (U+79C1) in pattern match (m//) at /usr/home/cpansand/.cpan/build/2019111201/Text-WideChar-Util-0.170-0/blib/lib/Text/WideChar/Util.pm line 205.
Wide character (U+4EBA) in pattern match (m//) at /usr/home/cpansand/.cpan/build/2019111201/Text-WideChar-Util-0.170-0/blib/lib/Text/WideChar/Util.pm line 205.
Wide character (U+7684) in pattern match (m//) at /usr/home/cpansand/.cpan/build/2019111201/Text-WideChar-Util-0.170-0/blib/lib/Text/WideChar/Util.pm line 205.
Wide character (U+6551) in pattern match (m//) at /usr/home/cpansand/.cpan/build/2019111201/Text-WideChar-Util-0.170-0/blib/lib/Text/WideChar/Util.pm line 205.
Wide character (U+706B) in pattern match (m//) at /usr/home/cpansand/.cpan/build/2019111201/Text-WideChar-Util-0.170-0/blib/lib/Text/WideChar/Util.pm line 205.
Wide character (U+961F) in pattern match (m//) at /usr/home/cpansand/.cpan/build/2019111201/Text-WideChar-Util-0.170-0/blib/lib/Text/WideChar/Util.pm line 205.
Wide character (U+FF0C) in pattern match (m//) at /usr/home/cpansand/.cpan/build/2019111201/Text-WideChar-Util-0.170-0/blib/lib/Text/WideChar/Util.pm line 205.
Wide character (U+81EA) in pattern match (m//) at /usr/home/cpansand/.cpan/build/2019111201/Text-WideChar-Util-0.170-0/blib/lib/Text/WideChar/Util.pm line 205.
Wide character (U+52A8) in pattern match (m//) at /usr/home/cpansand/.cpan/build/2019111201/Text-WideChar-Util-0.170-0/blib/lib/Text/WideChar/Util.pm line 205.
Wide character (U+55B7) in pattern match (m//) at /usr/home/cpansand/.cpan/build/2019111201/Text-WideChar-Util-0.170-0/blib/lib/Text/WideChar/Util.pm line 205.
Wide character (U+6C34) in pattern match (m//) at /usr/home/cpansand/.cpan/build/2019111201/Text-WideChar-Util-0.170-0/blib/lib/Text/WideChar/Util.pm line 205.
Wide character (U+706D) in pattern match (m//) at /usr/home/cpansand/.cpan/build/2019111201/Text-WideChar-Util-0.170-0/blib/lib/Text/WideChar/Util.pm line 205.
Wide character (U+706B) in pattern match (m//) at /usr/home/cpansand/.cpan/build/2019111201/Text-WideChar-Util-0.170-0/blib/lib/Text/WideChar/Util.pm line 205.
Wide character (U+7CFB) in pattern match (m//) at /usr/home/cpansand/.cpan/build/2019111201/Text-WideChar-Util-0.170-0/blib/lib/Text/WideChar/Util.pm line 205.
Wide character (U+7EDF) in pattern match (m//) at /usr/home/cpansand/.cpan/build/2019111201/Text-WideChar-Util-0.170-0/blib/lib/Text/WideChar/Util.pm line 205.
Wide character (U+FF0C) in pattern match (m//) at /usr/home/cpansand/.cpan/build/2019111201/Text-WideChar-Util-0.170-0/blib/lib/Text/WideChar/Util.pm line 205.
Wide character (U+706B) in pattern match (m//) at /usr/home/cpansand/.cpan/build/2019111201/Text-WideChar-Util-0.170-0/blib/lib/Text/WideChar/Util.pm line 205.
Wide character (U+707E) in pattern match (m//) at /usr/home/cpansand/.cpan/build/2019111201/Text-WideChar-Util-0.170-0/blib/lib/Text/WideChar/Util.pm line 205.
Wide character (U+63A7) in pattern match (m//) at /usr/home/cpansand/.cpan/build/2019111201/Text-WideChar-Util-0.170-0/blib/lib/Text/WideChar/Util.pm line 205.
Wide character (U+5236) in pattern match (m//) at /usr/home/cpansand/.cpan/build/2019111201/Text-WideChar-Util-0.170-0/blib/lib/Text/WideChar/Util.pm line 205.
Wide character (U+7CFB) in pattern match (m//) at /usr/home/cpansand/.cpan/build/2019111201/Text-WideChar-Util-0.170-0/blib/lib/Text/WideChar/Util.pm line 205.
Wide character (U+7EDF) in pattern match (m//) at /usr/home/cpansand/.cpan/build/2019111201/Text-WideChar-Util-0.170-0/blib/lib/Text/WideChar/Util.pm line 205.
Wide character (U+4EE5) in pattern match (m//) at /usr/home/cpansand/.cpan/build/2019111201/Text-WideChar-Util-0.170-0/blib/lib/Text/WideChar/Util.pm line 205.
Wide character (U+53CA) in pattern match (m//) at /usr/home/cpansand/.cpan/build/2019111201/Text-WideChar-Util-0.170-0/blib/lib/Text/WideChar/Util.pm line 205.
Wide character (U+5176) in pattern match (m//) at /usr/home/cpansand/.cpan/build/2019111201/Text-WideChar-Util-0.170-0/blib/lib/Text/WideChar/Util.pm line 205.
Wide character (U+5B83) in pattern match (m//) at /usr/home/cpansand/.cpan/build/2019111201/Text-WideChar-Util-0.170-0/blib/lib/Text/WideChar/Util.pm line 205.
Wide character (U+706B) in pattern match (m//) at /usr/home/cpansand/.cpan/build/2019111201/Text-WideChar-Util-0.170-0/blib/lib/Text/WideChar/Util.pm line 205.
Wide character (U+707E) in pattern match (m//) at /usr/home/cpansand/.cpan/build/2019111201/Text-WideChar-Util-0.170-0/blib/lib/Text/WideChar/Util.pm line 205.
Wide character (U+9884) in pattern match (m//) at /usr/home/cpansand/.cpan/build/2019111201/Text-WideChar-Util-0.170-0/blib/lib/Text/WideChar/Util.pm line 205.
Wide character (U+9632) in pattern match (m//) at /usr/home/cpansand/.cpan/build/2019111201/Text-WideChar-Util-0.170-0/blib/lib/Text/WideChar/Util.pm line 205.
Wide character (U+7684) in pattern match (m//) at /usr/home/cpansand/.cpan/build/2019111201/Text-WideChar-Util-0.170-0/blib/lib/Text/WideChar/Util.pm line 205.
Wide character (U+63AA) in pattern match (m//) at /usr/home/cpansand/.cpan/build/2019111201/Text-WideChar-Util-0.170-0/blib/lib/Text/WideChar/Util.pm line 205.
Wide character (U+65BD) in pattern match (m//) at /usr/home/cpansand/.cpan/build/2019111201/Text-WideChar-Util-0.170-0/blib/lib/Text/WideChar/Util.pm line 205.
Wide character (U+3002) in pattern match (m//) at /usr/home/cpansand/.cpan/build/2019111201/Text-WideChar-Util-0.170-0/blib/lib/Text/WideChar/Util.pm line 205.
Wide character (U+4F46) in pattern match (m//) at /usr/home/cpansand/.cpan/build/2019111201/Text-WideChar-Util-0.170-0/blib/lib/Text/WideChar/Util.pm line 205.
Wide character (U+5373) in pattern match (m//) at /usr/home/cpansand/.cpan/build/2019111201/Text-WideChar-Util-0.170-0/blib/lib/Text/WideChar/Util.pm line 205.
Wide character (U+4FBF) in pattern match (m//) at /usr/home/cpansand/.cpan/build/2019111201/Text-WideChar-Util-0.170-0/blib/lib/Text/WideChar/Util.pm line 205.
Wide character (U+5982) in pattern match (m//) at /usr/home/cpansand/.cpan/build/2019111201/Text-WideChar-Util-0.170-0/blib/lib/Text/WideChar/Util.pm line 205.
Wide character (U+6B64) in pattern match (m//) at /usr/home/cpansand/.cpan/build/2019111201/Text-WideChar-Util-0.170-0/blib/lib/Text/WideChar/Util.pm line 205.
Wide character (U+FF0C) in pattern match (m//) at /usr/home/cpansand/.cpan/build/2019111201/Text-WideChar-Util-0.170-0/blib/lib/Text/WideChar/Util.pm line 205.
Wide character (U+4ECD) in pattern match (m//) at /usr/home/cpansand/.cpan/build/2019111201/Text-WideChar-Util-0.170-0/blib/lib/Text/WideChar/Util.pm line 205.
Wide character (U+7136) in pattern match (m//) at /usr/home/cpansand/.cpan/build/2019111201/Text-WideChar-Util-0.170-0/blib/lib/Text/WideChar/Util.pm line 205.
Wide character (U+6CA1) in pattern match (m//) at /usr/home/cpansand/.cpan/build/2019111201/Text-WideChar-Util-0.170-0/blib/lib/Text/WideChar/Util.pm line 205.
Wide character (U+6709) in pattern match (m//) at /usr/home/cpansand/.cpan/build/2019111201/Text-WideChar-Util-0.170-0/blib/lib/Text/WideChar/Util.pm line 205.
Wide character (U+9884) in pattern match (m//) at /usr/home/cpansand/.cpan/build/2019111201/Text-WideChar-Util-0.170-0/blib/lib/Text/WideChar/Util.pm line 205.
Wide character (U+9632) in pattern match (m//) at /usr/home/cpansand/.cpan/build/2019111201/Text-WideChar-Util-0.170-0/blib/lib/Text/WideChar/Util.pm line 205.
Wide character (U+707E) in pattern match (m//) at /usr/home/cpansand/.cpan/build/2019111201/Text-WideChar-Util-0.170-0/blib/lib/Text/WideChar/Util.pm line 205.
Wide character (U+96BE) in pattern match (m//) at /usr/home/cpansand/.cpan/build/2019111201/Text-WideChar-Util-0.170-0/blib/lib/Text/WideChar/Util.pm line 205.
Wide character (U+7684) in pattern match (m//) at /usr/home/cpansand/.cpan/build/2019111201/Text-WideChar-Util-0.170-0/blib/lib/Text/WideChar/Util.pm line 205.
Wide character (U+53D1) in pattern match (m//) at /usr/home/cpansand/.cpan/build/2019111201/Text-WideChar-Util-0.170-0/blib/lib/Text/WideChar/Util.pm line 205.
Wide character (U+751F) in pattern match (m//) at /usr/home/cpansand/.cpan/build/2019111201/Text-WideChar-Util-0.170-0/blib/lib/Text/WideChar/Util.pm line 205.
Wide character (U+3002) in pattern match (m//) at /usr/home/cpansand/.cpan/build/2019111201/Text-WideChar-Util-0.170-0/blib/lib/Text/WideChar/Util.pm line 205.
Wide character (U+76EE) in pattern match (m//) at /usr/home/cpansand/.cpan/build/2019111201/Text-WideChar-Util-0.170-0/blib/lib/Text/WideChar/Util.pm line 205.
Wide character (U+524D) in pattern match (m//) at /usr/home/cpansand/.cpan/build/2019111201/Text-WideChar-Util-0.170-0/blib/lib/Text/WideChar/Util.pm line 205.
Wide character (U+8FD8) in pattern match (m//) at /usr/home/cpansand/.cpan/build/2019111201/Text-WideChar-Util-0.170-0/blib/lib/Text/WideChar/Util.pm line 205.
Wide character (U+4E0D) in pattern match (m//) at /usr/home/cpansand/.cpan/build/2019111201/Text-WideChar-Util-0.170-0/blib/lib/Text/WideChar/Util.pm line 205.
Wide character (U+6E05) in pattern match (m//) at /usr/home/cpansand/.cpan/build/2019111201/Text-WideChar-Util-0.170-0/blib/lib/Text/WideChar/Util.pm line 205.
Wide character (U+695A) in pattern match (m//) at /usr/home/cpansand/.cpan/build/2019111201/Text-WideChar-Util-0.170-0/blib/lib/Text/WideChar/Util.pm line 205.
Wide character (U+6570) in pattern match (m//) at /usr/home/cpansand/.cpan/build/2019111201/Text-WideChar-Util-0.170-0/blib/lib/Text/WideChar/Util.pm line 205.
Wide character (U+636E) in pattern match (m//) at /usr/home/cpansand/.cpan/build/2019111201/Text-WideChar-Util-0.170-0/blib/lib/Text/WideChar/Util.pm line 205.
Wide character (U+4E2D) in pattern match (m//) at /usr/home/cpansand/.cpan/build/2019111201/Text-WideChar-Util-0.170-0/blib/lib/Text/WideChar/Util.pm line 205.
Wide character (U+5FC3) in pattern match (m//) at /usr/home/cpansand/.cpan/build/2019111201/Text-WideChar-Util-0.170-0/blib/lib/Text/WideChar/Util.pm line 205.
Wide character (U+8D77) in pattern match (m//) at /usr/home/cpansand/.cpan/build/2019111201/Text-WideChar-Util-0.170-0/blib/lib/Text/WideChar/Util.pm line 205.
Wide character (U+706B) in pattern match (m//) at /usr/home/cpansand/.cpan/build/2019111201/Text-WideChar-Util-0.170-0/blib/lib/Text/WideChar/Util.pm line 205.
Wide character (U+7684) in pattern match (m//) at /usr/home/cpansand/.cpan/build/2019111201/Text-WideChar-Util-0.170-0/blib/lib/Text/WideChar/Util.pm line 205.
Wide character (U+539F) in pattern match (m//) at /usr/home/cpansand/.cpan/build/2019111201/Text-WideChar-Util-0.170-0/blib/lib/Text/WideChar/Util.pm line 205.
Wide character (U+56E0) in pattern match (m//) at /usr/home/cpansand/.cpan/build/2019111201/Text-WideChar-Util-0.170-0/blib/lib/Text/WideChar/Util.pm line 205.
Wide character (U+3002) in pattern match (m//) at /usr/home/cpansand/.cpan/build/2019111201/Text-WideChar-Util-0.170-0/blib/lib/Text/WideChar/Util.pm line 205.
Wide character (U+5403) in pattern match (m//) at /usr/home/cpansand/.cpan/build/2019111201/Text-WideChar-Util-0.170-0/blib/lib/Text/WideChar/Util.pm line 199.
Wide character (U+5403) in pattern match (m//) at /usr/home/cpansand/.cpan/build/2019111201/Text-WideChar-Util-0.170-0/blib/lib/Text/WideChar/Util.pm line 199.
Wide character (U+5403) in pattern match (m//) at /usr/home/cpansand/.cpan/build/2019111201/Text-WideChar-Util-0.170-0/blib/lib/Text/WideChar/Util.pm line 199.
Wide character (U+5403) in pattern match (m//) at /usr/home/cpansand/.cpan/build/2019111201/Text-WideChar-Util-0.170-0/blib/lib/Text/WideChar/Util.pm line 199.
Wide character (U+5403) in pattern match (m//) at /usr/home/cpansand/.cpan/build/2019111201/Text-WideChar-Util-0.170-0/blib/lib/Text/WideChar/Util.pm line 199.
Wide character (U+5403) in pattern match (m//) at /usr/home/cpansand/.cpan/build/2019111201/Text-WideChar-Util-0.170-0/blib/lib/Text/WideChar/Util.pm line 199.
Wide character (U+5403) in pattern match (m//) at /usr/home/cpansand/.cpan/build/2019111201/Text-WideChar-Util-0.170-0/blib/lib/Text/WideChar/Util.pm line 199.
Wide character (U+5403) in pattern match (m//) at /usr/home/cpansand/.cpan/build/2019111201/Text-WideChar-Util-0.170-0/blib/lib/Text/WideChar/Util.pm line 199.
Wide character (U+5403) in pattern match (m//) at /usr/home/cpansand/.cpan/build/2019111201/Text-WideChar-Util-0.170-0/blib/lib/Text/WideChar/Util.pm line 199.
Wide character (U+996D) in pattern match (m//) at /usr/home/cpansand/.cpan/build/2019111201/Text-WideChar-Util-0.170-0/blib/lib/Text/WideChar/Util.pm line 199.
Wide character (U+996D) in pattern match (m//) at /usr/home/cpansand/.cpan/build/2019111201/Text-WideChar-Util-0.170-0/blib/lib/Text/WideChar/Util.pm line 199.
Wide character (U+996D) in pattern match (m//) at /usr/home/cpansand/.cpan/build/2019111201/Text-WideChar-Util-0.170-0/blib/lib/Text/WideChar/Util.pm line 199.
Wide character (U+996D) in pattern match (m//) at /usr/home/cpansand/.cpan/build/2019111201/Text-WideChar-Util-0.170-0/blib/lib/Text/WideChar/Util.pm line 199.
Wide character (U+996D) in pattern match (m//) at /usr/home/cpansand/.cpan/build/2019111201/Text-WideChar-Util-0.170-0/blib/lib/Text/WideChar/Util.pm line 199.
Wide character (U+996D) in pattern match (m//) at /usr/home/cpansand/.cpan/build/2019111201/Text-WideChar-Util-0.170-0/blib/lib/Text/WideChar/Util.pm line 199.
Wide character (U+996D) in pattern match (m//) at /usr/home/cpansand/.cpan/build/2019111201/Text-WideChar-Util-0.170-0/blib/lib/Text/WideChar/Util.pm line 199.
Wide character (U+996D) in pattern match (m//) at /usr/home/cpansand/.cpan/build/2019111201/Text-WideChar-Util-0.170-0/blib/lib/Text/WideChar/Util.pm line 199.
Wide character (U+5403) in pattern match (m//) at /usr/home/cpansand/.cpan/build/2019111201/Text-WideChar-Util-0.170-0/blib/lib/Text/WideChar/Util.pm line 199.
Wide character (U+5403) in pattern match (m//) at /usr/home/cpansand/.cpan/build/2019111201/Text-WideChar-Util-0.170-0/blib/lib/Text/WideChar/Util.pm line 199.
Wide character (U+5403) in pattern match (m//) at /usr/home/cpansand/.cpan/build/2019111201/Text-WideChar-Util-0.170-0/blib/lib/Text/WideChar/Util.pm line 199.
Wide character (U+5403) in pattern match (m//) at /usr/home/cpansand/.cpan/build/2019111201/Text-WideChar-Util-0.170-0/blib/lib/Text/WideChar/Util.pm line 199.
Wide character (U+5403) in pattern match (m//) at /usr/home/cpansand/.cpan/build/2019111201/Text-WideChar-Util-0.170-0/blib/lib/Text/WideChar/Util.pm line 199.
Wide character (U+5403) in pattern match (m//) at /usr/home/cpansand/.cpan/build/2019111201/Text-WideChar-Util-0.170-0/blib/lib/Text/WideChar/Util.pm line 199.
Wide character (U+5403) in pattern match (m//) at /usr/home/cpansand/.cpan/build/2019111201/Text-WideChar-Util-0.170-0/blib/lib/Text/WideChar/Util.pm line 199.
Wide character (U+5403) in pattern match (m//) at /usr/home/cpansand/.cpan/build/2019111201/Text-WideChar-Util-0.170-0/blib/lib/Text/WideChar/Util.pm line 199.
Wide character (U+996D) in pattern match (m//) at /usr/home/cpansand/.cpan/build/2019111201/Text-WideChar-Util-0.170-0/blib/lib/Text/WideChar/Util.pm line 199.
Wide character (U+996D) in pattern match (m//) at /usr/home/cpansand/.cpan/build/2019111201/Text-WideChar-Util-0.170-0/blib/lib/Text/WideChar/Util.pm line 199.
Wide character (U+996D) in pattern match (m//) at /usr/home/cpansand/.cpan/build/2019111201/Text-WideChar-Util-0.170-0/blib/lib/Text/WideChar/Util.pm line 199.
Wide character (U+996D) in pattern match (m//) at /usr/home/cpansand/.cpan/build/2019111201/Text-WideChar-Util-0.170-0/blib/lib/Text/WideChar/Util.pm line 199.
Wide character (U+996D) in pattern match (m//) at /usr/home/cpansand/.cpan/build/2019111201/Text-WideChar-Util-0.170-0/blib/lib/Text/WideChar/Util.pm line 199.
Wide character (U+996D) in pattern match (m//) at /usr/home/cpansand/.cpan/build/2019111201/Text-WideChar-Util-0.170-0/blib/lib/Text/WideChar/Util.pm line 199.
Wide character (U+996D) in pattern match (m//) at /usr/home/cpansand/.cpan/build/2019111201/Text-WideChar-Util-0.170-0/blib/lib/Text/WideChar/Util.pm line 199.
Wide character (U+996D) in pattern match (m//) at /usr/home/cpansand/.cpan/build/2019111201/Text-WideChar-Util-0.170-0/blib/lib/Text/WideChar/Util.pm line 199.
Wide character (U+5403) in pattern match (m//) at /usr/home/cpansand/.cpan/build/2019111201/Text-WideChar-Util-0.170-0/blib/lib/Text/WideChar/Util.pm line 199.
Wide character (U+5403) in pattern match (m//) at /usr/home/cpansand/.cpan/build/2019111201/Text-WideChar-Util-0.170-0/blib/lib/Text/WideChar/Util.pm line 199.
Wide character (U+5403) in pattern match (m//) at /usr/home/cpansand/.cpan/build/2019111201/Text-WideChar-Util-0.170-0/blib/lib/Text/WideChar/Util.pm line 199.
Wide character (U+5403) in pattern match (m//) at /usr/home/cpansand/.cpan/build/2019111201/Text-WideChar-Util-0.170-0/blib/lib/Text/WideChar/Util.pm line 199.
Wide character (U+5403) in pattern match (m//) at /usr/home/cpansand/.cpan/build/2019111201/Text-WideChar-Util-0.170-0/blib/lib/Text/WideChar/Util.pm line 199.
Wide character (U+5403) in pattern match (m//) at /usr/home/cpansand/.cpan/build/2019111201/Text-WideChar-Util-0.170-0/blib/lib/Text/WideChar/Util.pm line 199.
Wide character (U+5403) in pattern match (m//) at /usr/home/cpansand/.cpan/build/2019111201/Text-WideChar-Util-0.170-0/blib/lib/Text/WideChar/Util.pm line 199.
Wide character (U+5403) in pattern match (m//) at /usr/home/cpansand/.cpan/build/2019111201/Text-WideChar-Util-0.170-0/blib/lib/Text/WideChar/Util.pm line 199.
Wide character (U+996D) in pattern match (m//) at /usr/home/cpansand/.cpan/build/2019111201/Text-WideChar-Util-0.170-0/blib/lib/Text/WideChar/Util.pm line 199.
Wide character (U+996D) in pattern match (m//) at /usr/home/cpansand/.cpan/build/2019111201/Text-WideChar-Util-0.170-0/blib/lib/Text/WideChar/Util.pm line 199.
Wide character (U+996D) in pattern match (m//) at /usr/home/cpansand/.cpan/build/2019111201/Text-WideChar-Util-0.170-0/blib/lib/Text/WideChar/Util.pm line 199.
Wide character (U+996D) in pattern match (m//) at /usr/home/cpansand/.cpan/build/2019111201/Text-WideChar-Util-0.170-0/blib/lib/Text/WideChar/Util.pm line 199.
Wide character (U+996D) in pattern match (m//) at /usr/home/cpansand/.cpan/build/2019111201/Text-WideChar-Util-0.170-0/blib/lib/Text/WideChar/Util.pm line 199.
Wide character (U+996D) in pattern match (m//) at /usr/home/cpansand/.cpan/build/2019111201/Text-WideChar-Util-0.170-0/blib/lib/Text/WideChar/Util.pm line 199.
Wide character (U+996D) in pattern match (m//) at /usr/home/cpansand/.cpan/build/2019111201/Text-WideChar-Util-0.170-0/blib/lib/Text/WideChar/Util.pm line 199.
Wide character (U+996D) in pattern match (m//) at /usr/home/cpansand/.cpan/build/2019111201/Text-WideChar-Util-0.170-0/blib/lib/Text/WideChar/Util.pm line 199.
Wide character (U+5403) in pattern match (m//) at /usr/home/cpansand/.cpan/build/2019111201/Text-WideChar-Util-0.170-0/blib/lib/Text/WideChar/Util.pm line 199.
Wide character (U+5403) in pattern match (m//) at /usr/home/cpansand/.cpan/build/2019111201/Text-WideChar-Util-0.170-0/blib/lib/Text/WideChar/Util.pm line 199.
Wide character (U+5403) in pattern match (m//) at /usr/home/cpansand/.cpan/build/2019111201/Text-WideChar-Util-0.170-0/blib/lib/Text/WideChar/Util.pm line 199.
Wide character (U+5403) in pattern match (m//) at /usr/home/cpansand/.cpan/build/2019111201/Text-WideChar-Util-0.170-0/blib/lib/Text/WideChar/Util.pm line 199.
Wide character (U+5403) in pattern match (m//) at /usr/home/cpansand/.cpan/build/2019111201/Text-WideChar-Util-0.170-0/blib/lib/Text/WideChar/Util.pm line 199.
Wide character (U+5403) in pattern match (m//) at /usr/home/cpansand/.cpan/build/2019111201/Text-WideChar-Util-0.170-0/blib/lib/Text/WideChar/Util.pm line 199.
Wide character (U+5403) in pattern match (m//) at /usr/home/cpansand/.cpan/build/2019111201/Text-WideChar-Util-0.170-0/blib/lib/Text/WideChar/Util.pm line 199.
Wide character (U+5403) in pattern match (m//) at /usr/home/cpansand/.cpan/build/2019111201/Text-WideChar-Util-0.170-0/blib/lib/Text/WideChar/Util.pm line 199.
Wide character (U+996D) in pattern match (m//) at /usr/home/cpansand/.cpan/build/2019111201/Text-WideChar-Util-0.170-0/blib/lib/Text/WideChar/Util.pm line 199.
Wide character (U+996D) in pattern match (m//) at /usr/home/cpansand/.cpan/build/2019111201/Text-WideChar-Util-0.170-0/blib/lib/Text/WideChar/Util.pm line 199.
Wide character (U+996D) in pattern match (m//) at /usr/home/cpansand/.cpan/build/2019111201/Text-WideChar-Util-0.170-0/blib/lib/Text/WideChar/Util.pm line 199.
Wide character (U+996D) in pattern match (m//) at /usr/home/cpansand/.cpan/build/2019111201/Text-WideChar-Util-0.170-0/blib/lib/Text/WideChar/Util.pm line 199.
Wide character (U+996D) in pattern match (m//) at /usr/home/cpansand/.cpan/build/2019111201/Text-WideChar-Util-0.170-0/blib/lib/Text/WideChar/Util.pm line 199.
Wide character (U+996D) in pattern match (m//) at /usr/home/cpansand/.cpan/build/2019111201/Text-WideChar-Util-0.170-0/blib/lib/Text/WideChar/Util.pm line 199.
Wide character (U+996D) in pattern match (m//) at /usr/home/cpansand/.cpan/build/2019111201/Text-WideChar-Util-0.170-0/blib/lib/Text/WideChar/Util.pm line 199.
Wide character (U+996D) in pattern match (m//) at /usr/home/cpansand/.cpan/build/2019111201/Text-WideChar-Util-0.170-0/blib/lib/Text/WideChar/Util.pm line 199.
Wide character (U+5403) in pattern match (m//) at /usr/home/cpansand/.cpan/build/2019111201/Text-WideChar-Util-0.170-0/blib/lib/Text/WideChar/Util.pm line 199.
Wide character (U+5403) in pattern match (m//) at /usr/home/cpansand/.cpan/build/2019111201/Text-WideChar-Util-0.170-0/blib/lib/Text/WideChar/Util.pm line 199.
Wide character (U+5403) in pattern match (m//) at /usr/home/cpansand/.cpan/build/2019111201/Text-WideChar-Util-0.170-0/blib/lib/Text/WideChar/Util.pm line 199.
Wide character (U+5403) in pattern match (m//) at /usr/home/cpansand/.cpan/build/2019111201/Text-WideChar-Util-0.170-0/blib/lib/Text/WideChar/Util.pm line 199.
Wide character (U+5403) in pattern match (m//) at /usr/home/cpansand/.cpan/build/2019111201/Text-WideChar-Util-0.170-0/blib/lib/Text/WideChar/Util.pm line 199.
Wide character (U+5403) in pattern match (m//) at /usr/home/cpansand/.cpan/build/2019111201/Text-WideChar-Util-0.170-0/blib/lib/Text/WideChar/Util.pm line 199.
Wide character (U+5403) in pattern match (m//) at /usr/home/cpansand/.cpan/build/2019111201/Text-WideChar-Util-0.170-0/blib/lib/Text/WideChar/Util.pm line 199.
Wide character (U+5403) in pattern match (m//) at /usr/home/cpansand/.cpan/build/2019111201/Text-WideChar-Util-0.170-0/blib/lib/Text/WideChar/Util.pm line 199.
Wide character (U+5403) in pattern match (m//) at /usr/home/cpansand/.cpan/build/2019111201/Text-WideChar-Util-0.170-0/blib/lib/Text/WideChar/Util.pm line 199.
Wide character (U+996D) in pattern match (m//) at /usr/home/cpansand/.cpan/build/2019111201/Text-WideChar-Util-0.170-0/blib/lib/Text/WideChar/Util.pm line 199.
Wide character (U+996D) in pattern match (m//) at /usr/home/cpansand/.cpan/build/2019111201/Text-WideChar-Util-0.170-0/blib/lib/Text/WideChar/Util.pm line 199.
Wide character (U+996D) in pattern match (m//) at /usr/home/cpansand/.cpan/build/2019111201/Text-WideChar-Util-0.170-0/blib/lib/Text/WideChar/Util.pm line 199.
Wide character (U+996D) in pattern match (m//) at /usr/home/cpansand/.cpan/build/2019111201/Text-WideChar-Util-0.170-0/blib/lib/Text/WideChar/Util.pm line 199.
Wide character (U+996D) in pattern match (m//) at /usr/home/cpansand/.cpan/build/2019111201/Text-WideChar-Util-0.170-0/blib/lib/Text/WideChar/Util.pm line 199.
Wide character (U+996D) in pattern match (m//) at /usr/home/cpansand/.cpan/build/2019111201/Text-WideChar-Util-0.170-0/blib/lib/Text/WideChar/Util.pm line 199.
Wide character (U+996D) in pattern match (m//) at /usr/home/cpansand/.cpan/build/2019111201/Text-WideChar-Util-0.170-0/blib/lib/Text/WideChar/Util.pm line 199.
Wide character (U+996D) in pattern match (m//) at /usr/home/cpansand/.cpan/build/2019111201/Text-WideChar-Util-0.170-0/blib/lib/Text/WideChar/Util.pm line 199.
Wide character (U+5403) in pattern match (m//) at /usr/home/cpansand/.cpan/build/2019111201/Text-WideChar-Util-0.170-0/blib/lib/Text/WideChar/Util.pm line 199.
Wide character (U+5403) in pattern match (m//) at /usr/home/cpansand/.cpan/build/2019111201/Text-WideChar-Util-0.170-0/blib/lib/Text/WideChar/Util.pm line 199.
Wide character (U+5403) in pattern match (m//) at /usr/home/cpansand/.cpan/build/2019111201/Text-WideChar-Util-0.170-0/blib/lib/Text/WideChar/Util.pm line 199.
Wide character (U+5403) in pattern match (m//) at /usr/home/cpansand/.cpan/build/2019111201/Text-WideChar-Util-0.170-0/blib/lib/Text/WideChar/Util.pm line 199.
Wide character (U+5403) in pattern match (m//) at /usr/home/cpansand/.cpan/build/2019111201/Text-WideChar-Util-0.170-0/blib/lib/Text/WideChar/Util.pm line 199.
Wide character (U+5403) in pattern match (m//) at /usr/home/cpansand/.cpan/build/2019111201/Text-WideChar-Util-0.170-0/blib/lib/Text/WideChar/Util.pm line 199.
Wide character (U+5403) in pattern match (m//) at /usr/home/cpansand/.cpan/build/2019111201/Text-WideChar-Util-0.170-0/blib/lib/Text/WideChar/Util.pm line 199.
Wide character (U+5403) in pattern match (m//) at /usr/home/cpansand/.cpan/build/2019111201/Text-WideChar-Util-0.170-0/blib/lib/Text/WideChar/Util.pm line 199.
Wide character (U+996D) in pattern match (m//) at /usr/home/cpansand/.cpan/build/2019111201/Text-WideChar-Util-0.170-0/blib/lib/Text/WideChar/Util.pm line 199.
Wide character (U+996D) in pattern match (m//) at /usr/home/cpansand/.cpan/build/2019111201/Text-WideChar-Util-0.170-0/blib/lib/Text/WideChar/Util.pm line 199.
Wide character (U+996D) in pattern match (m//) at /usr/home/cpansand/.cpan/build/2019111201/Text-WideChar-Util-0.170-0/blib/lib/Text/WideChar/Util.pm line 199.
Wide character (U+996D) in pattern match (m//) at /usr/home/cpansand/.cpan/build/2019111201/Text-WideChar-Util-0.170-0/blib/lib/Text/WideChar/Util.pm line 199.
Wide character (U+996D) in pattern match (m//) at /usr/home/cpansand/.cpan/build/2019111201/Text-WideChar-Util-0.170-0/blib/lib/Text/WideChar/Util.pm line 199.
Wide character (U+996D) in pattern match (m//) at /usr/home/cpansand/.cpan/build/2019111201/Text-WideChar-Util-0.170-0/blib/lib/Text/WideChar/Util.pm line 199.
Wide character (U+996D) in pattern match (m//) at /usr/home/cpansand/.cpan/build/2019111201/Text-WideChar-Util-0.170-0/blib/lib/Text/WideChar/Util.pm line 199.
Wide character (U+996D) in pattern match (m//) at /usr/home/cpansand/.cpan/build/2019111201/Text-WideChar-Util-0.170-0/blib/lib/Text/WideChar/Util.pm line 199.
Wide character (U+5403) in pattern match (m//) at /usr/home/cpansand/.cpan/build/2019111201/Text-WideChar-Util-0.170-0/blib/lib/Text/WideChar/Util.pm line 199.
Wide character (U+5403) in pattern match (m//) at /usr/home/cpansand/.cpan/build/2019111201/Text-WideChar-Util-0.170-0/blib/lib/Text/WideChar/Util.pm line 199.
Wide character (U+5403) in pattern match (m//) at /usr/home/cpansand/.cpan/build/2019111201/Text-WideChar-Util-0.170-0/blib/lib/Text/WideChar/Util.pm line 199.
Wide character (U+5403) in pattern match (m//) at /usr/home/cpansand/.cpan/build/2019111201/Text-WideChar-Util-0.170-0/blib/lib/Text/WideChar/Util.pm line 199.
Wide character (U+5403) in pattern match (m//) at /usr/home/cpansand/.cpan/build/2019111201/Text-WideChar-Util-0.170-0/blib/lib/Text/WideChar/Util.pm line 199.
Wide character (U+5403) in pattern match (m//) at /usr/home/cpansand/.cpan/build/2019111201/Text-WideChar-Util-0.170-0/blib/lib/Text/WideChar/Util.pm line 199.
Wide character (U+5403) in pattern match (m//) at /usr/home/cpansand/.cpan/build/2019111201/Text-WideChar-Util-0.170-0/blib/lib/Text/WideChar/Util.pm line 199.
Wide character (U+5403) in pattern match (m//) at /usr/home/cpansand/.cpan/build/2019111201/Text-WideChar-Util-0.170-0/blib/lib/Text/WideChar/Util.pm line 199.
Wide character (U+996D) in pattern match (m//) at /usr/home/cpansand/.cpan/build/2019111201/Text-WideChar-Util-0.170-0/blib/lib/Text/WideChar/Util.pm line 199.
Wide character (U+996D) in pattern match (m//) at /usr/home/cpansand/.cpan/build/2019111201/Text-WideChar-Util-0.170-0/blib/lib/Text/WideChar/Util.pm line 199.
Wide character (U+996D) in pattern match (m//) at /usr/home/cpansand/.cpan/build/2019111201/Text-WideChar-Util-0.170-0/blib/lib/Text/WideChar/Util.pm line 199.
Wide character (U+996D) in pattern match (m//) at /usr/home/cpansand/.cpan/build/2019111201/Text-WideChar-Util-0.170-0/blib/lib/Text/WideChar/Util.pm line 199.
Wide character (U+996D) in pattern match (m//) at /usr/home/cpansand/.cpan/build/2019111201/Text-WideChar-Util-0.170-0/blib/lib/Text/WideChar/Util.pm line 199.
Wide character (U+996D) in pattern match (m//) at /usr/home/cpansand/.cpan/build/2019111201/Text-WideChar-Util-0.170-0/blib/lib/Text/WideChar/Util.pm line 199.
Wide character (U+996D) in pattern match (m//) at /usr/home/cpansand/.cpan/build/2019111201/Text-WideChar-Util-0.170-0/blib/lib/Text/WideChar/Util.pm line 199.
Wide character (U+996D) in pattern match (m//) at /usr/home/cpansand/.cpan/build/2019111201/Text-WideChar-Util-0.170-0/blib/lib/Text/WideChar/Util.pm line 199.
Wide character (U+5403) in pattern match (m//) at /usr/home/cpansand/.cpan/build/2019111201/Text-WideChar-Util-0.170-0/blib/lib/Text/WideChar/Util.pm line 199.
Wide character (U+5403) in pattern match (m//) at /usr/home/cpansand/.cpan/build/2019111201/Text-WideChar-Util-0.170-0/blib/lib/Text/WideChar/Util.pm line 199.
Wide character (U+5403) in pattern match (m//) at /usr/home/cpansand/.cpan/build/2019111201/Text-WideChar-Util-0.170-0/blib/lib/Text/WideChar/Util.pm line 199.
Wide character (U+5403) in pattern match (m//) at /usr/home/cpansand/.cpan/build/2019111201/Text-WideChar-Util-0.170-0/blib/lib/Text/WideChar/Util.pm line 199.
Wide character (U+5403) in pattern match (m//) at /usr/home/cpansand/.cpan/build/2019111201/Text-WideChar-Util-0.170-0/blib/lib/Text/WideChar/Util.pm line 199.
Wide character (U+5403) in pattern match (m//) at /usr/home/cpansand/.cpan/build/2019111201/Text-WideChar-Util-0.170-0/blib/lib/Text/WideChar/Util.pm line 199.
Wide character (U+5403) in pattern match (m//) at /usr/home/cpansand/.cpan/build/2019111201/Text-WideChar-Util-0.170-0/blib/lib/Text/WideChar/Util.pm line 199.
Wide character (U+5403) in pattern match (m//) at /usr/home/cpansand/.cpan/build/2019111201/Text-WideChar-Util-0.170-0/blib/lib/Text/WideChar/Util.pm line 199.
Wide character (U+996D) in pattern match (m//) at /usr/home/cpansand/.cpan/build/2019111201/Text-WideChar-Util-0.170-0/blib/lib/Text/WideChar/Util.pm line 199.
Wide character (U+996D) in pattern match (m//) at /usr/home/cpansand/.cpan/build/2019111201/Text-WideChar-Util-0.170-0/blib/lib/Text/WideChar/Util.pm line 199.
Wide character (U+996D) in pattern match (m//) at /usr/home/cpansand/.cpan/build/2019111201/Text-WideChar-Util-0.170-0/blib/lib/Text/WideChar/Util.pm line 199.
Wide character (U+996D) in pattern match (m//) at /usr/home/cpansand/.cpan/build/2019111201/Text-WideChar-Util-0.170-0/blib/lib/Text/WideChar/Util.pm line 199.
Wide character (U+996D) in pattern match (m//) at /usr/home/cpansand/.cpan/build/2019111201/Text-WideChar-Util-0.170-0/blib/lib/Text/WideChar/Util.pm line 199.
Wide character (U+996D) in pattern match (m//) at /usr/home/cpansand/.cpan/build/2019111201/Text-WideChar-Util-0.170-0/blib/lib/Text/WideChar/Util.pm line 199.
Wide character (U+996D) in pattern match (m//) at /usr/home/cpansand/.cpan/build/2019111201/Text-WideChar-Util-0.170-0/blib/lib/Text/WideChar/Util.pm line 199.
Wide character (U+996D) in pattern match (m//) at /usr/home/cpansand/.cpan/build/2019111201/Text-WideChar-Util-0.170-0/blib/lib/Text/WideChar/Util.pm line 199.
t/wrap.t ................. ok
All tests successful.
Files=6, Tests=14,  0 wallclock secs ( 0.06 usr  0.02 sys +  0.38 cusr  0.20 csys =  0.67 CPU)
Result: PASS

------------------------------
PREREQUISITES
------------------------------

Prerequisite modules loaded:

requires:

    Module              Need     Have    
    ------------------- -------- --------
    Exporter            5.57     5.74    
    locale              0        1.09    
    perl                5.010001 5.031005
    strict              0        1.11    
    Unicode::GCString   0        2013.10 
    utf8                0        1.22    
    warnings            0        1.45    

build_requires:

    Module              Need     Have    
    ------------------- -------- --------
    constant            0        1.33    
    ExtUtils::MakeMaker 0        7.38    
    File::Spec          0        3.78    
    IO::Handle          0        1.41    
    IPC::Open3          0        1.20    
    POSIX               0        1.89    
    Test::More          0.98     1.302168

configure_requires:

    Module              Need     Have    
    ------------------- -------- --------
    ExtUtils::MakeMaker 0        7.38    


------------------------------
ENVIRONMENT AND OTHER CONTEXT
------------------------------

Environment variables:

    PATH = /usr/local/bin:/usr/bin:/bin:/usr/local/sbin:/usr/sbin:/sbin:/home/cpansand/bin/sh:/home/cpansand/bin:/usr/games:/home/cpansand/devel:/usr/home/eserte/src/srezic-misc/scripts
    PERL5LIB = /home/cpansand/.cpan/build/2019111201/Syntax-Feature-EachOnArray-0.04-0/blib/arch:/home/cpansand/.cpan/build/2019111201/Syntax-Feature-EachOnArray-0.04-0/blib/lib:/home/cpansand/.cpan/build/2019111201/Hash-FieldHash-0.15-0/blib/arch:/home/cpansand/.cpan/build/2019111201/Hash-FieldHash-0.15-0/blib/lib:/home/cpansand/.cpan/build/2019111201/String-Pad-0.020-0/blib/arch:/home/cpansand/.cpan/build/2019111201/String-Pad-0.020-0/blib/lib:/home/cpansand/.cpan/build/2019111201/Sort-Sub-0.110-0/blib/arch:/home/cpansand/.cpan/build/2019111201/Sort-Sub-0.110-0/blib/lib:/home/cpansand/.cpan/build/2019111201/Data-Dump-Partial-0.05-0/blib/arch:/home/cpansand/.cpan/build/2019111201/Data-Dump-Partial-0.05-0/blib/lib:/home/cpansand/.cpan/build/2019111201/Color-Theme-Role-0.020-0/blib/arch:/home/cpansand/.cpan/build/2019111201/Color-Theme-Role-0.020-0/blib/lib
    PERL5OPT = 
    PERL5_CPANPLUS_IS_RUNNING = 59161
    PERL5_CPAN_IS_RUNNING = 59161
    PERL5_CPAN_IS_RUNNING_IN_RECURSION = 54887,59161
    PERL_BATCH = yes
    PERL_CANARY_STABILITY_NOPROMPT = 1
    PERL_CPAN_REPORTER_CONFIG = /var/tmp/cpansmoker-1023/2019111201/cpanreporter_000_config.ini
    PERL_EXTUTILS_AUTOINSTALL = --defaultdeps
    PERL_USE_UNSAFE_INC = 1
    SHELL = /bin/sh
    TMPDIR = /var/tmp/cpansmoker-1023/2019111201

Perl special variables (and OS-specific diagnostics, for MSWin32):

    $^X = /usr/perl5.31.5p/bin/perl5.31.5
    $UID/$EUID = 1023 / 1023
    $GID = 1023 1023
    $EGID = 1023 1023

Perl module toolchain versions installed:

    Module              Have    
    ------------------- --------
    CPAN                2.27    
    CPAN::Meta          2.150010
    Cwd                 3.78    
    ExtUtils::CBuilder  0.280233
    ExtUtils::Command   7.38    
    ExtUtils::Install   2.14    
    ExtUtils::MakeMaker 7.38    
    ExtUtils::Manifest  1.72    
    ExtUtils::ParseXS   3.40    
    File::Spec          3.78    
    JSON                4.02    
    JSON::PP            4.04    
    Module::Build       0.4229  
    Module::Signature   n/a     
    Parse::CPAN::Meta   2.150010
    Test::Harness       3.42    
    Test::More          1.302168
    YAML                1.29    
    YAML::Syck          1.31    
    version             0.9924  


--

Summary of my perl5 (revision 5 version 31 subversion 5) configuration:
   
  Platform:
    osname=freebsd
    osvers=12.1-stable
    archname=amd64-freebsd
    uname='freebsd cloud1.bbbike.org 12.1-stable freebsd 12.1-stable e76f758d50c(stable12) generic amd64 '
    config_args='-ds -e -Dprefix=/usr/perl5.31.5p -Dusedevel -Dusemallocwrap=no -Dcf_email=srezic@cpan.org -Doptimize=-O2 -pipe'
    hint=recommended
    useposix=true
    d_sigaction=define
    useithreads=undef
    usemultiplicity=undef
    use64bitint=define
    use64bitall=define
    uselongdouble=undef
    usemymalloc=n
    default_inc_excludes_dot=define
    bincompat5005=undef
  Compiler:
    cc='cc'
    ccflags ='-DHAS_FPSETMASK -DHAS_FLOATINGPOINT_H -fno-strict-aliasing -pipe -fstack-protector-strong -I/usr/local/include -D_FORTIFY_SOURCE=2'
    optimize='-O2 -pipe'
    cppflags='-DHAS_FPSETMASK -DHAS_FLOATINGPOINT_H -fno-strict-aliasing -pipe -fstack-protector-strong -I/usr/local/include'
    ccversion=''
    gccversion='4.2.1 Compatible FreeBSD Clang 8.0.1 (tags/RELEASE_801/final 366581)'
    gccosandvers=''
    intsize=4
    longsize=8
    ptrsize=8
    doublesize=8
    byteorder=12345678
    doublekind=3
    d_longlong=define
    longlongsize=8
    d_longdbl=define
    longdblsize=16
    longdblkind=3
    ivtype='long'
    ivsize=8
    nvtype='double'
    nvsize=8
    Off_t='off_t'
    lseeksize=8
    alignbytes=8
    prototype=define
  Linker and Libraries:
    ld='cc'
    ldflags ='-pthread -Wl,-E  -fstack-protector-strong -L/usr/local/lib'
    libpth=/usr/lib /usr/local/lib /usr/lib/clang/8.0.1/lib /usr/lib
    libs=-lpthread -lgdbm -ldl -lm -lcrypt -lutil -lc
    perllibs=-lpthread -ldl -lm -lcrypt -lutil -lc
    libc=
    so=so
    useshrplib=false
    libperl=libperl.a
    gnulibc_version=''
  Dynamic Linking:
    dlsrc=dl_dlopen.xs
    dlext=so
    d_dlsymun=undef
    ccdlflags=' '
    cccdlflags='-DPIC -fPIC'
    lddlflags='-shared  -L/usr/local/lib -fstack-protector-strong'


Characteristics of this binary (from libperl): 
  Compile-time options:
    HAS_TIMES
    PERLIO_LAYERS
    PERL_COPY_ON_WRITE
    PERL_DONT_CREATE_GVSV
    PERL_OP_PARENT
    PERL_PRESERVE_IVUV
    PERL_USE_DEVEL
    USE_64_BIT_ALL
    USE_64_BIT_INT
    USE_LARGE_FILES
    USE_LOCALE
    USE_LOCALE_COLLATE
    USE_LOCALE_CTYPE
    USE_LOCALE_NUMERIC
    USE_LOCALE_TIME
    USE_PERLIO
    USE_PERL_ATOF
  Built under freebsd
  Compiled at Oct 20 2019 15:14:31
  %ENV:
    PERL5LIB="/home/cpansand/.cpan/build/2019111201/Syntax-Feature-EachOnArray-0.04-0/blib/arch:/home/cpansand/.cpan/build/2019111201/Syntax-Feature-EachOnArray-0.04-0/blib/lib:/home/cpansand/.cpan/build/2019111201/Hash-FieldHash-0.15-0/blib/arch:/home/cpansand/.cpan/build/2019111201/Hash-FieldHash-0.15-0/blib/lib:/home/cpansand/.cpan/build/2019111201/String-Pad-0.020-0/blib/arch:/home/cpansand/.cpan/build/2019111201/String-Pad-0.020-0/blib/lib:/home/cpansand/.cpan/build/2019111201/Sort-Sub-0.110-0/blib/arch:/home/cpansand/.cpan/build/2019111201/Sort-Sub-0.110-0/blib/lib:/home/cpansand/.cpan/build/2019111201/Data-Dump-Partial-0.05-0/blib/arch:/home/cpansand/.cpan/build/2019111201/Data-Dump-Partial-0.05-0/blib/lib:/home/cpansand/.cpan/build/2019111201/Color-Theme-Role-0.020-0/blib/arch:/home/cpansand/.cpan/build/2019111201/Color-Theme-Role-0.020-0/blib/lib"
    PERL5OPT=""
    PERL5_CPANPLUS_IS_RUNNING="59161"
    PERL5_CPAN_IS_RUNNING="59161"
    PERL5_CPAN_IS_RUNNING_IN_RECURSION="54887,59161"
    PERL_BATCH="yes"
    PERL_CANARY_STABILITY_NOPROMPT="1"
    PERL_CPAN_REPORTER_CONFIG="/var/tmp/cpansmoker-1023/2019111201/cpanreporter_000_config.ini"
    PERL_EXTUTILS_AUTOINSTALL="--defaultdeps"
    PERL_USE_UNSAFE_INC="1"
  @INC:
    /home/cpansand/.cpan/build/2019111201/Syntax-Feature-EachOnArray-0.04-0/blib/arch
    /home/cpansand/.cpan/build/2019111201/Syntax-Feature-EachOnArray-0.04-0/blib/lib
    /home/cpansand/.cpan/build/2019111201/Hash-FieldHash-0.15-0/blib/arch
    /home/cpansand/.cpan/build/2019111201/Hash-FieldHash-0.15-0/blib/lib
    /home/cpansand/.cpan/build/2019111201/String-Pad-0.020-0/blib/arch
    /home/cpansand/.cpan/build/2019111201/String-Pad-0.020-0/blib/lib
    /home/cpansand/.cpan/build/2019111201/Sort-Sub-0.110-0/blib/arch
    /home/cpansand/.cpan/build/2019111201/Sort-Sub-0.110-0/blib/lib
    /home/cpansand/.cpan/build/2019111201/Data-Dump-Partial-0.05-0/blib/arch
    /home/cpansand/.cpan/build/2019111201/Data-Dump-Partial-0.05-0/blib/lib
    /home/cpansand/.cpan/build/2019111201/Color-Theme-Role-0.020-0/blib/arch
    /home/cpansand/.cpan/build/2019111201/Color-Theme-Role-0.020-0/blib/lib
    /usr/perl5.31.5p/lib/site_perl/5.31.5/amd64-freebsd
    /usr/perl5.31.5p/lib/site_perl/5.31.5
    /usr/perl5.31.5p/lib/5.31.5/amd64-freebsd
    /usr/perl5.31.5p/lib/5.31.5
    .