Config-IniFiles v2.94 Perl 5 v5.24.2 darwin-2level
- Status
- Pass
- From
- Slaven Rezić (SREZIC)
- Dist
-
Config-IniFiles v2.94
- Platform
- Perl 5 v5.24.2 darwin-2level
- Date
- 2017-11-30 12:45:30
- ID
- 595b059c-d5cc-11e7-9d2c-e31f1c723a10
This distribution has been tested as part of the CPAN Testers
project, supporting the Perl programming language. See
http://wiki.cpantesters.org/ for more information or email
questions to cpan-testers-discuss@perl.org
--
Dear Shlomi Fish,
This is a computer-generated report for Config-IniFiles-2.94
on perl 5.24.2, created by CPAN-Reporter-1.2018.
Thank you for uploading your work to CPAN. Congratulations!
All tests were successful.
Sections of this report:
* Tester comments
* Program output
* Prerequisites
* Environment and other context
------------------------------
TESTER COMMENTS
------------------------------
Additional comments from tester:
none provided
------------------------------
PROGRAM OUTPUT
------------------------------
Output from './Build test':
t/00-compile.t ................................ ok
t/00load.t .................................... ok
t/01basic.t ................................... ok
t/02weird.t ................................... ok
t/03comments.t ................................ ok
t/04import.t .................................. ok
t/05hash.t .................................... ok
t/06oo.t ...................................... ok
t/07misc.t .................................... ok
t/08group.t ................................... ok
t/09case.t .................................... ok
t/10delta.t ................................... ok
t/11copy-ties-with-array-vals.t ............... ok
t/12open-empty-file.t ......................... ok
t/13val-in-list-context.t ..................... ok
t/14brackets-within-values.t .................. ok
t/15store-and-retrieve-here-doc-terminator.t .. ok
t/16case-sensitive-default.t .................. ok
t/17untainted-multiline-values.t .............. ok
t/18non-contiguous-groups.t ................... ok
t/19param-found-outside-section.t ............. ok
t/20allowedcommentchars.t ..................... ok
t/22trailing-comment-lines.t .................. ok
t/23scalar-ref.t .............................. ok
t/24case-sensitive-exists.t ................... ok
t/25line-endings.t ............................ ok
t/26scalar-filehandle.t ....................... ok
t/27empty-ini.t ............................... ok
t/28nomultiline.t ............................. ok
t/29end-of-line-comment.t ..................... ok
t/30parameters-with-empty-values.t ............ ok
t/31comments_with_spaces.t .................... ok
t/32mswin-outputs-contain-crs.t ............... skipped: Test is only relevant for Microsoft Windows
t/33update-using-tied-fh-w-shorter-names.t .... ok
t/34trailing-comments-double-delimeter.t ...... ok
t/author-pod-coverage.t ....................... skipped: these tests are for testing by the author
t/author-pod-syntax.t ......................... skipped: these tests are for testing by the author
t/cpan-changes.t .............................. skipped: Test::CPAN::Changes required for this test
t/pod-coverage.t .............................. ok
t/pod.t ....................................... ok
t/release-cpan-changes.t ...................... skipped: these tests are for release candidate testing
t/release-kwalitee.t .......................... skipped: these tests are for release candidate testing
t/style-trailing-space.t ...................... skipped: Test::TrailingSpace required for trailing space test.
All tests successful.
Files=43, Tests=191, 3 wallclock secs ( 0.10 usr 0.08 sys + 2.24 cusr 0.43 csys = 2.85 CPU)
Result: PASS
------------------------------
PREREQUISITES
------------------------------
Prerequisite modules loaded:
requires:
Module Need Have
------------------- ----- --------
Carp 0 1.40
Fcntl 0 1.13
File::Basename 0 2.85
File::Temp 0 0.2304
IO::Scalar 0 2.111
List::Util 1.33 1.48
perl 5.008 5.024002
strict 0 1.11
Symbol 0 1.07
vars 0 1.03
warnings 0 1.36
build_requires:
Module Need Have
------------------- ----- --------
base 0 2.23_01
blib 1.01 1.06
English 0 1.10
Exporter 0 5.72
File::Spec 0 3.63_01
File::Temp 0 0.2304
IO::File 0 1.16
IO::Handle 0 1.36
IPC::Open3 0 1.20
lib 0 0.63
Module::Build 0.28 0.4224
Scalar::Util 0 1.48
Test::More 0 1.302086
configure_requires:
Module Need Have
------------------- ----- --------
ExtUtils::MakeMaker 0 7.10_02
Module::Build 0.28 0.4224
------------------------------
ENVIRONMENT AND OTHER CONTEXT
------------------------------
Environment variables:
LANG = de_DE.UTF-8
PATH = /usr/local/bin:/usr/bin:/bin:/usr/local/sbin:/usr/sbin:/sbin:/Users/eserte/bin/darwin16.0:/Users/eserte/bin/sh:/Users/eserte/bin:/Users/eserte/bin/pistachio-perl/bin:/usr/games:/Users/eserte/devel:/Users/eserte/work/drafts-slaven.rezic/misc:/Users/eserte/src/srezic-misc/scripts
PERL5LIB = /Users/eserte/.cpan/build/2017112012/Sys-SigAction-0.23-RpL6h0/blib/arch:/Users/eserte/.cpan/build/2017112012/Sys-SigAction-0.23-RpL6h0/blib/lib:/Users/eserte/.cpan/build/2017112012/String-CRC32-1.6-Q3Fhzx/blib/arch:/Users/eserte/.cpan/build/2017112012/String-CRC32-1.6-Q3Fhzx/blib/lib:/Users/eserte/.cpan/build/2017112012/Gzip-Faster-0.20-ZeUkY1/blib/arch:/Users/eserte/.cpan/build/2017112012/Gzip-Faster-0.20-ZeUkY1/blib/lib:/Users/eserte/.cpan/build/2017112012/Scalar-Util-Numeric-0.40-uqmcBD/blib/arch:/Users/eserte/.cpan/build/2017112012/Scalar-Util-Numeric-0.40-uqmcBD/blib/lib:/Users/eserte/.cpan/build/2017112012/Compress-LZ4Frame-0.012001-g93veD/blib/arch:/Users/eserte/.cpan/build/2017112012/Compress-LZ4Frame-0.012001-g93veD/blib/lib
PERL5OPT =
PERL5_CPANPLUS_IS_RUNNING = 54034
PERL5_CPAN_IS_RUNNING = 54034
PERL5_CPAN_IS_RUNNING_IN_RECURSION = 44444,54034
PERLDOC = -MPod::Perldoc::ToTextOverstrike
PERL_BATCH = yes
PERL_CANARY_STABILITY_NOPROMPT = 1
PERL_CPAN_REPORTER_CONFIG = /var/tmp/cpansmoker-501/2017112012/cpanreporter_000_config.ini
PERL_EXTUTILS_AUTOINSTALL = --defaultdeps
SHELL = /bin/zsh
TERM = screen
TMPDIR = /var/tmp/cpansmoker-501/2017112012
Perl special variables (and OS-specific diagnostics, for MSWin32):
$^X = /opt/perl-5.24.2/bin/perl
$UID/$EUID = 501 / 501
$GID = 20 20 701 12 61 79 80 81 98 33 100 204 395 398 399
$EGID = 20 20 701 12 61 79 80 81 98 33 100 204 395 398 399
Perl module toolchain versions installed:
Module Have
------------------- ----------
CPAN 2.11_01
CPAN::Meta 2.150005
Cwd 3.63_01
ExtUtils::CBuilder 0.280225
ExtUtils::Command 7.10_02
ExtUtils::Install 2.04
ExtUtils::MakeMaker 7.10_02
ExtUtils::Manifest 1.70
ExtUtils::ParseXS 3.31
File::Spec 3.63_01
JSON 2.94
JSON::PP 2.27300_01
Module::Build 0.4224
Module::Signature 0.81
Parse::CPAN::Meta 1.4417_001
Test::Harness 3.36_01
Test::More 1.302086
YAML 1.23
YAML::Syck 1.30
version 0.9916
--
Summary of my perl5 (revision 5 version 24 subversion 2) configuration:
Platform:
osname=darwin, osvers=16.7.0, archname=darwin-2level
uname='darwin macbook.herceg.de 16.7.0 darwin kernel version 16.7.0: thu jun 15 17:36:27 pdt 2017; root:xnu-3789.70.16~2release_x86_64 x86_64 '
config_args='-ds -e -Dprefix=/opt/perl-5.24.2 -Dcf_email=srezic@cpan.org'
hint=previous, useposix=true, d_sigaction=define
useithreads=undef, usemultiplicity=undef
use64bitint=define, use64bitall=define, uselongdouble=undef
usemymalloc=n, bincompat5005=undef
Compiler:
cc='cc', ccflags ='-fno-common -DPERL_DARWIN -mmacosx-version-min=10.12 -fno-strict-aliasing -pipe -fstack-protector-strong -I/usr/local/include -DPERL_USE_SAFE_PUTENV',
optimize='-O3',
cppflags='-fno-common -DPERL_DARWIN -mmacosx-version-min=10.12 -fno-strict-aliasing -pipe -fstack-protector-strong -I/usr/local/include'
ccversion='', gccversion='4.2.1 Compatible Apple LLVM 8.1.0 (clang-802.0.42)', gccosandvers=''
intsize=4, longsize=8, ptrsize=8, doublesize=8, byteorder=12345678, doublekind=3
d_longlong=define, longlongsize=8, d_longdbl=define, longdblsize=16, longdblkind=3
ivtype='long', ivsize=8, nvtype='double', nvsize=8, Off_t='off_t', lseeksize=8
alignbytes=8, prototype=define
Linker and Libraries:
ld='cc', ldflags =' -mmacosx-version-min=10.12 -fstack-protector-strong -L/usr/local/lib'
libpth=/usr/local/lib /Library/Developer/CommandLineTools/usr/bin/../lib/clang/8.1.0/lib /Library/Developer/CommandLineTools/usr/lib /usr/lib /usr/local/lib /Library/Developer/CommandLineTools/usr/bin/../lib/clang/8.1.0/lib /Library/Developer/CommandLineTools/usr/lib /usr/lib
libs=-lpthread -ldbm -ldb -ldl -lm -lutil -lc
perllibs=-lpthread -ldl -lm -lutil -lc
libc=, so=dylib, useshrplib=false, libperl=libperl.a
gnulibc_version=''
Dynamic Linking:
dlsrc=dl_dlopen.xs, dlext=bundle, d_dlsymun=undef, ccdlflags=' '
cccdlflags=' ', lddlflags=' -mmacosx-version-min=10.12 -bundle -undefined dynamic_lookup -L/usr/local/lib -fstack-protector-strong'
Characteristics of this binary (from libperl):
Compile-time options: HAS_TIMES PERLIO_LAYERS PERL_COPY_ON_WRITE
PERL_DONT_CREATE_GVSV
PERL_HASH_FUNC_ONE_AT_A_TIME_HARD PERL_MALLOC_WRAP
PERL_PRESERVE_IVUV PERL_USE_SAFE_PUTENV
USE_64_BIT_ALL USE_64_BIT_INT USE_LARGE_FILES
USE_LOCALE USE_LOCALE_COLLATE USE_LOCALE_CTYPE
USE_LOCALE_NUMERIC USE_LOCALE_TIME USE_PERLIO
USE_PERL_ATOF
Built under darwin
Compiled at Aug 19 2017 09:09:15
%ENV:
PERL5LIB="/Users/eserte/.cpan/build/2017112012/Sys-SigAction-0.23-RpL6h0/blib/arch:/Users/eserte/.cpan/build/2017112012/Sys-SigAction-0.23-RpL6h0/blib/lib:/Users/eserte/.cpan/build/2017112012/String-CRC32-1.6-Q3Fhzx/blib/arch:/Users/eserte/.cpan/build/2017112012/String-CRC32-1.6-Q3Fhzx/blib/lib:/Users/eserte/.cpan/build/2017112012/Gzip-Faster-0.20-ZeUkY1/blib/arch:/Users/eserte/.cpan/build/2017112012/Gzip-Faster-0.20-ZeUkY1/blib/lib:/Users/eserte/.cpan/build/2017112012/Scalar-Util-Numeric-0.40-uqmcBD/blib/arch:/Users/eserte/.cpan/build/2017112012/Scalar-Util-Numeric-0.40-uqmcBD/blib/lib:/Users/eserte/.cpan/build/2017112012/Compress-LZ4Frame-0.012001-g93veD/blib/arch:/Users/eserte/.cpan/build/2017112012/Compress-LZ4Frame-0.012001-g93veD/blib/lib"
PERL5OPT=""
PERL5_CPANPLUS_IS_RUNNING="54034"
PERL5_CPAN_IS_RUNNING="54034"
PERL5_CPAN_IS_RUNNING_IN_RECURSION="44444,54034"
PERLDOC="-MPod::Perldoc::ToTextOverstrike"
PERL_BATCH="yes"
PERL_CANARY_STABILITY_NOPROMPT="1"
PERL_CPAN_REPORTER_CONFIG="/var/tmp/cpansmoker-501/2017112012/cpanreporter_000_config.ini"
PERL_EXTUTILS_AUTOINSTALL="--defaultdeps"
@INC:
/Users/eserte/.cpan/build/2017112012/Sys-SigAction-0.23-RpL6h0/blib/arch
/Users/eserte/.cpan/build/2017112012/Sys-SigAction-0.23-RpL6h0/blib/lib
/Users/eserte/.cpan/build/2017112012/String-CRC32-1.6-Q3Fhzx/blib/arch
/Users/eserte/.cpan/build/2017112012/String-CRC32-1.6-Q3Fhzx/blib/lib
/Users/eserte/.cpan/build/2017112012/Gzip-Faster-0.20-ZeUkY1/blib/arch
/Users/eserte/.cpan/build/2017112012/Gzip-Faster-0.20-ZeUkY1/blib/lib
/Users/eserte/.cpan/build/2017112012/Scalar-Util-Numeric-0.40-uqmcBD/blib/arch
/Users/eserte/.cpan/build/2017112012/Scalar-Util-Numeric-0.40-uqmcBD/blib/lib
/Users/eserte/.cpan/build/2017112012/Compress-LZ4Frame-0.012001-g93veD/blib/arch
/Users/eserte/.cpan/build/2017112012/Compress-LZ4Frame-0.012001-g93veD/blib/lib
/opt/perl-5.24.2/lib/site_perl/5.24.2/darwin-2level
/opt/perl-5.24.2/lib/site_perl/5.24.2
/opt/perl-5.24.2/lib/5.24.2/darwin-2level
/opt/perl-5.24.2/lib/5.24.2
.