Back
From: metabase:user:322078bc-2aae-11df-837a-5e0a49663a4f
Subject: PASS List-Priority-0.04 v5.8.9 FreeBSD
Date: 2011-12-31T18:29:17Z
This distribution has been tested as part of the CPAN Testers
project, supporting the Perl programming language. See
http://wiki.cpantesters.org/ for more information or email
questions to cpan-testers-discuss@perl.org
--
Dear MGOULD,
This is a computer-generated error report created automatically by
CPANPLUS, version 0.9115. Testers personal comments may appear
at the end of this report.
MAKE TEST passed: PERL_DL_NONLAZY=1 /usr/home/cpan/pit/thr/perl-5.8.9/bin/perl "-MExtUtils::Command::MM" "-e" "test_harness(0, 'blib/lib', 'blib/arch')" t/*.t
t/00-load.t ........ ok
t/02-small-list.t .. ok
t/03-capacity.t .... ok
t/04-duplicates.t .. ok
All tests successful.
Files=4, Tests=40, 1 wallclock secs ( 0.02 usr 0.09 sys + 0.07 cusr 0.19 csys = 0.37 CPU)
Result: PASS
PERL_DL_NONLAZY=1 /usr/home/cpan/pit/thr/perl-5.8.9/bin/perl "-Iblib/lib" "-Iblib/arch" test.pl
1..1
# Running under perl version 5.008009 for freebsd
# Current time local: Sat Dec 31 18:28:39 2011
# Current time GMT: Sat Dec 31 18:28:39 2011
# Using Test.pm version 1.25
ok 1
[MSG] [Sat Dec 31 18:28:39 2011] Sending test report for 'List-Priority-0.04'
PREREQUISITES:
Here is a list of prerequisites you specified and versions we
managed to load:
Module Name Have Want
ExtUtils::MakeMaker 6.62 0
Test::More 0.98 0.88
Perl module toolchain versions installed:
Module Name Have
CPANPLUS 0.9115
CPANPLUS::Dist::Build 0.60
Cwd 3.33
ExtUtils::CBuilder 0.280202
ExtUtils::Command 1.16
ExtUtils::Install 1.54
ExtUtils::MakeMaker 6.62
ExtUtils::Manifest 1.60
ExtUtils::ParseXS 3.11
File::Spec 3.33
Module::Build 0.3800
Test::Harness 3.23
Test::More 0.98
version 0.95
******************************** NOTE ********************************
The comments above are created mechanically, possibly without manual
checking by the sender. As there are many people performing automatic
tests on each upload to CPAN, it is likely that you will receive
identical messages about the same problem.
If you believe that the message is mistaken, please reply to the first
one with correction and/or additional informations, and do not take
it personally. We appreciate your patience. :)
**********************************************************************
Additional comments:
This report was machine-generated by CPANPLUS::Dist::YACSmoke 0.66.
Powered by minismokebox version 0.54
------------------------------
ENVIRONMENT AND OTHER CONTEXT
------------------------------
Environment variables:
AUTOMATED_TESTING = 1
PATH = /sbin:/bin:/usr/sbin:/usr/bin:/usr/games:/usr/local/sbin:/usr/local/bin:/home/cpan/bin
PERL5LIB = :/usr/home/cpan/pit/thr/conf/perl-5.8.9/.cpanplus/5.8.9/build/List-Priority-0.04/blib/lib:/usr/home/cpan/pit/thr/conf/perl-5.8.9/.cpanplus/5.8.9/build/List-Priority-0.04/blib/arch
PERL5_CPANPLUS_IS_RUNNING = 82068
PERL5_CPANPLUS_IS_VERSION = 0.9115
PERL5_MINISMOKEBOX = 0.54
PERL5_YACSMOKE_BASE = /usr/home/cpan/pit/thr/conf/perl-5.8.9
PERL_EXTUTILS_AUTOINSTALL = --defaultdeps
PERL_MM_USE_DEFAULT = 1
SHELL = /usr/local/bin/bash
TERM = screen
Perl special variables (and OS-specific diagnostics, for MSWin32):
Perl: $^X = /usr/home/cpan/pit/thr/perl-5.8.9/bin/perl
UID: $< = 1002
EUID: $> = 1002
GID: $( = 1002 1002 1002
EGID: $) = 1002 1002 1002
-------------------------------
--
Summary of my perl5 (revision 5 version 8 subversion 9) configuration:
Platform:
osname=freebsd, osvers=7.4-release, archname=i386-freebsd-thread-multi
uname='freebsd fulcrum.bingosnet.co.uk 7.4-release freebsd 7.4-release #0: thu feb 17 03:51:56 utc 2011 root@walker.cse.buffalo.edu:usrobjusrsrcsysgeneric i386 '
config_args='-des -Dprefix=/usr/home/cpan/pit/thr/perl-5.8.9 -Dusethreads'
hint=recommended, useposix=true, d_sigaction=define
usethreads=define use5005threads=undef useithreads=define usemultiplicity=define
useperlio=define d_sfio=undef uselargefiles=define usesocks=undef
use64bitint=undef use64bitall=undef uselongdouble=undef
usemymalloc=n, bincompat5005=undef
Compiler:
cc='cc', ccflags ='-DHAS_FPSETMASK -DHAS_FLOATINGPOINT_H -fno-strict-aliasing -pipe -I/usr/local/include',
optimize='-O',
cppflags='-DHAS_FPSETMASK -DHAS_FLOATINGPOINT_H -fno-strict-aliasing -pipe -I/usr/local/include'
ccversion='', gccversion='4.2.1 20070719 [FreeBSD]', gccosandvers=''
intsize=4, longsize=4, ptrsize=4, doublesize=8, byteorder=1234
d_longlong=define, longlongsize=8, d_longdbl=define, longdblsize=12
ivtype='long', ivsize=4, nvtype='double', nvsize=8, Off_t='off_t', lseeksize=8
alignbytes=4, prototype=define
Linker and Libraries:
ld='cc', ldflags ='-pthread -Wl,-E -L/usr/local/lib'
libpth=/usr/lib /usr/local/lib
libs=-lgdbm -lm -lcrypt
perllibs=-lm -lcrypt
libc=, so=so, useshrplib=false, libperl=libperl.a
gnulibc_version=''
Dynamic Linking:
dlsrc=dl_dlopen.xs, dlext=so, d_dlsymun=undef, ccdlflags=' '
cccdlflags='-DPIC -fPIC', lddlflags='-shared -L/usr/local/lib'
Characteristics of this binary (from libperl):
Compile-time options: MULTIPLICITY PERL_IMPLICIT_CONTEXT PERL_MALLOC_WRAP
USE_FAST_STDIO USE_ITHREADS USE_LARGE_FILES
USE_PERLIO USE_REENTRANT_API
Built under freebsd
Compiled at Sep 7 2011 23:15:38
%ENV:
PERL5LIB=":/usr/home/cpan/pit/thr/conf/perl-5.8.9/.cpanplus/5.8.9/build/List-Priority-0.04/blib/lib:/usr/home/cpan/pit/thr/conf/perl-5.8.9/.cpanplus/5.8.9/build/List-Priority-0.04/blib/arch"
PERL5_CPANPLUS_IS_RUNNING="82068"
PERL5_CPANPLUS_IS_VERSION="0.9115"
PERL5_MINISMOKEBOX="0.54"
PERL5_YACSMOKE_BASE="/usr/home/cpan/pit/thr/conf/perl-5.8.9"
PERL_EXTUTILS_AUTOINSTALL="--defaultdeps"
PERL_MM_USE_DEFAULT="1"
@INC:
/usr/home/cpan/pit/thr/conf/perl-5.8.9/.cpanplus/5.8.9/build/List-Priority-0.04/blib/lib
/usr/home/cpan/pit/thr/conf/perl-5.8.9/.cpanplus/5.8.9/build/List-Priority-0.04/blib/arch
/usr/home/cpan/pit/thr/perl-5.8.9/lib/5.8.9/i386-freebsd-thread-multi
/usr/home/cpan/pit/thr/perl-5.8.9/lib/5.8.9
/usr/home/cpan/pit/thr/perl-5.8.9/lib/site_perl/5.8.9/i386-freebsd-thread-multi
/usr/home/cpan/pit/thr/perl-5.8.9/lib/site_perl/5.8.9
.