Report for Net-Statsd-Server-0.20

Back
From: metabase:user:314402c4-2aae-11df-837a-5e0a49663a4f
Subject: PASS Net-Statsd-Server-0.20 v5.24.0 GNU/Linux
Date: 2016-06-01T13:25:47Z

This distribution has been tested as part of the CPAN Testers
project, supporting the Perl programming language.  See
http://wiki.cpantesters.org/ for more information or email
questions to cpan-testers-discuss@perl.org


--
Dear Cosimo Streppone,

This is a computer-generated report for Net-Statsd-Server-0.20
on perl 5.24.0, created by CPAN-Reporter-1.2017.

Thank you for uploading your work to CPAN.  Congratulations!
All tests were successful.

Sections of this report:

    * Tester comments
    * Program output
    * Prerequisites
    * Environment and other context

------------------------------
TESTER COMMENTS
------------------------------

Additional comments from tester:

none provided

------------------------------
PROGRAM OUTPUT
------------------------------

Output from '/usr/bin/make test':

PERL_DL_NONLAZY=1 "/bbbike/perl-5.24.0/bin/perl5.24.0" "-MExtUtils::Command::MM" "-MTest::Harness" "-e" "undef *Test::Harness::Switches; test_harness(0, 'blib/lib', 'blib/arch')" t/*.t t/integration-tests/*.t
t/000-sanity.t ............................. ok
t/config.t ................................. ok
t/graphite.t ............................... ok
2016-06-01 13:25:01.000000 +0000 note  Net::Statsd::Server: Initializing Net::Statsd::Server::Backend::Console backend
2016-06-01 13:25:01.000000 +0000 note  Net::Statsd::Server: Initializing Net::Statsd::Server::Backend::Graphite backend
2016-06-01 13:25:01.000000 +0000 info  AnyEvent: Autoloaded model 'AnyEvent::Impl::EV', using it.
2016-06-01 13:25:01.509313 +0000 note  Net::Statsd::Server: statsd server started on 0.0.0.0:40001 (v0.17)
2016-06-01 13:25:01.509347 +0000 note  Net::Statsd::Server: manager interface started on 0.0.0.0:40002
2016-06-01 13:25:01.509394 +0000 note  Net::Statsd::Server: metrics flush will happen every 1s
2016-06-01 13:25:01.932135 +0000 warn  Net::Statsd::Server: Bad line: 1 in msg "a_bad_test_value|z"
2016-06-01 13:25:02.508399 +0000 note  Net::Statsd::Server: flushing metrics
Flushing stats at Wed Jun  1 13:25:02 2016
{"counters":{"statsd.packets_received":1,"statsd.bad_lines_seen":1},"timers":{},"timer_data":{},"gauges":{},"counter_rates":{"statsd.packets_received":1,"statsd.bad_lines_seen":1},"pctThreshold":[90],"sets":null}
t/integration-tests/bad-message.t .......... ok
2016-06-01 13:25:02.000000 +0000 note  Net::Statsd::Server: Initializing Net::Statsd::Server::Backend::Console backend
2016-06-01 13:25:02.000000 +0000 note  Net::Statsd::Server: Initializing Net::Statsd::Server::Backend::Graphite backend
2016-06-01 13:25:02.000000 +0000 info  AnyEvent: Autoloaded model 'AnyEvent::Impl::EV', using it.
2016-06-01 13:25:02.698239 +0000 note  Net::Statsd::Server: statsd server started on 0.0.0.0:40001 (v0.17)
2016-06-01 13:25:02.698292 +0000 note  Net::Statsd::Server: manager interface started on 0.0.0.0:40002
2016-06-01 13:25:02.698350 +0000 note  Net::Statsd::Server: metrics flush will happen every 1s
2016-06-01 13:25:03.699264 +0000 note  Net::Statsd::Server: flushing metrics
Flushing stats at Wed Jun  1 13:25:03 2016
{"sets":null,"counter_rates":{"statsd.bad_lines_seen":0,"a_test_value":100,"statsd.packets_received":1},"counters":{"statsd.bad_lines_seen":0,"a_test_value":100,"statsd.packets_received":1},"gauges":{},"timers":{},"pctThreshold":[90],"timer_data":{}}
# stats.counters.statsd.bad_lines_seen.rate 0.000000 1464787503
# stats.counters.statsd.bad_lines_seen.count 0 1464787503
# stats.counters.a_test_value.rate 100.000000 1464787503
# stats.counters.a_test_value.count 100 1464787503
# stats.counters.statsd.packets_received.rate 1.000000 1464787503
# stats.counters.statsd.packets_received.count 1 1464787503
# stats.statsd.numStats 3 1464787503
# stats.statsd.graphiteStats.calculationtime 0.058000 1464787503
# stats.statsd.processing_time 0.025 1464787503
# stats.statsd.graphiteStats.last_exception 8935544 1464787503
# stats.statsd.graphiteStats.last_flush 8935544 1464787503
t/integration-tests/counts-are-valid.t ..... ok
2016-06-01 13:25:03.000000 +0000 note  Net::Statsd::Server: Initializing Net::Statsd::Server::Backend::Graphite backend
2016-06-01 13:25:03.000000 +0000 info  AnyEvent: Autoloaded model 'AnyEvent::Impl::EV', using it.
2016-06-01 13:25:03.888372 +0000 note  Net::Statsd::Server: statsd server started on 0.0.0.0:40001 (v0.17)
2016-06-01 13:25:03.888422 +0000 note  Net::Statsd::Server: manager interface started on 0.0.0.0:40002
2016-06-01 13:25:03.888485 +0000 note  Net::Statsd::Server: metrics flush will happen every 1s
2016-06-01 13:25:04.889023 +0000 note  Net::Statsd::Server: flushing metrics
# First flush. Test gauge should be there.
2016-06-01 13:25:05.888391 +0000 note  Net::Statsd::Server: flushing metrics
# Second flush. deleteGauges=false should keep the test gauge.
t/integration-tests/delete-gauges-false.t .. ok
2016-06-01 13:25:06.000000 +0000 note  Net::Statsd::Server: Initializing Net::Statsd::Server::Backend::Graphite backend
2016-06-01 13:25:06.000000 +0000 info  AnyEvent: Autoloaded model 'AnyEvent::Impl::EV', using it.
2016-06-01 13:25:06.048986 +0000 note  Net::Statsd::Server: statsd server started on 0.0.0.0:40001 (v0.17)
2016-06-01 13:25:06.049030 +0000 note  Net::Statsd::Server: manager interface started on 0.0.0.0:40002
2016-06-01 13:25:06.049079 +0000 note  Net::Statsd::Server: metrics flush will happen every 1s
2016-06-01 13:25:07.048397 +0000 note  Net::Statsd::Server: flushing metrics
# First flush. Test gauge should be there.
2016-06-01 13:25:08.052413 +0000 note  Net::Statsd::Server: flushing metrics
# Second flush. deleteIdleStats should have cleared the test gauge.
t/integration-tests/delete-idle-stats.t .... ok
2016-06-01 13:25:08.000000 +0000 note  Net::Statsd::Server: Initializing Net::Statsd::Server::Backend::Console backend
2016-06-01 13:25:08.000000 +0000 note  Net::Statsd::Server: Initializing Net::Statsd::Server::Backend::Graphite backend
2016-06-01 13:25:08.000000 +0000 info  AnyEvent: Autoloaded model 'AnyEvent::Impl::EV', using it.
2016-06-01 13:25:08.227684 +0000 note  Net::Statsd::Server: statsd server started on 0.0.0.0:40001 (v0.17)
2016-06-01 13:25:08.227734 +0000 note  Net::Statsd::Server: manager interface started on 0.0.0.0:40002
2016-06-01 13:25:08.227786 +0000 note  Net::Statsd::Server: metrics flush will happen every 1s
2016-06-01 13:25:09.228935 +0000 note  Net::Statsd::Server: flushing metrics
Flushing stats at Wed Jun  1 13:25:09 2016
{"counter_rates":{"statsd.bad_lines_seen":0,"a_test_value,category=web,severity=high":100,"statsd.packets_received":1},"sets":null,"timer_data":{},"pctThreshold":[90],"gauges":{},"counters":{"statsd.bad_lines_seen":0,"a_test_value,category=web,severity=high":100,"statsd.packets_received":1},"timers":{}}
# stats.counters.statsd.bad_lines_seen.rate 0.000000 1464787509
# stats.counters.statsd.bad_lines_seen.count 0 1464787509
# stats.counters.a_test_value,category=web,severity=high.rate 100.000000 1464787509
# stats.counters.a_test_value,category=web,severity=high.count 100 1464787509
# stats.counters.statsd.packets_received.rate 1.000000 1464787509
# stats.counters.statsd.packets_received.count 1 1464787509
# stats.statsd.numStats 3 1464787509
# stats.statsd.graphiteStats.calculationtime 0.043000 1464787509
# stats.statsd.processing_time 0.022 1464787509
# stats.statsd.graphiteStats.last_exception 16492664 1464787509
# stats.statsd.graphiteStats.last_flush 16492664 1464787509
t/integration-tests/keys-with-tags.t ....... ok
2016-06-01 13:25:09.000000 +0000 note  Net::Statsd::Server: Initializing Net::Statsd::Server::Backend::Graphite backend
2016-06-01 13:25:09.000000 +0000 info  AnyEvent: Autoloaded model 'AnyEvent::Impl::EV', using it.
2016-06-01 13:25:09.392096 +0000 note  Net::Statsd::Server: statsd server started on 0.0.0.0:40001 (v0.17)
2016-06-01 13:25:09.392129 +0000 note  Net::Statsd::Server: manager interface started on 0.0.0.0:40002
2016-06-01 13:25:09.392167 +0000 note  Net::Statsd::Server: metrics flush will happen every 1s
# Expected mean value is 1925.7
2016-06-01 13:25:10.393435 +0000 note  Net::Statsd::Server: flushing metrics
# stats.counters.statsd.bad_lines_seen.rate 0.000000 1464787510
# stats.counters.statsd.bad_lines_seen.count 0 1464787510
# stats.counters.statsd.packets_received.rate 100.000000 1464787510
# stats.counters.statsd.packets_received.count 100 1464787510
# stats.timers.read_latency.sum_squares_99 395753730.000000 1464787510
# stats.timers.read_latency.sum_95 177712.000000 1464787510
# stats.timers.read_latency.upper_98 2965.000000 1464787510
# stats.timers.read_latency.sum_squares_98 386861406.000000 1464787510
# stats.timers.read_latency.sum_98 186604.000000 1464787510
# stats.timers.read_latency.upper_95 2885.000000 1464787510
# stats.timers.read_latency.mean_99 1915.010101 1464787510
# stats.timers.read_latency.std 581.600696 1464787510
# stats.timers.read_latency.mean 1925.700000 1464787510
# stats.timers.read_latency.sum_99 189586.000000 1464787510
# stats.timers.read_latency.upper_99 2982.000000 1464787510
# stats.timers.read_latency.mean_95 1870.652632 1464787510
# stats.timers.read_latency.sum_squares_95 360505516.000000 1464787510
# stats.timers.read_latency.sum 192570.000000 1464787510
# stats.timers.read_latency.count_98 98.000000 1464787510
# stats.timers.read_latency.count_95 95.000000 1464787510
# stats.timers.read_latency.median 1896.000000 1464787510
# stats.timers.read_latency.count_99 99.000000 1464787510
# stats.timers.read_latency.sum_squares 404657986.000000 1464787510
# stats.timers.read_latency.count 100.000000 1464787510
# stats.timers.read_latency.lower 1001.000000 1464787510
# stats.timers.read_latency.count_ps 100.000000 1464787510
# stats.timers.read_latency.upper 2984.000000 1464787510
# stats.timers.read_latency.mean_98 1904.122449 1464787510
# stats.statsd.numStats 3 1464787510
# stats.statsd.graphiteStats.calculationtime 0.078000 1464787510
# stats.statsd.processing_time 0.237 1464787510
# stats.statsd.graphiteStats.last_exception 22845560 1464787510
# stats.statsd.graphiteStats.last_flush 22845560 1464787510
t/integration-tests/percent-threshold.t .... ok
2016-06-01 13:25:10.000000 +0000 note  Net::Statsd::Server: Initializing Net::Statsd::Server::Backend::Console backend
2016-06-01 13:25:10.000000 +0000 note  Net::Statsd::Server: Initializing Net::Statsd::Server::Backend::Graphite backend
2016-06-01 13:25:10.000000 +0000 info  AnyEvent: Autoloaded model 'AnyEvent::Impl::EV', using it.
2016-06-01 13:25:10.549376 +0000 note  Net::Statsd::Server: statsd server started on 0.0.0.0:40001 (v0.17)
2016-06-01 13:25:10.549410 +0000 note  Net::Statsd::Server: manager interface started on 0.0.0.0:40002
2016-06-01 13:25:10.549446 +0000 note  Net::Statsd::Server: metrics flush will happen every 1s
2016-06-01 13:25:11.550928 +0000 note  Net::Statsd::Server: flushing metrics
Flushing stats at Wed Jun  1 13:25:11 2016
{"timer_data":{"a_test_value":{"lower":"100","median":"100","sum_90":"100","mean_90":"100","mean":100,"sum_squares":10000,"upper":"100","sum":"100","upper_90":"100","count_90":1,"std":0,"sum_squares_90":10000,"count":1,"count_ps":1}},"timers":{"a_test_value":["100"]},"pctThreshold":["90"],"counter_rates":{"statsd.packets_received":1,"statsd.bad_lines_seen":0},"sets":null,"gauges":{},"counters":{"statsd.bad_lines_seen":0,"statsd.packets_received":1}}
# stats.counters.statsd.bad_lines_seen.rate 0.000000 1464787511
# stats.counters.statsd.bad_lines_seen.count 0 1464787511
# stats.counters.statsd.packets_received.rate 1.000000 1464787511
# stats.counters.statsd.packets_received.count 1 1464787511
# stats.timers.a_test_value.lower 100.000000 1464787511
# stats.timers.a_test_value.median 100.000000 1464787511
# stats.timers.a_test_value.sum_90 100.000000 1464787511
# stats.timers.a_test_value.mean_90 100.000000 1464787511
# stats.timers.a_test_value.mean 100.000000 1464787511
# stats.timers.a_test_value.sum_squares 10000.000000 1464787511
# stats.timers.a_test_value.upper 100.000000 1464787511
# stats.timers.a_test_value.sum 100.000000 1464787511
# stats.timers.a_test_value.upper_90 100.000000 1464787511
# stats.timers.a_test_value.count_90 1.000000 1464787511
# stats.timers.a_test_value.std 0.000000 1464787511
# stats.timers.a_test_value.sum_squares_90 10000.000000 1464787511
# stats.timers.a_test_value.count 1.000000 1464787511
# stats.timers.a_test_value.count_ps 1.000000 1464787511
# stats.statsd.numStats 3 1464787511
# stats.statsd.graphiteStats.calculationtime 0.095000 1464787511
# stats.statsd.processing_time 0.058 1464787511
# stats.statsd.graphiteStats.last_exception 27961464 1464787511
# stats.statsd.graphiteStats.last_flush 27961464 1464787511
t/integration-tests/timers-are-valid.t ..... ok
t/process-metrics.t ........................ ok
t/trim.t ................................... ok
All tests successful.
Files=12, Tests=92, 10 wallclock secs ( 0.04 usr  0.04 sys +  0.76 cusr  0.19 csys =  1.03 CPU)
Result: PASS

------------------------------
PREREQUISITES
------------------------------

Prerequisite modules loaded:

requires:

    Module                Need Have    
    --------------------- ---- --------
    AnyEvent::Handle::UDP 0    0.043   
    IO::Socket::INET      0    1.35    
    JSON::XS              0    3.02    

build_requires:

    Module                Need Have    
    --------------------- ---- --------
    ExtUtils::MakeMaker   0    7.10_01 
    Test::More            0    1.302019

configure_requires:

    Module                Need Have    
    --------------------- ---- --------
    ExtUtils::MakeMaker   0    7.10_01 


------------------------------
ENVIRONMENT AND OTHER CONTEXT
------------------------------

Environment variables:

    LANG = C
    LC_ALL = de_DE.UTF-8
    PATH = /usr/local/bin:/usr/bin:/bin:/usr/local/sbin:/usr/sbin:/sbin:/home/cpansand/bin/linux-gnu:/home/cpansand/bin/sh:/home/cpansand/bin:/usr/games:/home/cpansand/devel:/home/eserte/src/srezic-misc/scripts
    PERL5LIB = /home/cpansand/.cpan/build/2016060112/AnyEvent-Handle-UDP-0.043-5ewir_/blib/arch:/home/cpansand/.cpan/build/2016060112/AnyEvent-Handle-UDP-0.043-5ewir_/blib/lib:/home/cpansand/.cpan/build/2016060112/fotofix-1.80-96MrXb/blib/arch:/home/cpansand/.cpan/build/2016060112/fotofix-1.80-96MrXb/blib/lib
    PERL5OPT = 
    PERL5_CPANPLUS_IS_RUNNING = 25144
    PERL5_CPAN_IS_RUNNING = 25144
    PERL5_CPAN_IS_RUNNING_IN_RECURSION = 25058,25144
    PERLDOC = -MPod::Perldoc::ToTextOverstrike
    PERL_BATCH = yes
    PERL_CANARY_STABILITY_NOPROMPT = 1
    PERL_CPAN_REPORTER_CONFIG = /run/user/1023/cpansmoker/2016060112/cpanreporter_000_config.ini
    PERL_EXTUTILS_AUTOINSTALL = --defaultdeps
    PERL_PARALLEL_SMOKER = yes
    SHELL = /bin/zsh
    TERM = screen
    TMPDIR = /run/user/1023/cpansmoker/2016060112

Perl special variables (and OS-specific diagnostics, for MSWin32):

    $^X = /bbbike/perl-5.24.0/bin/perl5.24.0
    $UID/$EUID = 1023 / 1023
    $GID = 1023 1023
    $EGID = 1023 1023

Perl module toolchain versions installed:

    Module              Have    
    ------------------- --------
    CPAN                2.11    
    CPAN::Meta          2.150005
    Cwd                 3.63    
    ExtUtils::CBuilder  0.280225
    ExtUtils::Command   7.10    
    ExtUtils::Install   2.04    
    ExtUtils::MakeMaker 7.10_01 
    ExtUtils::Manifest  1.70    
    ExtUtils::ParseXS   3.31    
    File::Spec          3.63    
    JSON                2.90    
    JSON::PP            2.27400 
    Module::Build       0.4218  
    Module::Signature   0.79    
    Parse::CPAN::Meta   1.4417  
    Test::Harness       3.36    
    Test::More          1.302019
    YAML                1.15    
    YAML::Syck          1.29    
    version             0.9917  


--

Summary of my perl5 (revision 5 version 24 subversion 0) configuration:
   
  Platform:
    osname=linux, osvers=3.16.0-4-amd64, archname=x86_64-linux
    uname='linux eserte 3.16.0-4-amd64 #1 smp debian 3.16.7-ckt25-2 (2016-04-08) x86_64 gnulinux '
    config_args='-ds -e -Dprefix=/opt/perl-5.24.0 -Dcf_email=srezic@cpan.org'
    hint=recommended, useposix=true, d_sigaction=define
    useithreads=undef, usemultiplicity=undef
    use64bitint=define, use64bitall=define, uselongdouble=undef
    usemymalloc=n, bincompat5005=undef
  Compiler:
    cc='cc', ccflags ='-fwrapv -fno-strict-aliasing -pipe -fstack-protector-strong -I/usr/local/include -D_LARGEFILE_SOURCE -D_FILE_OFFSET_BITS=64 -D_FORTIFY_SOURCE=2',
    optimize='-O2',
    cppflags='-fwrapv -fno-strict-aliasing -pipe -fstack-protector-strong -I/usr/local/include'
    ccversion='', gccversion='4.9.2', gccosandvers=''
    intsize=4, longsize=8, ptrsize=8, doublesize=8, byteorder=12345678, doublekind=3
    d_longlong=define, longlongsize=8, d_longdbl=define, longdblsize=16, longdblkind=3
    ivtype='long', ivsize=8, nvtype='double', nvsize=8, Off_t='off_t', lseeksize=8
    alignbytes=8, prototype=define
  Linker and Libraries:
    ld='cc', ldflags =' -fstack-protector-strong -L/usr/local/lib'
    libpth=/usr/local/lib /usr/lib/gcc/x86_64-linux-gnu/4.9/include-fixed /usr/include/x86_64-linux-gnu /usr/lib /lib/x86_64-linux-gnu /lib/../lib /usr/lib/x86_64-linux-gnu /usr/lib/../lib /lib
    libs=-lpthread -lnsl -lgdbm -ldb -ldl -lm -lcrypt -lutil -lc -lgdbm_compat
    perllibs=-lpthread -lnsl -ldl -lm -lcrypt -lutil -lc
    libc=libc-2.19.so, so=so, useshrplib=false, libperl=libperl.a
    gnulibc_version='2.19'
  Dynamic Linking:
    dlsrc=dl_dlopen.xs, dlext=so, d_dlsymun=undef, ccdlflags='-Wl,-E'
    cccdlflags='-fPIC', lddlflags='-shared -O2 -L/usr/local/lib -fstack-protector-strong'


Characteristics of this binary (from libperl): 
  Compile-time options: HAS_TIMES PERLIO_LAYERS PERL_COPY_ON_WRITE
                        PERL_DONT_CREATE_GVSV
                        PERL_HASH_FUNC_ONE_AT_A_TIME_HARD PERL_MALLOC_WRAP
                        PERL_PRESERVE_IVUV USE_64_BIT_ALL USE_64_BIT_INT
                        USE_LARGE_FILES USE_LOCALE USE_LOCALE_COLLATE
                        USE_LOCALE_CTYPE USE_LOCALE_NUMERIC USE_LOCALE_TIME
                        USE_PERLIO USE_PERL_ATOF
  Built under linux
  Compiled at May  9 2016 17:35:52
  %ENV:
    PERL5LIB="/home/cpansand/.cpan/build/2016060112/AnyEvent-Handle-UDP-0.043-5ewir_/blib/arch:/home/cpansand/.cpan/build/2016060112/AnyEvent-Handle-UDP-0.043-5ewir_/blib/lib:/home/cpansand/.cpan/build/2016060112/fotofix-1.80-96MrXb/blib/arch:/home/cpansand/.cpan/build/2016060112/fotofix-1.80-96MrXb/blib/lib"
    PERL5OPT=""
    PERL5_CPANPLUS_IS_RUNNING="25144"
    PERL5_CPAN_IS_RUNNING="25144"
    PERL5_CPAN_IS_RUNNING_IN_RECURSION="25058,25144"
    PERLDOC="-MPod::Perldoc::ToTextOverstrike"
    PERL_BATCH="yes"
    PERL_CANARY_STABILITY_NOPROMPT="1"
    PERL_CPAN_REPORTER_CONFIG="/run/user/1023/cpansmoker/2016060112/cpanreporter_000_config.ini"
    PERL_EXTUTILS_AUTOINSTALL="--defaultdeps"
    PERL_PARALLEL_SMOKER="yes"
  @INC:
    /home/cpansand/.cpan/build/2016060112/AnyEvent-Handle-UDP-0.043-5ewir_/blib/arch
    /home/cpansand/.cpan/build/2016060112/AnyEvent-Handle-UDP-0.043-5ewir_/blib/lib
    /home/cpansand/.cpan/build/2016060112/fotofix-1.80-96MrXb/blib/arch
    /home/cpansand/.cpan/build/2016060112/fotofix-1.80-96MrXb/blib/lib
    /opt/perl-5.24.0/lib/site_perl/5.24.0/x86_64-linux
    /opt/perl-5.24.0/lib/site_perl/5.24.0
    /opt/perl-5.24.0/lib/5.24.0/x86_64-linux
    /opt/perl-5.24.0/lib/5.24.0
    .