App-otfile v0.07 Perl 5 v5.20.3 x86_64-linux-thread-multi
- Status
- Pass
- From
- Nigel Horne
- Dist
-
App-otfile v0.07
- Platform
- Perl 5 v5.20.3 x86_64-linux-thread-multi
- Date
- 2018-04-04 11:50:20
- ID
- 5a05657a-37fe-11e8-91ce-d3e3deac0b3f
This distribution has been tested as part of the CPAN Testers
project, supporting the Perl programming language. See
http://wiki.cpantesters.org/ for more information or email
questions to cpan-testers-discuss@perl.org
--
Dear Michael Greb,
This is a computer-generated report for App-otfile-0.07
on perl 5.20.3, created by CPAN-Reporter-1.2018.
Thank you for uploading your work to CPAN. Congratulations!
All tests were successful.
Sections of this report:
* Tester comments
* Program output
* Prerequisites
* Environment and other context
------------------------------
TESTER COMMENTS
------------------------------
Additional comments from tester:
this report is from an automated smoke testing program
and was not reviewed by a human for accuracy
------------------------------
PROGRAM OUTPUT
------------------------------
Output from '/usr/bin/make test':
PERL_DL_NONLAZY=1 "/home/njh/perl5/perlbrew/perls/perl-5.20.3/bin/perl5.20.3" "-MExtUtils::Command::MM" "-MTest::Harness" "-e" "undef *Test::Harness::Switches; test_harness(0, 'blib/lib', 'blib/arch')" t/*.t
t/release-kwalitee.t .... skipped: these tests are for release candidate testing
t/basic.t ............... ok
t/release-pod-syntax.t .. skipped: these tests are for release candidate testing
All tests successful.
Files=3, Tests=1, 0 wallclock secs ( 0.03 usr 0.02 sys + 0.29 cusr 0.07 csys = 0.41 CPU)
Result: PASS
------------------------------
PREREQUISITES
------------------------------
Prerequisite modules loaded:
requires:
Module Need Have
------------------- -------- --------
perl 5.010001 5.020003
build_requires:
Module Need Have
------------------- -------- --------
ExtUtils::MakeMaker 0 7.30
configure_requires:
Module Need Have
------------------- -------- --------
ExtUtils::MakeMaker 0 7.30
------------------------------
ENVIRONMENT AND OTHER CONTEXT
------------------------------
Environment variables:
AUTOMATED_TESTING = 1
HARNESS_OPTIONS = j2
LANG = en_GB.UTF-8
LANGUAGE = en_GB:en
PATH = /home/njh/perl5/perlbrew/bin:/home/njh/perl5/perlbrew/perls/perl-5.20.3/bin:src/njh/smoker/bin:/usr/bin:/bin
PERL5LIB = /home/njh/.cpan/build/WebService-S3-Tiny-0.001-23/blib/arch:/home/njh/.cpan/build/WebService-S3-Tiny-0.001-23/blib/lib:/home/njh/.cpan/build/Module-Build-Tiny-0.039-100/blib/arch:/home/njh/.cpan/build/Module-Build-Tiny-0.039-100/blib/lib:/home/njh/.cpan/build/ExtUtils-InstallPaths-0.011-100/blib/arch:/home/njh/.cpan/build/ExtUtils-InstallPaths-0.011-100/blib/lib:/home/njh/.cpan/build/ExtUtils-Helpers-0.026-100/blib/arch:/home/njh/.cpan/build/ExtUtils-Helpers-0.026-100/blib/lib:/home/njh/.cpan/build/ExtUtils-Config-0.008-100/blib/arch:/home/njh/.cpan/build/ExtUtils-Config-0.008-100/blib/lib
PERL5OPT =
PERL5_CPANPLUS_IS_RUNNING = 568
PERL5_CPAN_IS_RUNNING = 568
PERLBREW_BASHRC_VERSION = 0.75
PERLBREW_HOME = /home/njh/.perlbrew
PERLBREW_MANPATH = /home/njh/perl5/perlbrew/perls/perl-5.20.3/man
PERLBREW_PATH = /home/njh/perl5/perlbrew/bin:/home/njh/perl5/perlbrew/perls/perl-5.20.3/bin
PERLBREW_PERL = perl-5.20.3
PERLBREW_ROOT = /home/njh/perl5/perlbrew
PERLBREW_VERSION = 0.75
SHELL = /bin/sh
Perl special variables (and OS-specific diagnostics, for MSWin32):
$^X = /home/njh/perl5/perlbrew/perls/perl-5.20.3/bin/perl5.20.3
$UID/$EUID = 1000 / 1000
$GID = 1000 4 24 25 29 30 44 46 103 108 116 127 1000
$EGID = 1000 4 24 25 29 30 44 46 103 108 116 127 1000
Perl module toolchain versions installed:
Module Have
------------------- --------
CPAN 2.16
CPAN::Meta 2.143240
Cwd 3.48_01
ExtUtils::CBuilder 0.280217
ExtUtils::Command 7.30
ExtUtils::Install 2.06
ExtUtils::MakeMaker 7.30
ExtUtils::Manifest 1.70
ExtUtils::ParseXS 3.24
File::Spec 3.48_01
JSON n/a
JSON::PP 2.27203
Module::Build 0.4224
Module::Signature n/a
Parse::CPAN::Meta 1.4414
Test::Harness 3.39
Test::More 1.302103
YAML 1.23
YAML::Syck 1.30
version 0.9909
--
Summary of my perl5 (revision 5 version 20 subversion 3) configuration:
Platform:
osname=linux, osvers=4.9.0-2-amd64, archname=x86_64-linux-thread-multi
uname='linux compaq 4.9.0-2-amd64 #1 smp debian 4.9.18-1 (2017-03-30) x86_64 gnulinux '
config_args='-de -Dprefix=/home/njh/perl5/perlbrew/perls/perl-5.20.3 -Duseithreads -Dusemultiplicity -Dusedevel -Accflags=-O2 -W -Wformat=2 -Wswitch -Wshadow -Wwrite-strings -Wuninitialized -Wall -pipe -fomit-frame-pointer -pedantic -D_FORTIFY_SOURCE=2 -Wpointer-arith -Wstrict-prototypes -fstack-protector -Wstack-protector -Wextra -Wbad-function-cast -Wcast-align -Wcast-qual -Wdisabled-optimization -Wendif-labels -Wfloat-equal -Wformat-nonliteral -Winline -Wmissing-declarations -Wmissing-prototypes -Wnested-externs -Wpointer-arith -Wundef -Wformat-security -ftree-vectorize -msse -mfpmath=sse -msse2 -fdiagnostics-color=auto -mtune=native -march=native -Acc=gcc-7 -Aeval:scriptdir=/home/njh/perl5/perlbrew/perls/perl-5.20.3/bin'
hint=recommended, useposix=true, d_sigaction=define
useithreads=define, usemultiplicity=define
use64bitint=define, use64bitall=define, uselongdouble=undef
usemymalloc=n, bincompat5005=undef
Compiler:
cc=' gcc-7', ccflags ='-D_REENTRANT -D_GNU_SOURCE -O2 -W -Wformat=2 -Wswitch -Wshadow -Wwrite-strings -Wuninitialized -Wall -pipe -fomit-frame-pointer -pedantic -D_FORTIFY_SOURCE=2 -Wpointer-arith -Wstrict-prototypes -fstack-protector -Wstack-protector -Wextra -Wbad-function-cast -Wcast-align -Wcast-qual -Wdisabled-optimization -Wendif-labels -Wfloat-equal -Wformat-nonliteral -Winline -Wmissing-declarations -Wmissing-prototypes -Wnested-externs -Wpointer-arith -Wundef -Wformat-security -ftree-vectorize -msse -mfpmath=sse -msse2 -fdiagnostics-color=auto -mtune=native -march=native -fwrapv -fno-strict-aliasing -I/usr/local/include -D_LARGEFILE_SOURCE -D_FILE_OFFSET_BITS=64',
optimize='-O2',
cppflags='-D_REENTRANT -D_GNU_SOURCE -O2 -W -Wformat=2 -Wswitch -Wshadow -Wwrite-strings -Wuninitialized -Wall -pipe -fomit-frame-pointer -pedantic -D_FORTIFY_SOURCE=2 -Wpointer-arith -Wstrict-prototypes -fstack-protector -Wstack-protector -Wextra -Wbad-function-cast -Wcast-align -Wcast-qual -Wdisabled-optimization -Wendif-labels -Wfloat-equal -Wformat-nonliteral -Winline -Wmissing-declarations -Wmissing-prototypes -Wnested-externs -Wpointer-arith -Wundef -Wformat-security -ftree-vectorize -msse -mfpmath=sse -msse2 -fdiagnostics-color=auto -mtune=native -march=native -fwrapv -fno-strict-aliasing -I/usr/local/include'
ccversion='', gccversion='7.1.0', gccosandvers=''
intsize=4, longsize=8, ptrsize=8, doublesize=8, byteorder=12345678
d_longlong=define, longlongsize=8, d_longdbl=define, longdblsize=16
ivtype='long', ivsize=8, nvtype='double', nvsize=8, Off_t='off_t', lseeksize=8
alignbytes=8, prototype=define
Linker and Libraries:
ld=' gcc-7', ldflags =' -fstack-protector -L/usr/local/lib'
libpth=/usr/local/lib /usr/lib/gcc/x86_64-linux-gnu/7/include-fixed /usr/include/x86_64-linux-gnu /usr/lib /lib/x86_64-linux-gnu /lib/../lib /usr/lib/x86_64-linux-gnu /usr/lib/../lib /lib /lib64 /usr/lib64
libs=-lpthread -lnsl -lgdbm -ldb -ldl -lm -lcrypt -lutil -lc -lgdbm_compat
perllibs=-lpthread -lnsl -ldl -lm -lcrypt -lutil -lc
libc=, so=so, useshrplib=false, libperl=libperl.a
gnulibc_version='2.24'
Dynamic Linking:
dlsrc=dl_dlopen.xs, dlext=so, d_dlsymun=undef, ccdlflags='-Wl,-E'
cccdlflags='-fPIC', lddlflags='-shared -O2 -L/usr/local/lib -fstack-protector'
Characteristics of this binary (from libperl):
Compile-time options: HAS_TIMES MULTIPLICITY PERLIO_LAYERS
PERL_DONT_CREATE_GVSV
PERL_HASH_FUNC_ONE_AT_A_TIME_HARD
PERL_IMPLICIT_CONTEXT PERL_MALLOC_WRAP
PERL_NEW_COPY_ON_WRITE PERL_PRESERVE_IVUV
PERL_USE_DEVEL USE_64_BIT_ALL USE_64_BIT_INT
USE_ITHREADS USE_LARGE_FILES USE_LOCALE
USE_LOCALE_COLLATE USE_LOCALE_CTYPE
USE_LOCALE_NUMERIC USE_PERLIO USE_PERL_ATOF
USE_REENTRANT_API
Built under linux
Compiled at Jul 21 2017 11:54:02
%ENV:
PERL5LIB="/home/njh/.cpan/build/WebService-S3-Tiny-0.001-23/blib/arch:/home/njh/.cpan/build/WebService-S3-Tiny-0.001-23/blib/lib:/home/njh/.cpan/build/Module-Build-Tiny-0.039-100/blib/arch:/home/njh/.cpan/build/Module-Build-Tiny-0.039-100/blib/lib:/home/njh/.cpan/build/ExtUtils-InstallPaths-0.011-100/blib/arch:/home/njh/.cpan/build/ExtUtils-InstallPaths-0.011-100/blib/lib:/home/njh/.cpan/build/ExtUtils-Helpers-0.026-100/blib/arch:/home/njh/.cpan/build/ExtUtils-Helpers-0.026-100/blib/lib:/home/njh/.cpan/build/ExtUtils-Config-0.008-100/blib/arch:/home/njh/.cpan/build/ExtUtils-Config-0.008-100/blib/lib"
PERL5OPT=""
PERL5_CPANPLUS_IS_RUNNING="568"
PERL5_CPAN_IS_RUNNING="568"
PERLBREW_BASHRC_VERSION="0.75"
PERLBREW_HOME="/home/njh/.perlbrew"
PERLBREW_MANPATH="/home/njh/perl5/perlbrew/perls/perl-5.20.3/man"
PERLBREW_PATH="/home/njh/perl5/perlbrew/bin:/home/njh/perl5/perlbrew/perls/perl-5.20.3/bin"
PERLBREW_PERL="perl-5.20.3"
PERLBREW_ROOT="/home/njh/perl5/perlbrew"
PERLBREW_VERSION="0.75"
@INC:
/home/njh/.cpan/build/WebService-S3-Tiny-0.001-23/blib/arch
/home/njh/.cpan/build/WebService-S3-Tiny-0.001-23/blib/lib
/home/njh/.cpan/build/Module-Build-Tiny-0.039-100/blib/arch
/home/njh/.cpan/build/Module-Build-Tiny-0.039-100/blib/lib
/home/njh/.cpan/build/ExtUtils-InstallPaths-0.011-100/blib/arch
/home/njh/.cpan/build/ExtUtils-InstallPaths-0.011-100/blib/lib
/home/njh/.cpan/build/ExtUtils-Helpers-0.026-100/blib/arch
/home/njh/.cpan/build/ExtUtils-Helpers-0.026-100/blib/lib
/home/njh/.cpan/build/ExtUtils-Config-0.008-100/blib/arch
/home/njh/.cpan/build/ExtUtils-Config-0.008-100/blib/lib
/home/njh/perl5/perlbrew/perls/perl-5.20.3/lib/site_perl/5.20.3/x86_64-linux-thread-multi
/home/njh/perl5/perlbrew/perls/perl-5.20.3/lib/site_perl/5.20.3
/home/njh/perl5/perlbrew/perls/perl-5.20.3/lib/5.20.3/x86_64-linux-thread-multi
/home/njh/perl5/perlbrew/perls/perl-5.20.3/lib/5.20.3
.