Report for HTTP-MobileAttribute-0.23

Back
From: metabase:user:320bfe00-2aae-11df-837a-5e0a49663a4f
Subject: PASS HTTP-MobileAttribute-0.23 v5.19.3 GNU/Linux
Date: 2013-07-29T14:37:10Z

This distribution has been tested as part of the CPAN Testers
project, supporting the Perl programming language.  See
http://wiki.cpantesters.org/ for more information or email
questions to cpan-testers-discuss@perl.org


--
Dear Tokuhiro Matsuno,

This is a computer-generated report for HTTP-MobileAttribute-0.23
on perl 5.19.3, created by CPAN-Reporter-1.2010.

Thank you for uploading your work to CPAN.  Congratulations!
All tests were successful.

Sections of this report:

    * Tester comments
    * Program output
    * Prerequisites
    * Environment and other context

------------------------------
TESTER COMMENTS
------------------------------

Additional comments from tester:

this report is from an automated smoke testing program
and was not reviewed by a human for accuracy

------------------------------
PROGRAM OUTPUT
------------------------------

Output from '/usr/bin/make test':

PERL_DL_NONLAZY=1 /tmp/basesmoker-reloperl-WLMA/bin/perl "-MExtUtils::Command::MM" "-e" "test_harness(0, 'inc', 'blib/lib', 'blib/arch')" t/*.t t/Plugins/*.t t/*/*/*.t
t/00_compile.t .............................. ok
t/01_carrier_detect.t ....................... ok
t/01_request.t .............................. ok
t/02_docomo.t ............................... ok
t/03_j_phone.t .............................. ok
t/04_ezweb.t ................................ ok
t/06_nonmobile.t ............................ ok
t/07_airh.t ................................. ok
t/09_vodafone_3gc.t ......................... ok
t/10_softbank.t ............................. ok
t/11_softbank_base.t ........................ ok
t/12_no_match.t ............................. ok
t/Plugins/CIDR-base.t ....................... skipped: Net::CIDR::MobileJP is not installed.
t/Plugins/CIDR-setter.t ..................... skipped: Net::CIDR::MobileJP is not installed.
t/Plugins/CIDR-yaml.t ....................... skipped: Net::CIDR::MobileJP is not installed.
t/Plugins/Display.t ......................... ok
t/Plugins/DoCoMo/Browser.t .................. ok
t/Plugins/Encoding.t ........................ ok
t/Plugins/GPS-gps_compliant.t ............... ok
THIS METHOD IS OBSOLETE. DO NOT USE THIS. at /tmp/loop_over_bdir-16009-VG_Upn/HTTP-MobileAttribute-0.23-G7H1Xv/blib/lib/HTTP/MobileAttribute/Plugin/GPS.pm line 13, <DATA> line 1.
THIS METHOD IS OBSOLETE. DO NOT USE THIS. at /tmp/loop_over_bdir-16009-VG_Upn/HTTP-MobileAttribute-0.23-G7H1Xv/blib/lib/HTTP/MobileAttribute/Plugin/GPS.pm line 13, <DATA> line 1.
t/Plugins/GPS-is_gps.t ...................... ok
t/Plugins/Locator/00.load.t ................. ok
Argument "35.21.03.342" isn't numeric in numeric lt (<) at /home/sand/src/perl/repoperls/installed-perls/perl/v5.19.2-217-g8753f50/9980/lib/site_perl/5.19.3/Geo/Coordinates/Converter/Format/Milliseconds.pm line 13.
Argument "35.21.03.342" isn't numeric in numeric lt (<) at /home/sand/src/perl/repoperls/installed-perls/perl/v5.19.2-217-g8753f50/9980/lib/site_perl/5.19.3/Geo/Coordinates/Converter/Format/Milliseconds.pm line 13.
Argument "+35.39.43.538" isn't numeric in numeric lt (<) at /home/sand/src/perl/repoperls/installed-perls/perl/v5.19.2-217-g8753f50/9980/lib/site_perl/5.19.3/Geo/Coordinates/Converter/Format/Milliseconds.pm line 13.
Argument "+35.39.43.538" isn't numeric in numeric lt (<) at /home/sand/src/perl/repoperls/installed-perls/perl/v5.19.2-217-g8753f50/9980/lib/site_perl/5.19.3/Geo/Coordinates/Converter/Format/Milliseconds.pm line 13.
Argument "35.21.03.342" isn't numeric in numeric lt (<) at /home/sand/src/perl/repoperls/installed-perls/perl/v5.19.2-217-g8753f50/9980/lib/site_perl/5.19.3/Geo/Coordinates/Converter/Format/Milliseconds.pm line 13.
Argument "35.21.03.342" isn't numeric in numeric lt (<) at /home/sand/src/perl/repoperls/installed-perls/perl/v5.19.2-217-g8753f50/9980/lib/site_perl/5.19.3/Geo/Coordinates/Converter/Format/Milliseconds.pm line 13.
Argument "35.21.03.342" isn't numeric in numeric lt (<) at /home/sand/src/perl/repoperls/installed-perls/perl/v5.19.2-217-g8753f50/9980/lib/site_perl/5.19.3/Geo/Coordinates/Converter/Format/Milliseconds.pm line 13.
Argument "35.21.03.342" isn't numeric in numeric lt (<) at /home/sand/src/perl/repoperls/installed-perls/perl/v5.19.2-217-g8753f50/9980/lib/site_perl/5.19.3/Geo/Coordinates/Converter/Format/Milliseconds.pm line 13.
Argument "35.20.51.00" isn't numeric in numeric lt (<) at /home/sand/src/perl/repoperls/installed-perls/perl/v5.19.2-217-g8753f50/9980/lib/site_perl/5.19.3/Geo/Coordinates/Converter/Format/Milliseconds.pm line 13.
Argument "35.20.51.00" isn't numeric in numeric lt (<) at /home/sand/src/perl/repoperls/installed-perls/perl/v5.19.2-217-g8753f50/9980/lib/site_perl/5.19.3/Geo/Coordinates/Converter/Format/Milliseconds.pm line 13.
Argument "35.20.51.00" isn't numeric in numeric lt (<) at /home/sand/src/perl/repoperls/installed-perls/perl/v5.19.2-217-g8753f50/9980/lib/site_perl/5.19.3/Geo/Coordinates/Converter/Format/Milliseconds.pm line 13.
Argument "35.20.51.00" isn't numeric in numeric lt (<) at /home/sand/src/perl/repoperls/installed-perls/perl/v5.19.2-217-g8753f50/9980/lib/site_perl/5.19.3/Geo/Coordinates/Converter/Format/Milliseconds.pm line 13.
Argument "35.20.51.00" isn't numeric in numeric lt (<) at /home/sand/src/perl/repoperls/installed-perls/perl/v5.19.2-217-g8753f50/9980/lib/site_perl/5.19.3/Geo/Coordinates/Converter/Format/Milliseconds.pm line 13.
Argument "35.20.51.00" isn't numeric in numeric lt (<) at /home/sand/src/perl/repoperls/installed-perls/perl/v5.19.2-217-g8753f50/9980/lib/site_perl/5.19.3/Geo/Coordinates/Converter/Format/Milliseconds.pm line 13.
Argument "35.20.51.00" isn't numeric in numeric lt (<) at /home/sand/src/perl/repoperls/installed-perls/perl/v5.19.2-217-g8753f50/9980/lib/site_perl/5.19.3/Geo/Coordinates/Converter/Format/Milliseconds.pm line 13.
Argument "35.20.51.00" isn't numeric in numeric lt (<) at /home/sand/src/perl/repoperls/installed-perls/perl/v5.19.2-217-g8753f50/9980/lib/site_perl/5.19.3/Geo/Coordinates/Converter/Format/Milliseconds.pm line 13.
Argument "35.20.51.00" isn't numeric in numeric lt (<) at /home/sand/src/perl/repoperls/installed-perls/perl/v5.19.2-217-g8753f50/9980/lib/site_perl/5.19.3/Geo/Coordinates/Converter/Format/Milliseconds.pm line 13.
Argument "35.20.51.00" isn't numeric in numeric lt (<) at /home/sand/src/perl/repoperls/installed-perls/perl/v5.19.2-217-g8753f50/9980/lib/site_perl/5.19.3/Geo/Coordinates/Converter/Format/Milliseconds.pm line 13.
Argument "35.20.51.664" isn't numeric in numeric lt (<) at /home/sand/src/perl/repoperls/installed-perls/perl/v5.19.2-217-g8753f50/9980/lib/site_perl/5.19.3/Geo/Coordinates/Converter/Format/Milliseconds.pm line 13.
Argument "35.20.51.664" isn't numeric in numeric lt (<) at /home/sand/src/perl/repoperls/installed-perls/perl/v5.19.2-217-g8753f50/9980/lib/site_perl/5.19.3/Geo/Coordinates/Converter/Format/Milliseconds.pm line 13.
t/Plugins/Locator/01.get_location.t ......... ok
t/Plugins/Locator/02.gps_comliant.t ......... ok
t/Plugins/Locator/03.non_mobile.t ........... ok
t/Plugins/Locator/04.apache_params.t ........ ok
t/Plugins/Locator/05.cgi_params.t ........... ok
t/Plugins/Locator/06.hashref_params.t ....... ok
t/Plugins/Locator/07.gps_parameter.t ........ ok
t/Plugins/Locator/08.regression-params.t .... ok
t/Plugins/Locator/09.get_carrier_locator.t .. ok
t/Plugins/UserID-base.t ..................... ok
t/Plugins/UserID-fallback-card.t ............ ok
t/Plugins/UserID-fallback.t ................. ok
t/Plugins/UserID-supports_user_id.t ......... ok
All tests successful.
Files=34, Tests=2904,  4 wallclock secs ( 0.33 usr  0.07 sys +  3.12 cusr  0.29 csys =  3.81 CPU)
Result: PASS

------------------------------
PREREQUISITES
------------------------------

Prerequisite modules loaded:

requires:

    Module              Need     Have    
    ------------------- -------- --------
    Class::Component    0.17     0.17    
    Filter::Util::Call  0        1.49    
    perl                5.008001 5.019003
    UNIVERSAL::require  0.13     0.13    

build_requires:

    Module              Need     Have    
    ------------------- -------- --------
    ExtUtils::MakeMaker 6.42     6.72    
    YAML                0        0.84    

configure_requires:

    Module              Need     Have    
    ------------------- -------- --------
    ExtUtils::MakeMaker 6.42     6.72    


------------------------------
ENVIRONMENT AND OTHER CONTEXT
------------------------------

Environment variables:

    AUTOMATED_TESTING = 1
    LANG = en_US.UTF-8
    LANGUAGE = en_US:en
    PATH = /usr/lib/ccache:/home/sand/bin:/usr/local/bin:/usr/bin:/bin:/usr/bin/X11:/usr/games:/usr/local/perl/bin:/usr/X11/bin:/sbin:/usr/sbin
    PERL5LIB = 
    PERL5OPT = 
    PERL5_CPANPLUS_IS_RUNNING = 11154
    PERL5_CPAN_IS_RUNNING = 11154
    PERL_MM_USE_DEFAULT = 1
    SHELL = /usr/bin/zsh
    TERM = screen

Perl special variables (and OS-specific diagnostics, for MSWin32):

    $^X = /tmp/basesmoker-reloperl-WLMA/bin/perl
    $UID/$EUID = 1005 / 1005
    $GID = 1005 1005
    $EGID = 1005 1005

Perl module toolchain versions installed:

    Module              Have    
    ------------------- --------
    CPAN                2.00    
    CPAN::Meta          2.131560
    Cwd                 3.41    
    ExtUtils::CBuilder  0.280210
    ExtUtils::Command   1.17    
    ExtUtils::Install   1.60    
    ExtUtils::MakeMaker 6.72    
    ExtUtils::Manifest  1.63    
    ExtUtils::ParseXS   3.21    
    File::Spec          3.41    
    JSON                2.59    
    JSON::PP            2.27202 
    Module::Build       0.4007  
    Module::Signature   0.73    
    Parse::CPAN::Meta   1.4405  
    Test::Harness       3.28    
    Test::More          0.98    
    YAML                0.84    
    YAML::Syck          1.27    
    version             0.9902  


--

Summary of my perl5 (revision 5 version 19 subversion 3) configuration:
  Commit id: 8753f506cef14f551777d67a7a9759c96c1e89ff
  Platform:
    osname=linux, osvers=3.9-1-amd64, archname=x86_64-linux-thread-multi
    uname='linux k83 3.9-1-amd64 #1 smp debian 3.9.8-1 x86_64 gnulinux '
    config_args='-Dprefix=/home/sand/src/perl/repoperls/installed-perls/perl/v5.19.2-217-g8753f50/9980 -Dmyhostname=k83 -Dinstallusrbinperl=n -Uversiononly -Dusedevel -des -Ui_db -Duseithreads -Uuselongdouble -DDEBUGGING=-g'
    hint=recommended, useposix=true, d_sigaction=define
    useithreads=define, usemultiplicity=define
    useperlio=define, d_sfio=undef, uselargefiles=define, usesocks=undef
    use64bitint=define, use64bitall=define, uselongdouble=undef
    usemymalloc=n, bincompat5005=undef
  Compiler:
    cc='cc', ccflags ='-D_REENTRANT -D_GNU_SOURCE -fno-strict-aliasing -pipe -fstack-protector -I/usr/local/include -D_LARGEFILE_SOURCE -D_FILE_OFFSET_BITS=64',
    optimize='-O2 -g',
    cppflags='-D_REENTRANT -D_GNU_SOURCE -fno-strict-aliasing -pipe -fstack-protector -I/usr/local/include'
    ccversion='', gccversion='4.8.1', gccosandvers=''
    intsize=4, longsize=8, ptrsize=8, doublesize=8, byteorder=12345678
    d_longlong=define, longlongsize=8, d_longdbl=define, longdblsize=16
    ivtype='long', ivsize=8, nvtype='double', nvsize=8, Off_t='off_t', lseeksize=8
    alignbytes=8, prototype=define
  Linker and Libraries:
    ld='cc', ldflags =' -fstack-protector -L/usr/local/lib'
    libpth=/usr/local/lib /lib/x86_64-linux-gnu /lib/../lib /usr/lib/x86_64-linux-gnu /usr/lib/../lib /lib /usr/lib
    libs=-lnsl -lgdbm -ldb -ldl -lm -lcrypt -lutil -lpthread -lc -lgdbm_compat
    perllibs=-lnsl -ldl -lm -lcrypt -lutil -lpthread -lc
    libc=, so=so, useshrplib=false, libperl=libperl.a
    gnulibc_version='2.17'
  Dynamic Linking:
    dlsrc=dl_dlopen.xs, dlext=so, d_dlsymun=undef, ccdlflags='-Wl,-E'
    cccdlflags='-fPIC', lddlflags='-shared -O2 -g -L/usr/local/lib -fstack-protector'


Characteristics of this binary (from libperl): 
  Compile-time options: HAS_TIMES MULTIPLICITY PERLIO_LAYERS
                        PERL_DONT_CREATE_GVSV
                        PERL_HASH_FUNC_ONE_AT_A_TIME_HARD
                        PERL_IMPLICIT_CONTEXT PERL_MALLOC_WRAP
                        PERL_NEW_COPY_ON_WRITE PERL_PRESERVE_IVUV
                        PERL_USE_DEVEL USE_64_BIT_ALL USE_64_BIT_INT
                        USE_ITHREADS USE_LARGE_FILES USE_LOCALE
                        USE_LOCALE_COLLATE USE_LOCALE_CTYPE
                        USE_LOCALE_NUMERIC USE_PERLIO USE_PERL_ATOF
                        USE_REENTRANT_API
  Built under linux
  Compiled at Jul 29 2013 08:13:40
  %ENV:
    PERL5LIB=""
    PERL5OPT=""
    PERL5_CPANPLUS_IS_RUNNING="11154"
    PERL5_CPAN_IS_RUNNING="11154"
    PERL_MM_USE_DEFAULT="1"
  @INC:
    /home/sand/src/perl/repoperls/installed-perls/perl/v5.19.2-217-g8753f50/9980/lib/site_perl/5.19.3/x86_64-linux-thread-multi
    /home/sand/src/perl/repoperls/installed-perls/perl/v5.19.2-217-g8753f50/9980/lib/site_perl/5.19.3
    /home/sand/src/perl/repoperls/installed-perls/perl/v5.19.2-217-g8753f50/9980/lib/5.19.3/x86_64-linux-thread-multi
    /home/sand/src/perl/repoperls/installed-perls/perl/v5.19.2-217-g8753f50/9980/lib/5.19.3
    .