XML-XPath v1.48 Perl 5 v5.10.1 MSWin32-x86-multi-thread

Status
Pass
From
NONAME
Dist
XML-XPath v1.48
Platform
Perl 5 v5.10.1 MSWin32-x86-multi-thread
Date
2022-08-11 15:25:56
ID
5a242dee-6bf7-1014-a80a-f80d032c038b
This distribution has been tested as part of the CPAN Testers
project, supporting the Perl programming language.  See
http://wiki.cpantesters.org/ for more information or email
questions to cpan-testers-discuss@perl.org


--
Dear MANWAR,

This is a computer-generated report for XML-XPath-1.48
on perl 5.10.1, created by App::cpanminus::reporter 0.17 (1.7045).

Thank you for uploading your work to CPAN.  Congratulations!
All tests were successful.

Sections of this report:

    * Tester comments
    * Program output
    * Prerequisites
    * Environment and other context

------------------------------
TESTER COMMENTS
------------------------------

Additional comments from tester:

none provided

------------------------------
PROGRAM OUTPUT
------------------------------

Output from '':

Building and testing XML-XPath-1.48
cp lib/XML/XPath/Node/PI.pm blib\lib\XML\XPath\Node\PI.pm
cp lib/XML/XPath/Boolean.pm blib\lib\XML\XPath\Boolean.pm
cp lib/XML/XPath/Node.pm blib\lib\XML\XPath\Node.pm
cp lib/XML/XPath/Parser.pm blib\lib\XML\XPath\Parser.pm
cp lib/XML/XPath/Expr.pm blib\lib\XML\XPath\Expr.pm
cp lib/XML/XPath/Root.pm blib\lib\XML\XPath\Root.pm
cp lib/XML/XPath/Function.pm blib\lib\XML\XPath\Function.pm
cp lib/XML/XPath/NodeSet.pm blib\lib\XML\XPath\NodeSet.pm
cp lib/XML/XPath/PerlSAX.pm blib\lib\XML\XPath\PerlSAX.pm
cp lib/XML/XPath/Node/Attribute.pm blib\lib\XML\XPath\Node\Attribute.pm
cp lib/XML/XPath/Number.pm blib\lib\XML\XPath\Number.pm
cp lib/XML/XPath/Node/Text.pm blib\lib\XML\XPath\Node\Text.pm
cp lib/XML/XPath/Literal.pm blib\lib\XML\XPath\Literal.pm
cp lib/XML/XPath/Step.pm blib\lib\XML\XPath\Step.pm
cp lib/XML/XPath/Node/Namespace.pm blib\lib\XML\XPath\Node\Namespace.pm
cp lib/XML/XPath.pm blib\lib\XML\XPath.pm
cp lib/XML/XPath/LocationPath.pm blib\lib\XML\XPath\LocationPath.pm
cp lib/XML/XPath/Node/Element.pm blib\lib\XML\XPath\Node\Element.pm
cp lib/XML/XPath/Builder.pm blib\lib\XML\XPath\Builder.pm
cp lib/XML/XPath/Variable.pm blib\lib\XML\XPath\Variable.pm
cp lib/XML/XPath/Node/Comment.pm blib\lib\XML\XPath\Node\Comment.pm
cp lib/XML/XPath/XMLParser.pm blib\lib\XML\XPath\XMLParser.pm
C:\"Strawberry\perl\bin\perl.exe" -MExtUtils::Command -e cp -- examples/xpath blib\script\xpath
pl2bat.bat blib\script\xpath
C:\"Strawberry\perl\bin\perl.exe" "-MExtUtils::Command::MM" "-MTest::Harness" "-e" "undef *Test::Harness::Switches; test_harness(0, 'blib\lib', 'blib\arch')" t/*.t
# Testing XML::XPath 1.48, Perl 5.010001, C:\Strawberry\perl\bin\perl.exe
t/00load.t .................... ok
t/01basic.t ................... ok
t/02descendant.t .............. ok
t/03star.t .................... ok
t/04pos.t ..................... ok
t/05attrib.t .................. ok
t/06attrib_val.t .............. ok
t/07count.t ................... ok
t/08name.t .................... ok
t/09a_string_length.t ......... ok
t/09string_length.t ........... ok
t/10pipe.t .................... ok
t/11axischild.t ............... ok
t/12axisdescendant.t .......... ok
t/13axisparent.t .............. ok
t/14axisancestor.t ............ ok
t/15axisfol_sib.t ............. ok
t/16axisprec_sib.t ............ ok
t/17axisfollowing.t ........... ok
t/18axispreceding.t ........... ok
t/19axisd_or_s.t .............. ok
t/20axisa_or_s.t .............. ok
t/21allnodes.t ................ ok
t/22name_select.t ............. ok
t/23func.t .................... ok
t/24namespaces.t .............. ok
t/25scope.t ................... ok
t/26predicate.t ............... ok
t/27asxml.t ................... ok
t/28ancestor2.t ............... ok
t/29desc_with_predicate.t ..... ok
t/30lang.t .................... ok
t/31dots.t .................... ok
t/32duplicate_nodes.t ......... ok
t/33getnodetext.t ............. ok
t/34non_abbreviated_attrib.t .. ok
t/35namespace_uri.t ........... ok
t/36substring.t ............... ok
t/37concat.t .................. ok
t/38starts_with.t ............. ok
t/39contains.t ................ ok
t/40substring_before.t ........ ok
t/41substring_after.t ......... ok
t/42create_node.t ............. ok
t/43op_div.t .................. ok
t/44test_compare.t ............ ok
t/45cmp_nodeset.t ............. ok
t/46context.t ................. ok
t/47position.t ................ ok
t/48translate.t ............... ok
t/49literal.t ................. ok
t/50xmlxpathparsercache.t ..... ok
t/51elementname.t ............. ok
t/52matches.t ................. ok
t/cleanup.t ................... ok
t/insert.t .................... ok
t/manifest.t .................. ok
t/meta-json.t ................. ok
t/meta-yml.t .................. ok
t/rdf.t ....................... ok
t/remove.t .................... ok
t/stress.t .................... ok
All tests successful.
Files=62, Tests=427, 20 wallclock secs ( 0.70 usr +  0.23 sys =  0.94 CPU)
Result: PASS

------------------------------
PREREQUISITES
------------------------------

Prerequisite modules loaded:

    No requirements found

------------------------------
ENVIRONMENT AND OTHER CONTEXT
------------------------------

Environment variables:

    COMSPEC = C:\windows\system32\cmd.exe
    NUMBER_OF_PROCESSORS = 4
    PATH = C:\home\tennis\perl5\bin;C:\windows\system32;C:\windows;C:\windows\System32\Wbem;C:\windows\System32\WindowsPowerShell\v1.0\;C:\Strawberry\c\bin;C:\Strawberry\perl\site\bin;C:\Strawberry\perl\bin
    PERL5LIB = C:\home\tennis\perl5\lib\perl5
    PERL_LOCAL_LIB_ROOT = C:\home\tennis\perl5
    PERL_MB_OPT = --install_base "C:\\home\\tennis\\perl5"
    PERL_MM_OPT = INSTALL_BASE=C:\\home\\tennis\\perl5
    PROCESSOR_IDENTIFIER = x86 Family 6 Model 37 Stepping 5, GenuineIntel
    TEMP = C:\Users\user\AppData\Local\Temp
    TERM = dumb
    TUGI_PERLVER = 5.010001

Perl special variables (and OS-specific diagnostics, for MSWin32):

    EGID = 0
    EUID = 0
    EXECUTABLE_NAME = C:\Strawberry\perl\bin\perl.exe
    GID = 0
    UID = 0
    Win32::FsType = NTFS
    Win32::GetOSName = Win7
    Win32::GetOSVersion = Service Pack 1, 6, 1, 7601, 2, 1, 0, 256, 1
    Win32::IsAdminUser = 0

Perl module toolchain versions installed:

    Module              Have    
    ------------------- --------
    CPAN                2.28    
    CPAN::Meta          2.150010
    Cwd                 3.62    
    ExtUtils::CBuilder  0.280236
    ExtUtils::Command   7.65_02 
    ExtUtils::Install   2.14    
    ExtUtils::MakeMaker 7.65_02 
    ExtUtils::Manifest  1.70    
    ExtUtils::ParseXS   3.44    
    File::Spec          3.62    
    JSON                4.09    
    JSON::PP            4.11    
    Module::Build       0.42_28 
    Module::Signature   0.88    
    Parse::CPAN::Meta   2.150010
    Test::Harness       3.44    
    Test::More          1.302191
    YAML                1.26    
    YAML::Syck          n/a     
    version             0.9924  


--

Summary of my perl5 (revision 5 version 10 subversion 1) configuration:
   
  Platform:
    osname=MSWin32, osvers=5.1, archname=MSWin32-x86-multi-thread
    uname='Win32 strawberryperl 5.10.1.5 #1 Sun May 15 09:44:53 2011 i386'
    config_args='undef'
    hint=recommended, useposix=true, d_sigaction=undef
    useithreads=define, usemultiplicity=define
    useperlio=define, d_sfio=undef, uselargefiles=define, usesocks=undef
    use64bitint=undef, use64bitall=undef, uselongdouble=undef
    usemymalloc=n, bincompat5005=undef
  Compiler:
    cc='gcc', ccflags =' -s -O2 -DWIN32 -DHAVE_DES_FCRYPT  -DUSE_SITECUSTOMIZE -DPERL_IMPLICIT_CONTEXT -DPERL_IMPLICIT_SYS -fno-strict-aliasing -DPERL_MSVCRT_READFIX',
    optimize='-s -O2',
    cppflags='-DWIN32'
    ccversion='', gccversion='3.4.5', gccosandvers=''
    intsize=4, longsize=4, ptrsize=4, doublesize=8, byteorder=1234
    d_longlong=undef, longlongsize=8, d_longdbl=define, longdblsize=12
    ivtype='long', ivsize=4, nvtype='double', nvsize=8, Off_t='long long', lseeksize=8
    alignbytes=8, prototype=define
  Linker and Libraries:
    ld='g++', ldflags ='-s -L"C:\strawberry\perl\lib\CORE" -L"C:\strawberry\c\lib"'
    libpth=C:\strawberry\c\lib
    libs= -lmoldname -lkernel32 -luser32 -lgdi32 -lwinspool -lcomdlg32 -ladvapi32 -lshell32 -lole32 -loleaut32 -lnetapi32 -luuid -lws2_32 -lmpr -lwinmm -lversion -lodbc32 -lodbccp32
    perllibs= -lmoldname -lkernel32 -luser32 -lgdi32 -lwinspool -lcomdlg32 -ladvapi32 -lshell32 -lole32 -loleaut32 -lnetapi32 -luuid -lws2_32 -lmpr -lwinmm -lversion -lodbc32 -lodbccp32
    libc=, so=dll, useshrplib=true, libperl=libperl510.a
    gnulibc_version=''
  Dynamic Linking:
    dlsrc=dl_win32.xs, dlext=dll, d_dlsymun=undef, ccdlflags=' '
    cccdlflags=' ', lddlflags='-mdll -s -L"C:\strawberry\perl\lib\CORE" -L"C:\strawberry\c\lib"'


Characteristics of this binary (from libperl): 
  Compile-time options: MULTIPLICITY PERL_DONT_CREATE_GVSV
                        PERL_IMPLICIT_CONTEXT PERL_IMPLICIT_SYS
                        PERL_MALLOC_WRAP PL_OP_SLAB_ALLOC USE_ITHREADS
                        USE_LARGE_FILES USE_PERLIO USE_SITECUSTOMIZE
  Built under MSWin32
  Compiled at May 15 2011 09:50:23
  %ENV:
    PERL5LIB="C:\home\tennis\perl5\lib\perl5"
    PERL_LOCAL_LIB_ROOT="C:\home\tennis\perl5"
    PERL_MB_OPT="--install_base "C:\\home\\tennis\\perl5""
    PERL_MM_OPT="INSTALL_BASE=C:\\home\\tennis\\perl5"
  @INC:
    C:\home\tennis\perl5\lib\perl5/MSWin32-x86-multi-thread
    C:\home\tennis\perl5\lib\perl5
    C:/Strawberry/perl/lib
    C:/Strawberry/perl/site/lib
    C:\strawberry\perl\vendor\lib
    .