Promise-ES6 v0.28 Perl 5 v5.38.0 x86_64-linux
- Status
- Pass
- From
- David Cantrell (DCANTRELL)
- Dist
-
Promise-ES6 v0.28
- Platform
- Perl 5 v5.38.0 x86_64-linux
- Date
- 2023-07-25 00:44:03
- ID
- 5a305892-2a84-11ee-baa1-5e4e047518a6
This distribution has been tested as part of the CPAN Testers
project, supporting the Perl programming language. See
http://wiki.cpantesters.org/ for more information or email
questions to cpan-testers-discuss@perl.org
--
Dear Felipe Gasper,
This is a computer-generated report for Promise-ES6-0.28
on perl 5.38.0, created by CPAN-Reporter-1.2019.
Thank you for uploading your work to CPAN. Congratulations!
All tests were successful.
Sections of this report:
* Tester comments
* Program output
* Prerequisites
* Environment and other context
------------------------------
TESTER COMMENTS
------------------------------
Additional comments from tester:
this report is from an automated smoke testing program
and was not reviewed by a human for accuracy
------------------------------
PROGRAM OUTPUT
------------------------------
Output from '/usr/bin/make test':
PERL_DL_NONLAZY=1 "/home/david/cpantesting/perl-5.38.0-SILENT_NO_TAINT/bin/perl" "-MExtUtils::Command::MM" "-MTest::Harness" "-e" "undef *Test::Harness::Switches; test_harness(0, 'blib/lib', 'blib/arch')" t/*.t
# Devel::GlobalDestruction is available and loaded.
t/all.t ........................... ok
# Devel::GlobalDestruction is available and loaded.
t/all_async.t ..................... ok
# Devel::GlobalDestruction is available and loaded.
t/allsettled.t .................... ok
t/anyevent.t ...................... ok
t/async_await.t ................... skipped: CanâÂÂt run test: Can't locate Test/Future/AsyncAwait/Awaitable.pm in @INC (you may need to install the Test::Future::AsyncAwait::Awaitable module) (@INC entries checked: /home/david/cpantesting/perl-5.38.0-SILENT_NO_TAINT/.cpan/build/Promise-ES6-0.28-0/blib/lib /home/david/cpantesting/perl-5.38.0-SILENT_NO_TAINT/.cpan/build/Promise-ES6-0.28-0/blib/arch /home/david/cpantesting/perl-5.38.0-SILENT_NO_TAINT/lib/site_perl/5.38.0/x86_64-linux /home/david/cpantesting/perl-5.38.0-SILENT_NO_TAINT/lib/site_perl/5.38.0 /home/david/cpantesting/perl-5.38.0-SILENT_NO_TAINT/lib/5.38.0/x86_64-linux /home/david/cpantesting/perl-5.38.0-SILENT_NO_TAINT/lib/5.38.0) at (eval 8) line 1.
t/async_await_additional.t ........ skipped: No Future::AsyncAwait
t/async_await_sync.t .............. skipped: CanâÂÂt run test: Can't locate Test/Future/AsyncAwait/Awaitable.pm in @INC (you may need to install the Test::Future::AsyncAwait::Awaitable module) (@INC entries checked: /home/david/cpantesting/perl-5.38.0-SILENT_NO_TAINT/.cpan/build/Promise-ES6-0.28-0/blib/lib /home/david/cpantesting/perl-5.38.0-SILENT_NO_TAINT/.cpan/build/Promise-ES6-0.28-0/blib/arch /home/david/cpantesting/perl-5.38.0-SILENT_NO_TAINT/lib/site_perl/5.38.0/x86_64-linux /home/david/cpantesting/perl-5.38.0-SILENT_NO_TAINT/lib/site_perl/5.38.0 /home/david/cpantesting/perl-5.38.0-SILENT_NO_TAINT/lib/5.38.0/x86_64-linux /home/david/cpantesting/perl-5.38.0-SILENT_NO_TAINT/lib/5.38.0) at (eval 8) line 1.
# Devel::GlobalDestruction is available and loaded.
t/await.t ......................... ok
# Devel::GlobalDestruction is available and loaded.
# MASTER PID: 2840911
t/await_then_with_async.t ......... ok
# Devel::GlobalDestruction is available and loaded.
t/await_with_async.t .............. ok
# Devel::GlobalDestruction is available and loaded.
t/catch.t ......................... ok
# Devel::GlobalDestruction is available and loaded.
t/catch_asyncreject.t ............. ok
# Devel::GlobalDestruction is available and loaded.
t/finally.t ....................... ok
t/future.t ........................ ok
Promise::ES6=ARRAY(0x5634f88e69d8): Unhandled rejection: abc at -e line 1.
# [
# ''
# ]
t/global_destruction.t ............ ok
t/ioasync.t ....................... ok
# Devel::GlobalDestruction is available and loaded.
t/memory_leaks.t .................. ok
t/mojo.t .......................... ok
# Devel::GlobalDestruction is available and loaded.
t/multi_then.t .................... ok
t/no_leak_stashed_ref.t ........... ok
# Devel::GlobalDestruction is available and loaded.
t/race.t .......................... ok
# Devel::GlobalDestruction is available and loaded.
t/race_async.t .................... ok
# Devel::GlobalDestruction is available and loaded.
t/race_fail.t ..................... ok
# Devel::GlobalDestruction is available and loaded.
t/race_success.t .................. ok
# Devel::GlobalDestruction is available and loaded.
t/reject.t ........................ ok
# Devel::GlobalDestruction is available and loaded.
t/resolve.t ....................... ok
# Devel::GlobalDestruction is available and loaded.
t/then.t .......................... ok
# Devel::GlobalDestruction is available and loaded.
t/then_catch.t .................... ok
# Devel::GlobalDestruction is available and loaded.
t/then_promise.t .................. ok
# Devel::GlobalDestruction is available and loaded.
t/then_success.t .................. ok
# Devel::GlobalDestruction is available and loaded.
t/then_success_with_no_handler.t .. ok
# Devel::GlobalDestruction is available and loaded.
t/unhandled_rejection.t ........... ok
t/use_event_anyevent.t ............ ok
t/use_event_ioasync.t ............. ok
t/use_event_mojolicious.t ......... ok
All tests successful.
Files=35, Tests=143, 22 wallclock secs ( 0.07 usr 0.07 sys + 3.61 cusr 0.51 csys = 4.26 CPU)
Result: PASS
------------------------------
PREREQUISITES
------------------------------
Prerequisite modules loaded:
build_requires:
Module Need Have
----------------------------- -------- --------
autodie 0 2.36
ExtUtils::MakeMaker 0 7.70
FindBin 0 1.53
Test::Class 0 0.52
Test::Deep 0 1.204
Test::FailWarnings 0 0.008
Test::Fatal 0 0.017
Test::More 1.302103 1.302195
configure_requires:
Module Need Have
----------------------------- -------- --------
ExtUtils::MakeMaker::CPANfile 0.09 0.09
opt_requires:
Module Need Have
----------------------------- -------- --------
! Future::AsyncAwait 0.47 n/a
------------------------------
ENVIRONMENT AND OTHER CONTEXT
------------------------------
Environment variables:
AUTOMATED_TESTING = 1
LANG = en_GB.UTF-8
LANGUAGE = en_GB:en
LC_TERMINAL = iTerm2
LC_TERMINAL_VERSION = 3.4.19
NONINTERACTIVE_TESTING = 1
PATH = /home/david/.nvm/versions/node/v18.16.1/bin:/home/david/.cargo/bin:/home/david/perl5/perlbrew/bin:/home/david/perl5/perlbrew/perls/perl-5.30.2/bin:/home/david/bin:/usr/local/bin:/usr/bin:/bin:/usr/local/games:/usr/games
PERL = 5.38.0-SILENT_NO_TAINT
PERL5LIB =
PERL5OPT =
PERL5_CPANPLUS_IS_RUNNING = 2829074
PERL5_CPAN_IS_RUNNING = 2829074
PERLBREW_HOME = /home/david/.perlbrew
PERLBREW_MANPATH = /home/david/perl5/perlbrew/perls/perl-5.30.2/man
PERLBREW_PATH = /home/david/perl5/perlbrew/bin:/home/david/perl5/perlbrew/perls/perl-5.30.2/bin
PERLBREW_PERL = perl-5.30.2
PERLBREW_ROOT = /home/david/perl5/perlbrew
PERLBREW_SHELLRC_VERSION = 0.89
PERLBREW_VERSION = 0.89
PERLVER = 5.38.0-SILENT_NO_TAINT
PERL_INLINE_DIRECTORY = /home/david/.Inline-5.38.0-SILENT_NO_TAINT
PERL_MM_USE_DEFAULT = 1
PERL_USE_UNSAFE_INC = 0
SHELL = /bin/bash
TERM = screen
Perl special variables (and OS-specific diagnostics, for MSWin32):
$^X = /home/david/cpantesting/perl-5.38.0-SILENT_NO_TAINT/bin/perl
$UID/$EUID = 1000 / 1000
$GID = 1000 24 25 27 29 30 44 46 109 1000
$EGID = 1000 24 25 27 29 30 44 46 109 1000
Perl module toolchain versions installed:
Module Have
------------------- --------
CPAN 2.36
CPAN::Meta 2.150010
Cwd 3.89
ExtUtils::CBuilder 0.280238
ExtUtils::Command 7.70
ExtUtils::Install 2.22
ExtUtils::MakeMaker 7.70
ExtUtils::Manifest 1.75
ExtUtils::ParseXS 3.51
File::Spec 3.88
JSON 4.10
JSON::PP 4.16
Module::Build 0.4234
Module::Signature n/a
Parse::CPAN::Meta 2.150010
Test2 1.302195
Test::Harness 3.44
Test::More 1.302195
YAML 1.30
YAML::Syck n/a
version 0.9929
--
Summary of my perl5 (revision 5 version 38 subversion 0) configuration:
Platform:
osname=linux
osvers=5.10.0-11-amd64
archname=x86_64-linux
uname='linux cpantesting-linux 5.10.0-11-amd64 #1 smp debian 5.10.92-1 (2022-01-18) x86_64 gnulinux '
config_args='-de -Dprefix=/home/david/cpantesting/perl-5.38.0-SILENT_NO_TAINT -Accflags=-DSILENT_NO_TAINT_SUPPORT'
hint=recommended
useposix=true
d_sigaction=define
useithreads=undef
usemultiplicity=undef
use64bitint=define
use64bitall=define
uselongdouble=undef
usemymalloc=n
default_inc_excludes_dot=define
Compiler:
cc='cc'
ccflags ='-DSILENT_NO_TAINT_SUPPORT -fwrapv -fno-strict-aliasing -pipe -fstack-protector-strong -I/usr/local/include -D_LARGEFILE_SOURCE -D_FILE_OFFSET_BITS=64 -D_FORTIFY_SOURCE=2'
optimize='-O2'
cppflags='-DSILENT_NO_TAINT_SUPPORT -fwrapv -fno-strict-aliasing -pipe -fstack-protector-strong -I/usr/local/include'
ccversion=''
gccversion='10.2.1 20210110'
gccosandvers=''
intsize=4
longsize=8
ptrsize=8
doublesize=8
byteorder=12345678
doublekind=3
d_longlong=define
longlongsize=8
d_longdbl=define
longdblsize=16
longdblkind=3
ivtype='long'
ivsize=8
nvtype='double'
nvsize=8
Off_t='off_t'
lseeksize=8
alignbytes=8
prototype=define
Linker and Libraries:
ld='cc'
ldflags =' -fstack-protector-strong -L/usr/local/lib'
libpth=/usr/local/lib /usr/lib/x86_64-linux-gnu /usr/lib /usr/lib64
libs=-lpthread -ldl -lm -lcrypt -lutil -lc
perllibs=-lpthread -ldl -lm -lcrypt -lutil -lc
libc=libc-2.31.so
so=so
useshrplib=false
libperl=libperl.a
gnulibc_version='2.31'
Dynamic Linking:
dlsrc=dl_dlopen.xs
dlext=so
d_dlsymun=undef
ccdlflags='-Wl,-E'
cccdlflags='-fPIC'
lddlflags='-shared -O2 -L/usr/local/lib -fstack-protector-strong'
Characteristics of this binary (from libperl):
Compile-time options:
HAS_LONG_DOUBLE
HAS_STRTOLD
HAS_TIMES
NO_TAINT_SUPPORT
PERLIO_LAYERS
PERL_COPY_ON_WRITE
PERL_DONT_CREATE_GVSV
PERL_HASH_FUNC_SIPHASH13
PERL_HASH_USE_SBOX32
PERL_MALLOC_WRAP
PERL_OP_PARENT
PERL_PRESERVE_IVUV
PERL_USE_SAFE_PUTENV
SILENT_NO_TAINT_SUPPORT
USE_64_BIT_ALL
USE_64_BIT_INT
USE_LARGE_FILES
USE_LOCALE
USE_LOCALE_COLLATE
USE_LOCALE_CTYPE
USE_LOCALE_NUMERIC
USE_LOCALE_TIME
USE_PERLIO
USE_PERL_ATOF
Built under linux
Compiled at Jul 4 2023 13:59:06
%ENV:
PERL="5.38.0-SILENT_NO_TAINT"
PERL5LIB=""
PERL5OPT=""
PERL5_CPANPLUS_IS_RUNNING="2829074"
PERL5_CPAN_IS_RUNNING="2829074"
PERLBREW_HOME="/home/david/.perlbrew"
PERLBREW_MANPATH="/home/david/perl5/perlbrew/perls/perl-5.30.2/man"
PERLBREW_PATH="/home/david/perl5/perlbrew/bin:/home/david/perl5/perlbrew/perls/perl-5.30.2/bin"
PERLBREW_PERL="perl-5.30.2"
PERLBREW_ROOT="/home/david/perl5/perlbrew"
PERLBREW_SHELLRC_VERSION="0.89"
PERLBREW_VERSION="0.89"
PERLVER="5.38.0-SILENT_NO_TAINT"
PERL_INLINE_DIRECTORY="/home/david/.Inline-5.38.0-SILENT_NO_TAINT"
PERL_MM_USE_DEFAULT="1"
PERL_USE_UNSAFE_INC="0"
@INC:
/home/david/cpantesting/perl-5.38.0-SILENT_NO_TAINT/lib/site_perl/5.38.0/x86_64-linux
/home/david/cpantesting/perl-5.38.0-SILENT_NO_TAINT/lib/site_perl/5.38.0
/home/david/cpantesting/perl-5.38.0-SILENT_NO_TAINT/lib/5.38.0/x86_64-linux
/home/david/cpantesting/perl-5.38.0-SILENT_NO_TAINT/lib/5.38.0