DBIx-Class-Helpers v2.036000 Perl 5 v5.41.1 amd64-midnightbsd-thread-multi
- Status
- Pass
- From
- Carlos Guevara
- Dist
-
DBIx-Class-Helpers v2.036000
- Platform
- Perl 5 v5.41.1 amd64-midnightbsd-thread-multi
- Date
- 2024-07-02 03:58:34
- ID
- 5a3d2002-3827-11ef-901b-e455a6d199b3
This distribution has been tested as part of the CPAN Testers
project, supporting the Perl programming language. See
http://wiki.cpantesters.org/ for more information or email
questions to cpan-testers-discuss@perl.org
--
Dear Arthur Axel fREW Schmidt,
This is a computer-generated report for DBIx-Class-Helpers-2.036000
on perl 5.41.1, created by CPAN-Reporter-1.2019.
Thank you for uploading your work to CPAN. Congratulations!
All tests were successful.
Sections of this report:
* Tester comments
* Program output
* Prerequisites
* Environment and other context
------------------------------
TESTER COMMENTS
------------------------------
Additional comments from tester:
this report is from an automated smoke testing program
and was not reviewed by a human for accuracy
------------------------------
PROGRAM OUTPUT
------------------------------
Output from '/usr/bin/make test':
PERL_DL_NONLAZY=1 "/usr/home/cpan/bin/perl/bin/perl5.41.1" "-MExtUtils::Command::MM" "-MTest::Harness" "-e" "undef *Test::Harness::Switches; test_harness(0, 'blib/lib', 'blib/arch')" t/*.t t/ResultClass/*.t t/ResultSet/*.t t/ResultSet/DateMethods1/*.t t/ResultSet/RemoveColumns/*.t t/ResultSet/Shortcut/*.t t/ResultSet/Shortcut/Search/*.t t/Row/*.t t/Schema/*.t t/Schema/Verifier/*.t
t/author-pod-syntax.t ........................ skipped: these tests are for testing by the author
t/bug-1.t .................................... ok
t/ResultClass/Tee.t .......................... ok
t/ResultSet/Bare.t ........................... ok
t/ResultSet/CorrelateRelationship.t .......... ok
t/ResultSet/DateMethods1/bugs.t .............. ok
t/ResultSet/DateMethods1/mssql.t ............. ok
t/ResultSet/DateMethods1/mysql.t ............. ok
t/ResultSet/DateMethods1/oracle.t ............ ok
t/ResultSet/DateMethods1/pg.t ................ ok
t/ResultSet/DateMethods1/sqlite.t ............ ok
t/ResultSet/Errors.t ......................... ok
t/ResultSet/Explain.t ........................ ok
t/ResultSet/IgnoreWantarray.t ................ ok
t/ResultSet/Me.t ............................. ok
t/ResultSet/NoColumns.t ...................... ok
t/ResultSet/OneRow.t ......................... ok
t/ResultSet/Random.t ......................... ok
t/ResultSet/RemoveColumns.t .................. ok
t/ResultSet/RemoveColumns/_resolved_attrs.t .. ok
t/ResultSet/ResultClassDWIM.t ................ ok
t/ResultSet/SearchOr.t ....................... ok
t/ResultSet/SetOperations.t .................. ok
t/ResultSet/Shortcut/AddColumns.t ............ ok
t/ResultSet/Shortcut/Columns.t ............... ok
t/ResultSet/Shortcut/Distinct.t .............. ok
t/ResultSet/Shortcut/GroupBy.t ............... ok
t/ResultSet/Shortcut/HasRows.t ............... ok
t/ResultSet/Shortcut/HRI.t ................... ok
t/ResultSet/Shortcut/Limit.t ................. ok
t/ResultSet/Shortcut/LimitedPage.t ........... ok
t/ResultSet/Shortcut/OrderBy.t ............... ok
t/ResultSet/Shortcut/OrderByMagic.t .......... ok
t/ResultSet/Shortcut/Prefetch.t .............. ok
t/ResultSet/Shortcut/RemoveColumns.t ......... ok
t/ResultSet/Shortcut/ResultsExist.t .......... ok
t/ResultSet/Shortcut/Rows.t .................. ok
t/ResultSet/Shortcut/Search/Base.t ........... ok
t/ResultSet/Shortcut/Search/Like.t ........... ok
t/ResultSet/Shortcut/Search/NotLike.t ........ ok
t/ResultSet/Shortcut/Search/NotNull.t ........ ok
t/ResultSet/Shortcut/Search/Null.t ........... ok
t/Row/CleanResultSet.t ....................... ok
t/Row/JoinTable.t ............................ ok
t/Row/NumifyGet.t ............................ ok
t/Row/OnColumnChange.t ....................... ok
t/Row/OnColumnMissing.t ...................... ok
t/Row/ProxyResultSetMethod.t ................. ok
t/Row/ProxyResultSetUpdate.t ................. ok
t/Row/RelationshipDWIM.t ..................... ok
t/Row/SelfResultSet.t ........................ ok
t/Row/StorageValues.t ........................ ok
t/Row/SubClass.t ............................. ok
t/Row/ToJSON.t ............................... ok
t/Schema/DateTime.t .......................... ok
t/Schema/DidYouMean.t ........................ ok
t/Schema/GenerateSource.t .................... ok
t/Schema/LintContents.t ...................... ok
t/Schema/Verifier.t .......................... ok
t/Schema/Verifier/C3.t ....................... ok
t/Schema/Verifier/ColumnInfo.t ............... ok
t/Schema/Verifier/Parent.t ................... ok
t/Schema/Verifier/RelationshipColumnName.t ... ok
t/utilities.t ................................ ok
All tests successful.
Files=64, Tests=230, 14 wallclock secs ( 0.15 usr 0.03 sys + 12.20 cusr 1.59 csys = 13.98 CPU)
Result: PASS
------------------------------
PREREQUISITES
------------------------------
Prerequisite modules loaded:
requires:
Module Need Have
-------------------------- -------- --------
Carp::Clan 6.04 6.08
DBIx::Class 0.0826 0.082843
DBIx::Class::Candy 0.003001 0.005003
DBIx::Introspector 0.001002 0.001005
Lingua::EN::Inflect 0 1.905
List::Util 0 1.63
Module::Runtime 0 0.016
Moo 2 2.005005
namespace::clean 0.23 0.27
parent 0 0.241
Safe::Isa 0 1.000010
Sub::Exporter::Progressive 0.001006 0.001013
Text::Brew 0 0.02
Try::Tiny 0 0.31
build_requires:
Module Need Have
-------------------------- -------- --------
aliased 0.34 0.34
DateTime::Format::SQLite 0 0.11
DBD::SQLite 0 1.74
ExtUtils::MakeMaker 0 7.70
Test::Deep 0 1.204
Test::Fatal 0.006 0.017
Test::More 0.94 1.302199
Test::Roo 1.003 1.004
configure_requires:
Module Need Have
-------------------------- -------- --------
ExtUtils::MakeMaker 0 7.70
------------------------------
ENVIRONMENT AND OTHER CONTEXT
------------------------------
Environment variables:
AUTOMATED_TESTING = 1
DATE_MANIP_TEST_DM5 = 1
LC_ALL = C
NONINTERACTIVE_TESTING = 1
NO_NETWORK_TESTING = 1
PATH = /home/cpan/bin/perl/bin:/home/cpan/bin:/sbin:/bin:/usr/sbin:/usr/bin:/usr/games:/usr/local/sbin:/usr/local/bin:/home/cpan/bin
PERL5LIB =
PERL5OPT =
PERL5_CPANPLUS_IS_RUNNING = 30672
PERL5_CPAN_IS_RUNNING = 30672
PERL_MM_USE_DEFAULT = 1
PERL_USE_UNSAFE_INC = 1
SHELL = /usr/local/bin/bash
TERM = screen
TMPDIR = /home/cpan/tmp
Perl special variables (and OS-specific diagnostics, for MSWin32):
$^X = /usr/home/cpan/bin/perl/bin/perl5.41.1
$UID/$EUID = 1002 / 1002
$GID = 1002 1002
$EGID = 1002 1002
Perl module toolchain versions installed:
Module Have
------------------- --------
CPAN 2.36
CPAN::Meta 2.150010
Cwd 3.90
ExtUtils::CBuilder 0.280240
ExtUtils::Command 7.70
ExtUtils::Install 2.22
ExtUtils::MakeMaker 7.70
ExtUtils::Manifest 1.75
ExtUtils::ParseXS 3.52
File::Spec 3.90
JSON 4.10
JSON::PP 4.16
Module::Build 0.4234
Module::Signature n/a
Parse::CPAN::Meta 2.150010
Test2 1.302199
Test::Harness 3.48
Test::More 1.302199
YAML 1.31
YAML::Syck n/a
version 0.9930
--
Summary of my perl5 (revision 5 version 41 subversion 1) configuration:
Commit id: 4c992435a2d3e98bba859d251e8869ac1f14a364
Platform:
osname=midnightbsd
osvers=3.1.3
archname=amd64-midnightbsd-thread-multi
uname='midnightbsd cjg-midnightbsd3 3.1.3 midnightbsd 3.1.3 #9n12826-9619ab86ba(stable3.1)-dirty: mon dec 25 14:57:58 est 2023 root@m3164:usrobjusrsrcamd64.amd64sysgeneric amd64 '
config_args='-des -Dprefix=/home/cpan/bin/perl -Dscriptdir=/home/cpan/bin/perl/bin -Dusedevel -Duse64bitall -Duseithreads'
hint=recommended
useposix=true
d_sigaction=define
useithreads=define
usemultiplicity=define
use64bitint=define
use64bitall=define
uselongdouble=undef
usemymalloc=n
default_inc_excludes_dot=define
Compiler:
cc='cc'
ccflags ='-DHAS_FPSETMASK -DHAS_FLOATINGPOINT_H -fno-strict-aliasing -pipe -fstack-protector-strong -I/usr/local/include'
optimize='-O'
cppflags='-DHAS_FPSETMASK -DHAS_FLOATINGPOINT_H -fno-strict-aliasing -pipe -fstack-protector-strong -I/usr/local/include'
ccversion=''
gccversion='MidnightBSD Clang 13.0.0 (git@github.com:llvm/llvm-project.git llvmorg-13.0.0-0-gd7b669b3a303)'
gccosandvers=''
intsize=4
longsize=8
ptrsize=8
doublesize=8
byteorder=12345678
doublekind=3
d_longlong=define
longlongsize=8
d_longdbl=define
longdblsize=16
longdblkind=3
ivtype='long'
ivsize=8
nvtype='double'
nvsize=8
Off_t='off_t'
lseeksize=8
alignbytes=8
prototype=define
Linker and Libraries:
ld='cc'
ldflags ='-pthread -Wl,-E -fstack-protector-strong -L/usr/local/lib'
libpth=/usr/lib /usr/local/lib /usr/lib/clang/13.0.0/lib
libs=-lpthread -lgdbm -ldl -lm -lcrypt
perllibs=-lpthread -ldl -lm -lcrypt
libc=
so=so
useshrplib=false
libperl=libperl.a
gnulibc_version=''
Dynamic Linking:
dlsrc=dl_dlopen.xs
dlext=so
d_dlsymun=undef
ccdlflags=' '
cccdlflags='-DPIC -fPIC'
lddlflags='-shared -L/usr/local/lib -fstack-protector-strong'
Characteristics of this binary (from libperl):
Compile-time options:
HAS_LONG_DOUBLE
HAS_STRTOLD
HAS_TIMES
MULTIPLICITY
PERLIO_LAYERS
PERL_COPY_ON_WRITE
PERL_DONT_CREATE_GVSV
PERL_HASH_FUNC_SIPHASH13
PERL_HASH_USE_SBOX32
PERL_MALLOC_WRAP
PERL_OP_PARENT
PERL_PRESERVE_IVUV
PERL_USE_DEVEL
PERL_USE_SAFE_PUTENV
USE_64_BIT_ALL
USE_64_BIT_INT
USE_ITHREADS
USE_LARGE_FILES
USE_LOCALE
USE_LOCALE_COLLATE
USE_LOCALE_CTYPE
USE_LOCALE_NUMERIC
USE_LOCALE_TIME
USE_PERLIO
USE_PERL_ATOF
USE_REENTRANT_API
USE_THREAD_SAFE_LOCALE
Built under midnightbsd
Compiled at Jul 1 2024 22:35:14
%ENV:
PERL5LIB=""
PERL5OPT=""
PERL5_CPANPLUS_IS_RUNNING="30672"
PERL5_CPAN_IS_RUNNING="30672"
PERL_MM_USE_DEFAULT="1"
PERL_USE_UNSAFE_INC="1"
@INC:
/home/cpan/bin/perl/lib/site_perl/5.41.1/amd64-midnightbsd-thread-multi
/home/cpan/bin/perl/lib/site_perl/5.41.1
/home/cpan/bin/perl/lib/5.41.1/amd64-midnightbsd-thread-multi
/home/cpan/bin/perl/lib/5.41.1
.