Dist-Zilla-Plugin-ReportPhase v0.03 Perl 5 v5.27.10 darwin-2level

Status
Unknown
From
NONAME
Dist
Dist-Zilla-Plugin-ReportPhase v0.03
Platform
Perl 5 v5.27.10 darwin-2level
Date
2018-03-22 18:32:19
ID
5a6b5348-2dff-11e8-a70d-8e629809de9c
This distribution has been tested as part of the CPAN Testers
project, supporting the Perl programming language.  See
http://wiki.cpantesters.org/ for more information or email
questions to cpan-testers-discuss@perl.org


--
Dear SWESTRUP,

This is a computer-generated report for Dist-Zilla-Plugin-ReportPhase-0.03
on perl 5.27.10, created by App::cpanminus::reporter 0.17 (1.7043).

Thank you for uploading your work to CPAN.  However, attempting to
test your distribution gave an inconclusive result.

This could be because your distribution had an error during the make/build
stage, did not define tests, tests could not be found, because your tests were
interrupted before they finished, or because the results of the tests could not
be parsed.  You may wish to consult the CPAN Testers Wiki:

http://wiki.cpantesters.org/wiki/CPANAuthorNotes

Sections of this report:

    * Tester comments
    * Program output
    * Prerequisites
    * Environment and other context

------------------------------
TESTER COMMENTS
------------------------------

Additional comments from tester:

none provided

------------------------------
PROGRAM OUTPUT
------------------------------

Output from '':

Building and testing Dist-Zilla-Plugin-ReportPhase-0.03
Manifying 1 pod document
PERL_DL_NONLAZY=1 "/Users/ether/perl5/perlbrew/perls/27.10/bin/perl5.27.10" "-MExtUtils::Command::MM" "-MTest::Harness" "-e" "undef *Test::Harness::Switches; test_harness(0, 'blib/lib', 'blib/arch')" t/*.t
t/release-dist-manifest.t .... skipped: these tests are for release candidate testing
t/release-minimum-version.t .. skipped: these tests are for release candidate testing
t/release-pod-syntax.t ....... skipped: these tests are for release candidate testing
t/release-portability.t ...... skipped: these tests are for release candidate testing
Files=4, Tests=0,  0 wallclock secs ( 0.03 usr  0.01 sys +  0.32 cusr  0.05 csys =  0.41 CPU)
Result: NOTESTS

------------------------------
PREREQUISITES
------------------------------

Prerequisite modules loaded:

    No requirements found

------------------------------
ENVIRONMENT AND OTHER CONTEXT
------------------------------

Environment variables:

    HARNESS_OPTIONS = j5:c
    LANG = en_CA.UTF-8
    NO_NETWORK_TESTING = 1
    PATH = /Users/ether/.perlbrew/libs/27.10@std/bin:/Users/ether/perl5/perlbrew/bin:/Users/ether/perl5/perlbrew/perls/27.10/bin:/Users/ether/bin:/Users/ether/git/misc/install/bourbon/bin:/Users/ether/git/misc/install/generic/bin:/opt/local/bin:/opt/local/sbin:/Users/ether/git/git-hub/lib:/Users/ether/src/CE/devtools:/Users/ether/git/CE/devtools:/Users/ether/src/CE/bin:/Users/ether/git/CE/bin:/usr/local/bin:/usr/bin:/bin:/usr/sbin:/sbin:/opt/local/share/git-core/contrib/workdir
    PERL5LIB = /Users/ether/.perlbrew/libs/27.10@std/lib/perl5
    PERLBREW_HOME = /Users/ether/.perlbrew
    PERLBREW_LIB = std
    PERLBREW_MANPATH = /Users/ether/.perlbrew/libs/27.10@std/man:/Users/ether/perl5/perlbrew/perls/27.10/man
    PERLBREW_PATH = /Users/ether/.perlbrew/libs/27.10@std/bin:/Users/ether/perl5/perlbrew/bin:/Users/ether/perl5/perlbrew/perls/27.10/bin
    PERLBREW_PERL = 27.10
    PERLBREW_ROOT = /Users/ether/perl5/perlbrew
    PERLBREW_SHELLRC_VERSION = 0.82
    PERLBREW_VERSION = 0.82
    PERLDOC = -oman
    PERLDOC_PAGER = less -sicMr
    PERL_AUTOINSTALL_PREFER_CPAN = 1
    PERL_INSTALL_QUIET = 1
    PERL_LOCAL_LIB_ROOT = /Users/ether/.perlbrew/libs/27.10@std
    PERL_MB_OPT = --install_base /Users/ether/.perlbrew/libs/27.10@std
    PERL_MM_OPT = INSTALL_BASE=/Users/ether/.perlbrew/libs/27.10@std
    PERL_USE_UNSAFE_INC = 0
    SHELL = /bin/bash
    TERM = xterm-color
    TMPDIR = /var/folders/8r/y_1q6y1n56b3dpj2_vqxk83r0000gn/T/

Perl special variables (and OS-specific diagnostics, for MSWin32):

    EGID = 20 20 701 12 61 79 80 81 98 399 33 100 204 395 398
    EUID = 501
    EXECUTABLE_NAME = /Users/ether/perl5/perlbrew/perls/27.10/bin/perl5.27.10
    GID = 20 20 701 12 61 79 80 81 98 399 33 100 204 395 398
    UID = 501

Perl module toolchain versions installed:

    Module              Have    
    ------------------- --------
    CPAN                2.20    
    CPAN::Meta          2.150010
    Cwd                 3.74    
    ExtUtils::CBuilder  0.280230
    ExtUtils::Command   7.34    
    ExtUtils::Install   2.14    
    ExtUtils::MakeMaker 7.34    
    ExtUtils::Manifest  1.70    
    ExtUtils::ParseXS   3.39    
    File::Spec          3.74    
    JSON                2.97001 
    JSON::PP            2.97001 
    Module::Build       0.4224  
    Module::Signature   n/a     
    Parse::CPAN::Meta   2.150010
    Test::Harness       3.42    
    Test::More          1.302133
    YAML                1.24    
    YAML::Syck          1.30    
    version             0.9918  


--

Summary of my perl5 (revision 5 version 27 subversion 10) configuration:
   
  Platform:
    osname=darwin
    osvers=16.7.0
    archname=darwin-2level
    uname='darwin bourbon 16.7.0 darwin kernel version 16.7.0: thu jan 11 22:59:40 pst 2018; root:xnu-3789.73.8~1release_x86_64 x86_64 '
    config_args='-de -Dprefix=/Users/ether/perl5/perlbrew/perls/27.10 -Dman1dir=none -Dman3dir=none -Dusedevel -Aeval:scriptdir=/Users/ether/perl5/perlbrew/perls/27.10/bin'
    hint=recommended
    useposix=true
    d_sigaction=define
    useithreads=undef
    usemultiplicity=undef
    use64bitint=define
    use64bitall=define
    uselongdouble=undef
    usemymalloc=n
    default_inc_excludes_dot=define
    bincompat5005=undef
  Compiler:
    cc='cc'
    ccflags ='-fno-common -DPERL_DARWIN -mmacosx-version-min=10.12 -fno-strict-aliasing -pipe -fstack-protector-strong -I/usr/local/include -I/opt/local/include -DPERL_USE_SAFE_PUTENV'
    optimize='-O3'
    cppflags='-fno-common -DPERL_DARWIN -mmacosx-version-min=10.12 -fno-strict-aliasing -pipe -fstack-protector-strong -I/usr/local/include -I/opt/local/include'
    ccversion=''
    gccversion='4.2.1 Compatible Apple LLVM 9.0.0 (clang-900.0.39.2)'
    gccosandvers=''
    intsize=4
    longsize=8
    ptrsize=8
    doublesize=8
    byteorder=12345678
    doublekind=3
    d_longlong=define
    longlongsize=8
    d_longdbl=define
    longdblsize=16
    longdblkind=3
    ivtype='long'
    ivsize=8
    nvtype='double'
    nvsize=8
    Off_t='off_t'
    lseeksize=8
    alignbytes=8
    prototype=define
  Linker and Libraries:
    ld='cc'
    ldflags =' -mmacosx-version-min=10.12 -fstack-protector-strong -L/usr/local/lib -L/opt/local/lib'
    libpth=/usr/local/lib /Applications/Xcode.app/Contents/Developer/Toolchains/XcodeDefault.xctoolchain/usr/lib/clang/9.0.0/lib /Applications/Xcode.app/Contents/Developer/Toolchains/XcodeDefault.xctoolchain/usr/lib /usr/lib /opt/local/lib
    libs=-lpthread -lgdbm -ldbm -ldl -lm -lutil -lc
    perllibs=-lpthread -ldl -lm -lutil -lc
    libc=
    so=dylib
    useshrplib=false
    libperl=libperl.a
    gnulibc_version=''
  Dynamic Linking:
    dlsrc=dl_dlopen.xs
    dlext=bundle
    d_dlsymun=undef
    ccdlflags=' '
    cccdlflags=' '
    lddlflags=' -mmacosx-version-min=10.12 -bundle -undefined dynamic_lookup -L/usr/local/lib -L/opt/local/lib -fstack-protector-strong'


Characteristics of this binary (from libperl): 
  Compile-time options:
    HAS_TIMES
    PERLIO_LAYERS
    PERL_COPY_ON_WRITE
    PERL_DONT_CREATE_GVSV
    PERL_MALLOC_WRAP
    PERL_OP_PARENT
    PERL_PRESERVE_IVUV
    PERL_USE_DEVEL
    PERL_USE_SAFE_PUTENV
    USE_64_BIT_ALL
    USE_64_BIT_INT
    USE_LARGE_FILES
    USE_LOCALE
    USE_LOCALE_COLLATE
    USE_LOCALE_CTYPE
    USE_LOCALE_NUMERIC
    USE_LOCALE_TIME
    USE_PERLIO
    USE_PERL_ATOF
  Locally applied patches:
    Devel::PatchPerl 1.48
  Built under darwin
  Compiled at Mar 22 2018 10:25:38
  %ENV:
    PERL5LIB="/Users/ether/.perlbrew/libs/27.10@std/lib/perl5"
    PERLBREW_HOME="/Users/ether/.perlbrew"
    PERLBREW_LIB="std"
    PERLBREW_MANPATH="/Users/ether/.perlbrew/libs/27.10@std/man:/Users/ether/perl5/perlbrew/perls/27.10/man"
    PERLBREW_PATH="/Users/ether/.perlbrew/libs/27.10@std/bin:/Users/ether/perl5/perlbrew/bin:/Users/ether/perl5/perlbrew/perls/27.10/bin"
    PERLBREW_PERL="27.10"
    PERLBREW_ROOT="/Users/ether/perl5/perlbrew"
    PERLBREW_SHELLRC_VERSION="0.82"
    PERLBREW_VERSION="0.82"
    PERLDOC="-oman"
    PERLDOC_PAGER="less -sicMr"
    PERL_AUTOINSTALL_PREFER_CPAN="1"
    PERL_INSTALL_QUIET="1"
    PERL_LOCAL_LIB_ROOT="/Users/ether/.perlbrew/libs/27.10@std"
    PERL_MB_OPT="--install_base /Users/ether/.perlbrew/libs/27.10@std"
    PERL_MM_OPT="INSTALL_BASE=/Users/ether/.perlbrew/libs/27.10@std"
    PERL_USE_UNSAFE_INC="0"
  @INC:
    /Users/ether/.perlbrew/libs/27.10@std/lib/perl5/darwin-2level
    /Users/ether/.perlbrew/libs/27.10@std/lib/perl5
    /Users/ether/perl5/perlbrew/perls/27.10/lib/site_perl/5.27.10/darwin-2level
    /Users/ether/perl5/perlbrew/perls/27.10/lib/site_perl/5.27.10
    /Users/ether/perl5/perlbrew/perls/27.10/lib/5.27.10/darwin-2level
    /Users/ether/perl5/perlbrew/perls/27.10/lib/5.27.10