Report for autodie-2.29

Back
From: metabase:user:9c36dc84-a30f-11e0-a9fc-0a18abbd4f2f
Subject: PASS autodie-2.29 v5.20.2 OpenBSD
Date: 2016-06-11T11:05:05Z

This distribution has been tested as part of the CPAN Testers
project, supporting the Perl programming language.  See
http://wiki.cpantesters.org/ for more information or email
questions to cpan-testers-discuss@perl.org


--
Dear Paul Jamieson Fenwick,

This is a computer-generated report for autodie-2.29
on perl 5.20.2, created by CPAN-Reporter-1.2017.

Thank you for uploading your work to CPAN.  Congratulations!
All tests were successful.

Sections of this report:

    * Tester comments
    * Program output
    * Prerequisites
    * Environment and other context

------------------------------
TESTER COMMENTS
------------------------------

Additional comments from tester:

this report is from an automated smoke testing program
and was not reviewed by a human for accuracy

------------------------------
PROGRAM OUTPUT
------------------------------

Output from '/usr/bin/make test':

PERL_DL_NONLAZY=1 "/usr/bin/perl" "-MExtUtils::Command::MM" "-MTest::Harness" "-e" "undef *Test::Harness::Switches; test_harness(0, 'blib/lib', 'blib/arch')" t/*.t
t/00-load.t ...................... ok
t/args.t ......................... ok
t/author-critic.t ................ skipped: these tests are for testing by the author
t/autodie.t ...................... ok
t/backcompat.t ................... ok
t/basic_exceptions.t ............. ok
t/binmode.t ...................... ok
t/blog_hints.t ................... ok
t/caller.t ....................... ok
t/chmod.t ........................ ok
t/chown.t ........................ ok
t/context.t ...................... ok
t/context_lexical.t .............. ok
t/core-trampoline-slurp.t ........ ok
t/crickey.t ...................... ok
t/critic.t ....................... skipped: Author test.  Set $ENV{AUTHOR_TESTING} to true to run.
t/dbmopen.t ...................... ok
t/eval_error.t ................... ok
t/exception_class.t .............. ok
t/exceptions.t ................... ok
t/exec.t ......................... ok
t/Fatal.t ........................ ok
t/filehandles.t .................. ok
t/fileno.t ....................... ok
t/flock.t ........................ ok
t/fork.t ......................... ok
t/format-clobber.t ............... ok
# Sub::Identify is loaded
t/hints.t ........................ ok
t/hints_insist.t ................. ok
t/hints_pod_examples.t ........... ok
t/hints_provider_does.t .......... ok
t/hints_provider_easy_does_it.t .. ok
t/hints_provider_isa.t ........... ok
t/import-into.t .................. ok
t/internal-backcompat.t .......... ok
t/internal.t ..................... ok
t/kill.t ......................... ok
t/kwalitee.t ..................... skipped: Author test.  Set $ENV{RELEASE_TESTING} to true to run.
t/lethal.t ....................... ok
t/lex58.t ........................ ok
t/mkdir.t ........................ ok
t/no_carp.t ...................... ok
t/open.t ......................... ok
t/pod-coverage.t ................. skipped: Author test.  Set $ENV{AUTHOR_TESTING} to true to run.
t/pod.t .......................... skipped: Author test.  Set $ENV{AUTHOR_TESTING} to true to run.
t/read.t ......................... ok
t/recv.t ......................... ok
t/release-pod-coverage.t ......... skipped: these tests are for release candidate testing
t/release-pod-syntax.t ........... skipped: these tests are for release candidate testing
t/repeat.t ....................... ok
t/rt-74246.t ..................... ok
t/scope_leak.t ................... ok
t/skip.t ......................... ok
t/socket.t ....................... skipped: Author test.  Set $ENV{AUTHOR_TESTING} to true to run.
t/string-eval-basic.t ............ ok
t/string-eval-leak.t ............. ok
t/sysopen.t ...................... ok
t/system.t ....................... ok
t/truncate.t ..................... ok
t/unlink.t ....................... ok
t/user-context.t ................. ok
t/usersub.t ...................... ok
t/utf8_open.t .................... ok
t/utime.t ........................ ok
t/version.t ...................... skipped: Release test.  Set $ENV{RELEASE_TESTING} to true to run.
t/version_tag.t .................. ok
All tests successful.
Files=66, Tests=513,  9 wallclock secs ( 0.05 usr  1.20 sys +  5.41 cusr  1.95 csys =  8.61 CPU)
Result: PASS

------------------------------
PREREQUISITES
------------------------------

Prerequisite modules loaded:

requires:

    Module                  Need     Have    
    ----------------------- -------- --------
    B                       0        1.48    
    Carp                    0        1.38    
    constant                0        1.31    
    Exporter                5.57     5.71    
    Fcntl                   0        1.11    
    overload                0        1.22    
    parent                  0        0.228   
    perl                    5.008004 5.020002
    POSIX                   0        1.38_03 
    Scalar::Util            0        1.45    
    strict                  0        1.08    
    Tie::RefHash            0        1.39    
    warnings                0        1.23    

build_requires:

    Module                  Need     Have    
    ----------------------- -------- --------
    ExtUtils::MakeMaker     0        7.14    
    File::Copy              0        2.30    
    File::Spec              0        3.62    
    File::Temp              0        0.2304  
    FindBin                 0        1.51    
    if                      0        0.0603  
    IO::Handle              0        1.35    
    lib                     0        0.63    
    Socket                  0        2.021   
    Test::More              0        1.302019

configure_requires:

    Module                  Need     Have    
    ----------------------- -------- --------
    ExtUtils::MakeMaker     0        7.14    

opt_requires:

    Module                  Need     Have    
    ----------------------- -------- --------
    IPC::System::Simple     0.12     1.25    
    perl                    5.010    5.020002
    Sub::Identify           0        0.12    

opt_build_requires:

    Module                  Need     Have    
    ----------------------- -------- --------
    BSD::Resource           0        1.2910  
    Import::Into            1.002004 1.002005
    perl                    5.010    5.020002
    Pod::Coverage::TrustPod 0        0.100003
    Test::Kwalitee          0        1.22    
    Test::Perl::Critic      0        1.03    


------------------------------
ENVIRONMENT AND OTHER CONTEXT
------------------------------

Environment variables:

    AUTOMATED_TESTING = 1
    PATH = /home/arfreitas/perl5/bin:/usr/bin:/bin:/usr/sbin:/sbin:/usr/X11R6/bin:/usr/local/bin:/usr/local/sbin
    PERL5LIB = /home/arfreitas/perl5/lib/perl5
    PERL5OPT = 
    PERL5_CPANPLUS_IS_RUNNING = 21546
    PERL5_CPAN_IS_RUNNING = 21546
    PERL5_CPAN_IS_RUNNING_IN_RECURSION = 6,21546
    PERL_CR_SMOKER_CURRENT = BankAccount-Validator-UK-0.25
    PERL_EXTUTILS_AUTOINSTALL = --defaultdeps
    PERL_LOCAL_LIB_ROOT = /home/arfreitas/perl5
    PERL_MB_OPT = --install_base "/home/arfreitas/perl5"
    PERL_MM_OPT = INSTALL_BASE=/home/arfreitas/perl5
    PERL_MM_USE_DEFAULT = 1
    SHELL = /usr/local/bin/bash
    TERM = vt220

Perl special variables (and OS-specific diagnostics, for MSWin32):

    $^X = /usr/bin/perl
    $UID/$EUID = 1000 / 1000
    $GID = 1000 1000 0
    $EGID = 1000 1000 0

Perl module toolchain versions installed:

    Module              Have    
    ------------------- --------
    CPAN                2.10    
    CPAN::Meta          2.150005
    Cwd                 3.62    
    ExtUtils::CBuilder  0.280224
    ExtUtils::Command   7.14    
    ExtUtils::Install   1.67    
    ExtUtils::MakeMaker 7.14    
    ExtUtils::Manifest  1.70    
    ExtUtils::ParseXS   3.24    
    File::Spec          3.62    
    JSON                2.90    
    JSON::PP            2.27400 
    Module::Build       0.4218  
    Module::Signature   0.79    
    Parse::CPAN::Meta   1.4417  
    Test::Harness       3.36    
    Test::More          1.302019
    YAML                1.15    
    YAML::Syck          1.29    
    version             0.9909  


--

Summary of my perl5 (revision 5 version 20 subversion 2) configuration:
   
  Platform:
    osname=openbsd, osvers=5.9, archname=amd64-openbsd
    uname='openbsd'
    config_args='-dsE -Dopenbsd_distribution=defined -Dccflags=-DNO_LOCALE_NUMERIC -DNO_LOCALE_COLLATE -Dmksymlinks'
    hint=recommended, useposix=true, d_sigaction=define
    useithreads=undef, usemultiplicity=undef
    use64bitint=define, use64bitall=define, uselongdouble=undef
    usemymalloc=n, bincompat5005=undef
  Compiler:
    cc='cc', ccflags ='-DNO_LOCALE_NUMERIC -DNO_LOCALE_COLLATE -fno-strict-aliasing -fno-delete-null-pointer-checks -pipe -fstack-protector -I/usr/local/include',
    optimize='-O2',
    cppflags='-DNO_LOCALE_NUMERIC -DNO_LOCALE_COLLATE -fno-strict-aliasing -fno-delete-null-pointer-checks -pipe -fstack-protector -I/usr/local/include'
    ccversion='', gccversion='4.2.1 20070719 ', gccosandvers='openbsd5.9'
    intsize=4, longsize=8, ptrsize=8, doublesize=8, byteorder=12345678
    d_longlong=define, longlongsize=8, d_longdbl=define, longdblsize=16
    ivtype='long', ivsize=8, nvtype='double', nvsize=8, Off_t='off_t', lseeksize=8
    alignbytes=8, prototype=define
  Linker and Libraries:
    ld='cc', ldflags ='-Wl,-E  -fstack-protector -L/usr/local/lib'
    libpth=/usr/lib /usr/local/lib
    libs=-lm -lutil -lc
    perllibs=-lm -lutil -lc
    libc=/usr/lib/libc.a, so=so, useshrplib=true, libperl=libperl.so.17.1
    gnulibc_version=''
  Dynamic Linking:
    dlsrc=dl_dlopen.xs, dlext=so, d_dlsymun=undef, ccdlflags='-Wl,-R/usr/libdata/perl5/amd64-openbsd/5.20.2/CORE'
    cccdlflags='-DPIC -fPIC ', lddlflags='-shared -fPIC  -fstack-protector -L/usr/local/lib'


Characteristics of this binary (from libperl): 
  Compile-time options: HAS_TIMES PERLIO_LAYERS PERL_DONT_CREATE_GVSV
                        PERL_HASH_FUNC_ONE_AT_A_TIME_HARD PERL_MALLOC_WRAP
                        PERL_NEW_COPY_ON_WRITE PERL_PRESERVE_IVUV
                        USE_64_BIT_ALL USE_64_BIT_INT USE_LARGE_FILES
                        USE_LOCALE USE_LOCALE_CTYPE USE_PERLIO USE_PERL_ATOF
  Built under openbsd
  Compiled at Feb 26 2016 01:02:08
  %ENV:
    PERL5LIB="/home/arfreitas/perl5/lib/perl5"
    PERL5OPT=""
    PERL5_CPANPLUS_IS_RUNNING="21546"
    PERL5_CPAN_IS_RUNNING="21546"
    PERL5_CPAN_IS_RUNNING_IN_RECURSION="6,21546"
    PERL_CR_SMOKER_CURRENT="BankAccount-Validator-UK-0.25"
    PERL_EXTUTILS_AUTOINSTALL="--defaultdeps"
    PERL_LOCAL_LIB_ROOT="/home/arfreitas/perl5"
    PERL_MB_OPT="--install_base "/home/arfreitas/perl5""
    PERL_MM_OPT="INSTALL_BASE=/home/arfreitas/perl5"
    PERL_MM_USE_DEFAULT="1"
  @INC:
    /home/arfreitas/perl5/lib/perl5/5.20.2/amd64-openbsd
    /home/arfreitas/perl5/lib/perl5/5.20.2
    /home/arfreitas/perl5/lib/perl5/amd64-openbsd
    /home/arfreitas/perl5/lib/perl5
    /usr/local/libdata/perl5/site_perl/amd64-openbsd
    /usr/libdata/perl5/site_perl/amd64-openbsd
    /usr/local/libdata/perl5/site_perl
    /usr/libdata/perl5/site_perl
    /usr/libdata/perl5/amd64-openbsd/5.20.2
    /usr/local/libdata/perl5/amd64-openbsd/5.20.2
    /usr/libdata/perl5
    /usr/local/libdata/perl5
    .