IO-Stringy v2.113 Perl 5 v5.35.2 x86_64-linux
- Status
- Pass
- From
- John SJ Anderson
- Dist
-
IO-Stringy v2.113
- Platform
- Perl 5 v5.35.2 x86_64-linux
- Date
- 2021-07-24 18:02:47
- ID
- 5a8421b8-eca9-11eb-917f-4a69f82baa5e
This distribution has been tested as part of the CPAN Testers
project, supporting the Perl programming language. See
http://wiki.cpantesters.org/ for more information or email
questions to cpan-testers-discuss@perl.org
--
Dear CAPOEIRAB,
This is a computer-generated report for IO-Stringy-2.113
on perl 5.35.2, created by App::cpanminus::reporter 0.17 (1.7044).
Thank you for uploading your work to CPAN. Congratulations!
All tests were successful.
Sections of this report:
* Tester comments
* Program output
* Prerequisites
* Environment and other context
------------------------------
TESTER COMMENTS
------------------------------
Additional comments from tester:
none provided
------------------------------
PROGRAM OUTPUT
------------------------------
Output from '':
Building and testing IO-Stringy-2.113
cp lib/IO/InnerFile.pm blib/lib/IO/InnerFile.pm
cp lib/IO/Wrap.pm blib/lib/IO/Wrap.pm
cp lib/IO/ScalarArray.pm blib/lib/IO/ScalarArray.pm
cp lib/IO/AtomicFile.pm blib/lib/IO/AtomicFile.pm
cp lib/IO/WrapTie.pm blib/lib/IO/WrapTie.pm
cp lib/IO/Stringy.pm blib/lib/IO/Stringy.pm
cp lib/IO/Scalar.pm blib/lib/IO/Scalar.pm
cp lib/IO/Lines.pm blib/lib/IO/Lines.pm
Manifying 8 pod documents
PERL_DL_NONLAZY=1 "/opt/plenv/versions/5.35.2/bin/perl5.35.2" "-MExtUtils::Command::MM" "-MTest::Harness" "-e" "undef *Test::Harness::Switches; test_harness(0, 'blib/lib', 'blib/arch')" t/*.t
#
# Versions for all modules listed in MYMETA.json (including optional ones):
#
# === Configure Requires ===
#
# Module Want Have
# ------------------- ---- ----
# ExtUtils::MakeMaker any 7.62
#
# === Build Requires ===
#
# Module Want Have
# ------------------- ---- ----
# ExtUtils::MakeMaker any 7.62
#
# === Test Requires ===
#
# Module Want Have
# ------------------- ---- --------
# ExtUtils::MakeMaker any 7.62
# File::Basename any 2.85
# File::Spec any 3.81
# File::Temp any 0.2311
# FileHandle any 2.03
# IO::File any 1.47
# IO::Handle any 1.47
# Symbol any 1.09
# Test::More 0.88 1.302185
# Test::Tester any 1.302185
# strict any 1.12
# warnings any 1.52
#
# === Test Recommends ===
#
# Module Want Have
# ---------- -------- --------
# CPAN::Meta 2.120900 2.150010
#
# === Runtime Requires ===
#
# Module Want Have
# ---------- ---- -----
# Carp any 1.52
# Exporter 5.57 5.76
# File::Spec any 3.81
# FileHandle any 2.03
# IO::File any 1.47
# IO::Handle any 1.47
# Symbol any 1.09
# overload any 1.33
# parent any 0.238
# strict any 1.12
# warnings any 1.52
#
t/00-report-prereqs.t .. ok
t/IO_InnerFile.t ....... ok
t/IO_Lines.t ........... ok
t/IO_Scalar.t .......... ok
t/IO_ScalarArray.t ..... ok
t/IO_WrapTie.t ......... ok
t/simple.t ............. ok
t/two.t ................ ok
All tests successful.
Files=8, Tests=127, 1 wallclock secs ( 0.07 usr 0.02 sys + 0.60 cusr 0.08 csys = 0.77 CPU)
Result: PASS
------------------------------
PREREQUISITES
------------------------------
Prerequisite modules loaded:
No requirements found
------------------------------
ENVIRONMENT AND OTHER CONTEXT
------------------------------
Environment variables:
LANG = en_US.UTF-8
LC_ALL = en_US.UTF-8
LC_TERMINAL = iTerm2
LC_TERMINAL_VERSION = 3.4.8
PATH = /opt/plenv/versions/5.35.2/bin:/opt/plenv/libexec:/opt/plenv/plugins/perl-build/bin:/opt/plenv/shims:/opt/plenv/shims:/opt/plenv/bin:/home/genehack/bin:/opt/nvm/versions/node/v14.15.4/bin:/opt/go/bin:/opt/vim/bin:/opt/tmux/bin:/opt/ruby/bin:/opt/rust/bin:/opt/gitflow/bin:/opt/git/bin:/opt/emacs/bin:/opt/local/bin:/usr/local/bin:/usr/bin:/bin:/usr/games:/home/genehack/proj/go/bin:/opt/swift/usr/bin
PERL_CPANM_OPT = --skip-installed --prompt
SHELL = /bin/zsh
TERM = screen-256color
Perl special variables (and OS-specific diagnostics, for MSWin32):
EGID = 1001 24 25 27 29 30 44 46 102 125 1001
EUID = 1001
EXECUTABLE_NAME = /opt/plenv/versions/5.35.2/bin/perl5.35.2
GID = 1001 24 25 27 29 30 44 46 102 125 1001
UID = 1001
Perl module toolchain versions installed:
Module Have
------------------- --------
CPAN 2.28
CPAN::Meta 2.150010
Cwd 3.82
ExtUtils::CBuilder 0.280236
ExtUtils::Command 7.62
ExtUtils::Install 2.20
ExtUtils::MakeMaker 7.62
ExtUtils::Manifest 1.73
ExtUtils::ParseXS 3.43
File::Spec 3.81
JSON 4.03
JSON::PP 4.06
Module::Build 0.4231
Module::Signature n/a
Parse::CPAN::Meta 2.150010
Test::Harness 3.43
Test::More 1.302185
YAML 1.30
YAML::Syck n/a
version 0.9929
--
Summary of my perl5 (revision 5 version 35 subversion 2) configuration:
Platform:
osname=linux
osvers=4.19.0-17-amd64
archname=x86_64-linux
uname='linux ferb 4.19.0-17-amd64 #1 smp debian 4.19.194-2 (2021-06-21) x86_64 gnulinux '
config_args='-Dprefix=/opt/plenv/versions/5.35.2 -de -Dversiononly -Dusedevel -A'eval:scriptdir=/opt/plenv/versions/5.35.2/bin''
hint=recommended
useposix=true
d_sigaction=define
useithreads=undef
usemultiplicity=undef
use64bitint=define
use64bitall=define
uselongdouble=undef
usemymalloc=n
default_inc_excludes_dot=define
Compiler:
cc='cc'
ccflags ='-fwrapv -fno-strict-aliasing -pipe -fstack-protector-strong -I/usr/local/include -D_LARGEFILE_SOURCE -D_FILE_OFFSET_BITS=64 -D_FORTIFY_SOURCE=2'
optimize='-O2'
cppflags='-fwrapv -fno-strict-aliasing -pipe -fstack-protector-strong -I/usr/local/include'
ccversion=''
gccversion='8.3.0'
gccosandvers=''
intsize=4
longsize=8
ptrsize=8
doublesize=8
byteorder=12345678
doublekind=3
d_longlong=define
longlongsize=8
d_longdbl=define
longdblsize=16
longdblkind=3
ivtype='long'
ivsize=8
nvtype='double'
nvsize=8
Off_t='off_t'
lseeksize=8
alignbytes=8
prototype=define
Linker and Libraries:
ld='cc'
ldflags =' -fstack-protector-strong -L/usr/local/lib -L/opt/local/lib'
libpth=/usr/local/lib /usr/lib/x86_64-linux-gnu /usr/lib /opt/local/lib /lib/x86_64-linux-gnu /lib
libs=-lpthread -lnsl -lgdbm -ldl -lm -lcrypt -lutil -lc
perllibs=-lpthread -lnsl -ldl -lm -lcrypt -lutil -lc
libc=libc-2.28.so
so=so
useshrplib=false
libperl=libperl.a
gnulibc_version='2.28'
Dynamic Linking:
dlsrc=dl_dlopen.xs
dlext=so
d_dlsymun=undef
ccdlflags='-Wl,-E'
cccdlflags='-fPIC'
lddlflags='-shared -O2 -L/usr/local/lib -L/opt/local/lib -fstack-protector-strong'
Characteristics of this binary (from libperl):
Compile-time options:
HAS_TIMES
PERLIO_LAYERS
PERL_COPY_ON_WRITE
PERL_DONT_CREATE_GVSV
PERL_MALLOC_WRAP
PERL_OP_PARENT
PERL_PRESERVE_IVUV
PERL_USE_DEVEL
USE_64_BIT_ALL
USE_64_BIT_INT
USE_LARGE_FILES
USE_LOCALE
USE_LOCALE_COLLATE
USE_LOCALE_CTYPE
USE_LOCALE_NUMERIC
USE_LOCALE_TIME
USE_PERLIO
USE_PERL_ATOF
Built under linux
Compiled at Jul 24 2021 09:55:46
%ENV:
PERL_CPANM_OPT="--skip-installed --prompt"
@INC:
/opt/plenv/versions/5.35.2/lib/perl5/site_perl/5.35.2/x86_64-linux
/opt/plenv/versions/5.35.2/lib/perl5/site_perl/5.35.2
/opt/plenv/versions/5.35.2/lib/perl5/5.35.2/x86_64-linux
/opt/plenv/versions/5.35.2/lib/perl5/5.35.2