Report for Tk-JComboBox-1.14

Back
From: metabase:user:30f0bd62-2aae-11df-837a-5e0a49663a4f
Subject: PASS Tk-JComboBox-1.14 v5.15.1 OpenBSD
Date: 2011-08-20T11:05:46Z

This distribution has been tested as part of the CPAN Testers
project, supporting the Perl programming language.  See
http://wiki.cpantesters.org/ for more information or email
questions to cpan-testers-discuss@perl.org


--
Dear Rob Seegel,

This is a computer-generated report for Tk-JComboBox-1.14
on perl 5.15.1, created by CPAN-Reporter-1.2002.

Thank you for uploading your work to CPAN.  Congratulations!
All tests were successful.

Sections of this report:

    * Tester comments
    * Program output
    * Prerequisites
    * Environment and other context

------------------------------
TESTER COMMENTS
------------------------------

Additional comments from tester:

this report is from an automated smoke testing program
and was not reviewed by a human for accuracy

------------------------------
PROGRAM OUTPUT
------------------------------

Output from '/usr/bin/make test':

PERL_DL_NONLAZY=1 /home/sts/cpansmoke/perl-5.15.1/bin/perl5.15.1 "-MExtUtils::Command::MM" "-e" "test_harness(0, 'blib/lib', 'blib/arch')" t/*.t
t/01_Create.t ............ ok
# 
# 
# Test arrowbitmap:
# 
# Test arrowimage
# 
# Test background
# 
# Test borderwidth:
# 
# Test cursor:
# 
# Test entrybackground:
# 
# Test entrywidth:
# 
# Test foreground:
# 
# Test gap:
# 
# Test highlightthickness:
# 
# Test highlight:
# 
# Test listwidth:
# 
# Test pady:
# 
# Test relief:
# 
# Test selectbackground:
# 
# Test selectforeground:
# 
# Test selectborderwidth:
# 
# Test takefocus:
# 
# Test TextVariable:
Use of uninitialized value $args{"-type"} in lc at /home/sts/cpansmoke/perl-5.15.1/cpan/build/Tk-JComboBox-1.14-lDyivR/blib/lib/Tk/JComboBox.pm line 528.
Use of uninitialized value $args{"-mode"} in lc at /home/sts/cpansmoke/perl-5.15.1/cpan/build/Tk-JComboBox-1.14-lDyivR/blib/lib/Tk/JComboBox.pm line 1210.
Use of uninitialized value $args{"-type"} in lc at /home/sts/cpansmoke/perl-5.15.1/cpan/build/Tk-JComboBox-1.14-lDyivR/blib/lib/Tk/JComboBox.pm line 528.
Use of uninitialized value $args{"-mode"} in lc at /home/sts/cpansmoke/perl-5.15.1/cpan/build/Tk-JComboBox-1.14-lDyivR/blib/lib/Tk/JComboBox.pm line 1210.
Use of uninitialized value $args{"-mode"} in lc at /home/sts/cpansmoke/perl-5.15.1/cpan/build/Tk-JComboBox-1.14-lDyivR/blib/lib/Tk/JComboBox.pm line 1210.
Use of uninitialized value $args{"-type"} in lc at /home/sts/cpansmoke/perl-5.15.1/cpan/build/Tk-JComboBox-1.14-lDyivR/blib/lib/Tk/JComboBox.pm line 528.
Use of uninitialized value $args{"-mode"} in lc at /home/sts/cpansmoke/perl-5.15.1/cpan/build/Tk-JComboBox-1.14-lDyivR/blib/lib/Tk/JComboBox.pm line 1210.
Use of uninitialized value $args{"-mode"} in lc at /home/sts/cpansmoke/perl-5.15.1/cpan/build/Tk-JComboBox-1.14-lDyivR/blib/lib/Tk/JComboBox.pm line 1210.
Use of uninitialized value $args{"-mode"} in lc at /home/sts/cpansmoke/perl-5.15.1/cpan/build/Tk-JComboBox-1.14-lDyivR/blib/lib/Tk/JComboBox.pm line 1210.
Use of uninitialized value $args{"-type"} in lc at /home/sts/cpansmoke/perl-5.15.1/cpan/build/Tk-JComboBox-1.14-lDyivR/blib/lib/Tk/JComboBox.pm line 528.
Use of uninitialized value $args{"-mode"} in lc at /home/sts/cpansmoke/perl-5.15.1/cpan/build/Tk-JComboBox-1.14-lDyivR/blib/lib/Tk/JComboBox.pm line 1210.
Use of uninitialized value $args{"-mode"} in lc at /home/sts/cpansmoke/perl-5.15.1/cpan/build/Tk-JComboBox-1.14-lDyivR/blib/lib/Tk/JComboBox.pm line 1210.
Use of uninitialized value $args{"-mode"} in lc at /home/sts/cpansmoke/perl-5.15.1/cpan/build/Tk-JComboBox-1.14-lDyivR/blib/lib/Tk/JComboBox.pm line 1210.
Use of uninitialized value $args{"-mode"} in lc at /home/sts/cpansmoke/perl-5.15.1/cpan/build/Tk-JComboBox-1.14-lDyivR/blib/lib/Tk/JComboBox.pm line 1210.
Use of uninitialized value $args{"-mode"} in lc at /home/sts/cpansmoke/perl-5.15.1/cpan/build/Tk-JComboBox-1.14-lDyivR/blib/lib/Tk/JComboBox.pm line 1210.
Use of uninitialized value $args{"-type"} in lc at /home/sts/cpansmoke/perl-5.15.1/cpan/build/Tk-JComboBox-1.14-lDyivR/blib/lib/Tk/JComboBox.pm line 528.
Use of uninitialized value $args{"-mode"} in lc at /home/sts/cpansmoke/perl-5.15.1/cpan/build/Tk-JComboBox-1.14-lDyivR/blib/lib/Tk/JComboBox.pm line 1210.
Use of uninitialized value $args{"-mode"} in lc at /home/sts/cpansmoke/perl-5.15.1/cpan/build/Tk-JComboBox-1.14-lDyivR/blib/lib/Tk/JComboBox.pm line 1210.
Use of uninitialized value $args{"-mode"} in lc at /home/sts/cpansmoke/perl-5.15.1/cpan/build/Tk-JComboBox-1.14-lDyivR/blib/lib/Tk/JComboBox.pm line 1210.
Use of uninitialized value $args{"-type"} in lc at /home/sts/cpansmoke/perl-5.15.1/cpan/build/Tk-JComboBox-1.14-lDyivR/blib/lib/Tk/JComboBox.pm line 528.
Use of uninitialized value $args{"-mode"} in lc at /home/sts/cpansmoke/perl-5.15.1/cpan/build/Tk-JComboBox-1.14-lDyivR/blib/lib/Tk/JComboBox.pm line 1210.
Use of uninitialized value $args{"-mode"} in lc at /home/sts/cpansmoke/perl-5.15.1/cpan/build/Tk-JComboBox-1.14-lDyivR/blib/lib/Tk/JComboBox.pm line 1210.
Use of uninitialized value $args{"-mode"} in lc at /home/sts/cpansmoke/perl-5.15.1/cpan/build/Tk-JComboBox-1.14-lDyivR/blib/lib/Tk/JComboBox.pm line 1210.
Use of uninitialized value $args{"-mode"} in lc at /home/sts/cpansmoke/perl-5.15.1/cpan/build/Tk-JComboBox-1.14-lDyivR/blib/lib/Tk/JComboBox.pm line 1210.
Use of uninitialized value $args{"-mode"} in lc at /home/sts/cpansmoke/perl-5.15.1/cpan/build/Tk-JComboBox-1.14-lDyivR/blib/lib/Tk/JComboBox.pm line 1210.
Use of uninitialized value $args{"-type"} in lc at /home/sts/cpansmoke/perl-5.15.1/cpan/build/Tk-JComboBox-1.14-lDyivR/blib/lib/Tk/JComboBox.pm line 528.
Use of uninitialized value $args{"-mode"} in lc at /home/sts/cpansmoke/perl-5.15.1/cpan/build/Tk-JComboBox-1.14-lDyivR/blib/lib/Tk/JComboBox.pm line 1210.
Use of uninitialized value $args{"-mode"} in lc at /home/sts/cpansmoke/perl-5.15.1/cpan/build/Tk-JComboBox-1.14-lDyivR/blib/lib/Tk/JComboBox.pm line 1210.
Use of uninitialized value $args{"-mode"} in lc at /home/sts/cpansmoke/perl-5.15.1/cpan/build/Tk-JComboBox-1.14-lDyivR/blib/lib/Tk/JComboBox.pm line 1210.
Use of uninitialized value $args{"-mode"} in lc at /home/sts/cpansmoke/perl-5.15.1/cpan/build/Tk-JComboBox-1.14-lDyivR/blib/lib/Tk/JComboBox.pm line 1210.
Use of uninitialized value $args{"-mode"} in lc at /home/sts/cpansmoke/perl-5.15.1/cpan/build/Tk-JComboBox-1.14-lDyivR/blib/lib/Tk/JComboBox.pm line 1210.
Use of uninitialized value $args{"-mode"} in lc at /home/sts/cpansmoke/perl-5.15.1/cpan/build/Tk-JComboBox-1.14-lDyivR/blib/lib/Tk/JComboBox.pm line 1210.
Use of uninitialized value $args{"-mode"} in lc at /home/sts/cpansmoke/perl-5.15.1/cpan/build/Tk-JComboBox-1.14-lDyivR/blib/lib/Tk/JComboBox.pm line 1210.
Use of uninitialized value $args{"-type"} in lc at /home/sts/cpansmoke/perl-5.15.1/cpan/build/Tk-JComboBox-1.14-lDyivR/blib/lib/Tk/JComboBox.pm line 528.
Use of uninitialized value $args{"-mode"} in lc at /home/sts/cpansmoke/perl-5.15.1/cpan/build/Tk-JComboBox-1.14-lDyivR/blib/lib/Tk/JComboBox.pm line 1210.
Use of uninitialized value $args{"-mode"} in lc at /home/sts/cpansmoke/perl-5.15.1/cpan/build/Tk-JComboBox-1.14-lDyivR/blib/lib/Tk/JComboBox.pm line 1210.
Use of uninitialized value $args{"-mode"} in lc at /home/sts/cpansmoke/perl-5.15.1/cpan/build/Tk-JComboBox-1.14-lDyivR/blib/lib/Tk/JComboBox.pm line 1210.
Use of uninitialized value $args{"-mode"} in lc at /home/sts/cpansmoke/perl-5.15.1/cpan/build/Tk-JComboBox-1.14-lDyivR/blib/lib/Tk/JComboBox.pm line 1210.
Use of uninitialized value $args{"-mode"} in lc at /home/sts/cpansmoke/perl-5.15.1/cpan/build/Tk-JComboBox-1.14-lDyivR/blib/lib/Tk/JComboBox.pm line 1210.
Use of uninitialized value $args{"-mode"} in lc at /home/sts/cpansmoke/perl-5.15.1/cpan/build/Tk-JComboBox-1.14-lDyivR/blib/lib/Tk/JComboBox.pm line 1210.
Use of uninitialized value $args{"-mode"} in lc at /home/sts/cpansmoke/perl-5.15.1/cpan/build/Tk-JComboBox-1.14-lDyivR/blib/lib/Tk/JComboBox.pm line 1210.
Use of uninitialized value $args{"-mode"} in lc at /home/sts/cpansmoke/perl-5.15.1/cpan/build/Tk-JComboBox-1.14-lDyivR/blib/lib/Tk/JComboBox.pm line 1210.
Use of uninitialized value $args{"-type"} in lc at /home/sts/cpansmoke/perl-5.15.1/cpan/build/Tk-JComboBox-1.14-lDyivR/blib/lib/Tk/JComboBox.pm line 528.
Use of uninitialized value $args{"-mode"} in lc at /home/sts/cpansmoke/perl-5.15.1/cpan/build/Tk-JComboBox-1.14-lDyivR/blib/lib/Tk/JComboBox.pm line 1210.
Use of uninitialized value $args{"-type"} in lc at /home/sts/cpansmoke/perl-5.15.1/cpan/build/Tk-JComboBox-1.14-lDyivR/blib/lib/Tk/JComboBox.pm line 528.
Use of uninitialized value $args{"-mode"} in lc at /home/sts/cpansmoke/perl-5.15.1/cpan/build/Tk-JComboBox-1.14-lDyivR/blib/lib/Tk/JComboBox.pm line 1210.
Use of uninitialized value $args{"-mode"} in lc at /home/sts/cpansmoke/perl-5.15.1/cpan/build/Tk-JComboBox-1.14-lDyivR/blib/lib/Tk/JComboBox.pm line 1210.
Use of uninitialized value $args{"-type"} in lc at /home/sts/cpansmoke/perl-5.15.1/cpan/build/Tk-JComboBox-1.14-lDyivR/blib/lib/Tk/JComboBox.pm line 528.
Use of uninitialized value $args{"-mode"} in lc at /home/sts/cpansmoke/perl-5.15.1/cpan/build/Tk-JComboBox-1.14-lDyivR/blib/lib/Tk/JComboBox.pm line 1210.
Use of uninitialized value $args{"-mode"} in lc at /home/sts/cpansmoke/perl-5.15.1/cpan/build/Tk-JComboBox-1.14-lDyivR/blib/lib/Tk/JComboBox.pm line 1210.
Use of uninitialized value $args{"-mode"} in lc at /home/sts/cpansmoke/perl-5.15.1/cpan/build/Tk-JComboBox-1.14-lDyivR/blib/lib/Tk/JComboBox.pm line 1210.
Use of uninitialized value $args{"-type"} in lc at /home/sts/cpansmoke/perl-5.15.1/cpan/build/Tk-JComboBox-1.14-lDyivR/blib/lib/Tk/JComboBox.pm line 528.
Use of uninitialized value $args{"-mode"} in lc at /home/sts/cpansmoke/perl-5.15.1/cpan/build/Tk-JComboBox-1.14-lDyivR/blib/lib/Tk/JComboBox.pm line 1210.
Use of uninitialized value $args{"-mode"} in lc at /home/sts/cpansmoke/perl-5.15.1/cpan/build/Tk-JComboBox-1.14-lDyivR/blib/lib/Tk/JComboBox.pm line 1210.
Use of uninitialized value $args{"-mode"} in lc at /home/sts/cpansmoke/perl-5.15.1/cpan/build/Tk-JComboBox-1.14-lDyivR/blib/lib/Tk/JComboBox.pm line 1210.
Use of uninitialized value $args{"-mode"} in lc at /home/sts/cpansmoke/perl-5.15.1/cpan/build/Tk-JComboBox-1.14-lDyivR/blib/lib/Tk/JComboBox.pm line 1210.
Use of uninitialized value $args{"-mode"} in lc at /home/sts/cpansmoke/perl-5.15.1/cpan/build/Tk-JComboBox-1.14-lDyivR/blib/lib/Tk/JComboBox.pm line 1210.
Use of uninitialized value $args{"-type"} in lc at /home/sts/cpansmoke/perl-5.15.1/cpan/build/Tk-JComboBox-1.14-lDyivR/blib/lib/Tk/JComboBox.pm line 528.
Use of uninitialized value $args{"-mode"} in lc at /home/sts/cpansmoke/perl-5.15.1/cpan/build/Tk-JComboBox-1.14-lDyivR/blib/lib/Tk/JComboBox.pm line 1210.
Use of uninitialized value $args{"-mode"} in lc at /home/sts/cpansmoke/perl-5.15.1/cpan/build/Tk-JComboBox-1.14-lDyivR/blib/lib/Tk/JComboBox.pm line 1210.
Use of uninitialized value $args{"-mode"} in lc at /home/sts/cpansmoke/perl-5.15.1/cpan/build/Tk-JComboBox-1.14-lDyivR/blib/lib/Tk/JComboBox.pm line 1210.
Use of uninitialized value $args{"-type"} in lc at /home/sts/cpansmoke/perl-5.15.1/cpan/build/Tk-JComboBox-1.14-lDyivR/blib/lib/Tk/JComboBox.pm line 528.
Use of uninitialized value $args{"-mode"} in lc at /home/sts/cpansmoke/perl-5.15.1/cpan/build/Tk-JComboBox-1.14-lDyivR/blib/lib/Tk/JComboBox.pm line 1210.
Use of uninitialized value $args{"-mode"} in lc at /home/sts/cpansmoke/perl-5.15.1/cpan/build/Tk-JComboBox-1.14-lDyivR/blib/lib/Tk/JComboBox.pm line 1210.
Use of uninitialized value $args{"-mode"} in lc at /home/sts/cpansmoke/perl-5.15.1/cpan/build/Tk-JComboBox-1.14-lDyivR/blib/lib/Tk/JComboBox.pm line 1210.
Use of uninitialized value $args{"-mode"} in lc at /home/sts/cpansmoke/perl-5.15.1/cpan/build/Tk-JComboBox-1.14-lDyivR/blib/lib/Tk/JComboBox.pm line 1210.
Use of uninitialized value $args{"-mode"} in lc at /home/sts/cpansmoke/perl-5.15.1/cpan/build/Tk-JComboBox-1.14-lDyivR/blib/lib/Tk/JComboBox.pm line 1210.
Use of uninitialized value $args{"-type"} in lc at /home/sts/cpansmoke/perl-5.15.1/cpan/build/Tk-JComboBox-1.14-lDyivR/blib/lib/Tk/JComboBox.pm line 528.
Use of uninitialized value $args{"-mode"} in lc at /home/sts/cpansmoke/perl-5.15.1/cpan/build/Tk-JComboBox-1.14-lDyivR/blib/lib/Tk/JComboBox.pm line 1210.
Use of uninitialized value $args{"-mode"} in lc at /home/sts/cpansmoke/perl-5.15.1/cpan/build/Tk-JComboBox-1.14-lDyivR/blib/lib/Tk/JComboBox.pm line 1210.
Use of uninitialized value $args{"-mode"} in lc at /home/sts/cpansmoke/perl-5.15.1/cpan/build/Tk-JComboBox-1.14-lDyivR/blib/lib/Tk/JComboBox.pm line 1210.
Use of uninitialized value $args{"-mode"} in lc at /home/sts/cpansmoke/perl-5.15.1/cpan/build/Tk-JComboBox-1.14-lDyivR/blib/lib/Tk/JComboBox.pm line 1210.
Use of uninitialized value $args{"-mode"} in lc at /home/sts/cpansmoke/perl-5.15.1/cpan/build/Tk-JComboBox-1.14-lDyivR/blib/lib/Tk/JComboBox.pm line 1210.
Use of uninitialized value $args{"-mode"} in lc at /home/sts/cpansmoke/perl-5.15.1/cpan/build/Tk-JComboBox-1.14-lDyivR/blib/lib/Tk/JComboBox.pm line 1210.
Use of uninitialized value $args{"-mode"} in lc at /home/sts/cpansmoke/perl-5.15.1/cpan/build/Tk-JComboBox-1.14-lDyivR/blib/lib/Tk/JComboBox.pm line 1210.
Use of uninitialized value $args{"-type"} in lc at /home/sts/cpansmoke/perl-5.15.1/cpan/build/Tk-JComboBox-1.14-lDyivR/blib/lib/Tk/JComboBox.pm line 528.
Use of uninitialized value $args{"-mode"} in lc at /home/sts/cpansmoke/perl-5.15.1/cpan/build/Tk-JComboBox-1.14-lDyivR/blib/lib/Tk/JComboBox.pm line 1210.
Use of uninitialized value $args{"-mode"} in lc at /home/sts/cpansmoke/perl-5.15.1/cpan/build/Tk-JComboBox-1.14-lDyivR/blib/lib/Tk/JComboBox.pm line 1210.
Use of uninitialized value $args{"-mode"} in lc at /home/sts/cpansmoke/perl-5.15.1/cpan/build/Tk-JComboBox-1.14-lDyivR/blib/lib/Tk/JComboBox.pm line 1210.
Use of uninitialized value $args{"-mode"} in lc at /home/sts/cpansmoke/perl-5.15.1/cpan/build/Tk-JComboBox-1.14-lDyivR/blib/lib/Tk/JComboBox.pm line 1210.
Use of uninitialized value $args{"-mode"} in lc at /home/sts/cpansmoke/perl-5.15.1/cpan/build/Tk-JComboBox-1.14-lDyivR/blib/lib/Tk/JComboBox.pm line 1210.
Use of uninitialized value $args{"-mode"} in lc at /home/sts/cpansmoke/perl-5.15.1/cpan/build/Tk-JComboBox-1.14-lDyivR/blib/lib/Tk/JComboBox.pm line 1210.
Use of uninitialized value $args{"-mode"} in lc at /home/sts/cpansmoke/perl-5.15.1/cpan/build/Tk-JComboBox-1.14-lDyivR/blib/lib/Tk/JComboBox.pm line 1210.
Use of uninitialized value $args{"-mode"} in lc at /home/sts/cpansmoke/perl-5.15.1/cpan/build/Tk-JComboBox-1.14-lDyivR/blib/lib/Tk/JComboBox.pm line 1210.
t/02_Options_Basic.t ..... ok
# 
# 
# testing buttoncommand:
# 
# testing keycommand: 
Use of uninitialized value $args{"-type"} in lc at
	/home/sts/cpansmoke/perl-5.15.1/cpan/build/Tk-JComboBox-1.14-lDyivR/blib/lib/Tk/JComboBox.pm line 528 (#1)
    (W uninitialized) An undefined value was used as if it were already
    defined.  It was interpreted as a "" or a 0, but maybe it was a mistake.
    To suppress this warning assign a defined value to your variables.
    
    To help you figure out what was undefined, perl will try to tell you the
    name of the variable (if any) that was undefined. In some cases it cannot
    do this, so it also tells you what operation you used the undefined value
    in.  Note, however, that perl optimizes your program and the operation
    displayed in the warning may not necessarily appear literally in your
    program.  For example, "that $foo" is usually optimized into "that "
    . $foo, and the warning will refer to the concatenation (.) operator,
    even though there is no . in your program.
    
# 
# testing popupcreate/modify:
# 
# testing selectcommand:
Use of uninitialized value $args{"-mode"} in lc at
	/home/sts/cpansmoke/perl-5.15.1/cpan/build/Tk-JComboBox-1.14-lDyivR/blib/lib/Tk/JComboBox.pm line 1210 (#1)
# 
# testing validation:
t/03_Options_Callback.t .. ok
# 
# 
# testing autofind:
Use of uninitialized value $args{"-type"} in lc at
	/home/sts/cpansmoke/perl-5.15.1/cpan/build/Tk-JComboBox-1.14-lDyivR/blib/lib/Tk/JComboBox.pm line 528 (#1)
    (W uninitialized) An undefined value was used as if it were already
    defined.  It was interpreted as a "" or a 0, but maybe it was a mistake.
    To suppress this warning assign a defined value to your variables.
    
    To help you figure out what was undefined, perl will try to tell you the
    name of the variable (if any) that was undefined. In some cases it cannot
    do this, so it also tells you what operation you used the undefined value
    in.  Note, however, that perl optimizes your program and the operation
    displayed in the warning may not necessarily appear literally in your
    program.  For example, "that $foo" is usually optimized into "that "
    . $foo, and the warning will refer to the concatenation (.) operator,
    even though there is no . in your program.
    
Use of uninitialized value $args{"-mode"} in lc at
	/home/sts/cpansmoke/perl-5.15.1/cpan/build/Tk-JComboBox-1.14-lDyivR/blib/lib/Tk/JComboBox.pm line 1210 (#1)
# 
# testing choices:
# 
# Test Choices - FETCHSIZE
# 
# Test Choices - CLEAR
# 
# Test Choices - PUSH
# 
# Test Choices - POP
# 
# Test Choices - SHIFT
# 
# Test Choices - STORE
# 
# 
# Test Choices - FETCH
# 
# Test Choices - UNSHIFT
# 
# Test Choices - DELETE
# 
# testing listhighlight:
# 
# testing maxrows:
# 
# testing state:
# 
# testing updownselect:
t/04_Options_Misc.t ...... ok
# 
# 
# Test existance of public methods
# 
# Testing Add Functionality:
Use of uninitialized value $args{"-type"} in lc at
	/home/sts/cpansmoke/perl-5.15.1/cpan/build/Tk-JComboBox-1.14-lDyivR/blib/lib/Tk/JComboBox.pm line 528 (#1)
    (W uninitialized) An undefined value was used as if it were already
    defined.  It was interpreted as a "" or a 0, but maybe it was a mistake.
    To suppress this warning assign a defined value to your variables.
    
    To help you figure out what was undefined, perl will try to tell you the
    name of the variable (if any) that was undefined. In some cases it cannot
    do this, so it also tells you what operation you used the undefined value
    in.  Note, however, that perl optimizes your program and the operation
    displayed in the warning may not necessarily appear literally in your
    program.  For example, "that $foo" is usually optimized into "that "
    . $foo, and the warning will refer to the concatenation (.) operator,
    even though there is no . in your program.
    
Use of uninitialized value $args{"-mode"} in lc at
	/home/sts/cpansmoke/perl-5.15.1/cpan/build/Tk-JComboBox-1.14-lDyivR/blib/lib/Tk/JComboBox.pm line 1210 (#1)
# 
# Testing Remove Functionality:
# 
# Test Popup-related methods:
# 
# Test Selection-related methods:
# 
# Test Index-related methods:
t/05_Methods.t ........... ok
# 
# 
# Test Item Visible After AutoFind
Use of uninitialized value $args{"-type"} in lc at
	/home/sts/cpansmoke/perl-5.15.1/cpan/build/Tk-JComboBox-1.14-lDyivR/blib/lib/Tk/JComboBox.pm line 528 (#1)
    (W uninitialized) An undefined value was used as if it were already
    defined.  It was interpreted as a "" or a 0, but maybe it was a mistake.
    To suppress this warning assign a defined value to your variables.
    
    To help you figure out what was undefined, perl will try to tell you the
    name of the variable (if any) that was undefined. In some cases it cannot
    do this, so it also tells you what operation you used the undefined value
    in.  Note, however, that perl optimizes your program and the operation
    displayed in the warning may not necessarily appear literally in your
    program.  For example, "that $foo" is usually optimized into "that "
    . $foo, and the warning will refer to the concatenation (.) operator,
    even though there is no . in your program.
    
# 
# Test that stolen grab (local) was returned
# 
# Test that stolen grab (global) was returned
t/06_Bugs.t .............. ok
t/07_Pod.t ............... ok
All tests successful.
Files=7, Tests=725,  7 wallclock secs ( 0.26 usr  0.00 sys +  3.91 cusr  0.31 csys =  4.48 CPU)
Result: PASS

------------------------------
PREREQUISITES
------------------------------

Prerequisite modules loaded:

requires:

    Module              Need    Have   
    ------------------- ------- -------
    Tie::Watch          0       1.3    
    Tk                  800.024 804.029

build_requires:

    Module              Need    Have   
    ------------------- ------- -------
    ExtUtils::MakeMaker 0       6.58   


------------------------------
ENVIRONMENT AND OTHER CONTEXT
------------------------------

Environment variables:

    AUTOMATED_TESTING = 1
    PATH = /home/sts/bin:/bin:/sbin:/usr/bin:/usr/sbin:/usr/X11R6/bin:/usr/local/bin:/usr/local/sbin:/usr/games:.
    PERL5LIB = /home/sts/cpansmoke/perl-5.15.1/cpan/build/Tk-804.029-o4jpEM/blib/arch:/home/sts/cpansmoke/perl-5.15.1/cpan/build/Tk-804.029-o4jpEM/blib/lib:/home/sts/cpansmoke/perl-5.15.1/cpan/build/Tie-Watch-1.301-v2Ltcr/blib/arch:/home/sts/cpansmoke/perl-5.15.1/cpan/build/Tie-Watch-1.301-v2Ltcr/blib/lib
    PERL5OPT = 
    PERL5_CPANPLUS_IS_RUNNING = 32032
    PERL5_CPAN_IS_RUNNING = 32032
    PERL5_CPAN_IS_RUNNING_IN_RECURSION = 10455,32032
    PERL_CR_SMOKER_CURRENT = Tk-JComboBox-1.14
    PERL_EXTUTILS_AUTOINSTALL = --defaultdeps
    PERL_MM_USE_DEFAULT = 1
    SHELL = /usr/local/bin/bash
    TERM = screen
    TMPDIR = /home/sts/cpansmoke/tmp

Perl special variables (and OS-specific diagnostics, for MSWin32):

    $^X = /home/sts/cpansmoke/perl-5.15.1/bin/perl5.15.1
    $UID/$EUID = 1000 / 1000
    $GID = 10 10 0
    $EGID = 10 10 0

Perl module toolchain versions installed:

    Module              Have       
    ------------------- -----------
    CPAN                1.9800     
    CPAN::Meta          2.110930001
    Cwd                 3.37       
    ExtUtils::CBuilder  0.280204   
    ExtUtils::Command   1.17       
    ExtUtils::Install   1.56       
    ExtUtils::MakeMaker 6.58       
    ExtUtils::Manifest  1.58       
    ExtUtils::ParseXS   3.00_01    
    File::Spec          3.33       
    JSON                n/a        
    JSON::PP            2.27200    
    Module::Build       0.3800     
    Module::Signature   n/a        
    Parse::CPAN::Meta   1.4401     
    Test::Harness       3.23       
    Test::More          0.98       
    YAML                0.73       
    YAML::Syck          n/a        
    version             0.93       


--

Summary of my perl5 (revision 5 version 15 subversion 1) configuration:
   
  Platform:
    osname=openbsd, osvers=4.9, archname=OpenBSD.i386-openbsd-thread-multi
    uname='openbsd cpansmoke3 4.9 generic.mp#794 i386 '
    config_args='-des -Dusedevel -Dusethreads -Dprefix=/home/sts/cpansmoke/perl-5.15.1'
    hint=recommended, useposix=true, d_sigaction=define
    useithreads=define, usemultiplicity=define
    useperlio=define, d_sfio=undef, uselargefiles=define, usesocks=undef
    use64bitint=undef, use64bitall=undef, uselongdouble=undef
    usemymalloc=y, bincompat5005=undef
  Compiler:
    cc='cc', ccflags ='-pthread -fno-strict-aliasing -pipe -fstack-protector -I/usr/local/include',
    optimize='-O2',
    cppflags='-pthread -fno-strict-aliasing -pipe -fstack-protector -I/usr/local/include'
    ccversion='', gccversion='4.2.1 20070719 ', gccosandvers='openbsd4.9'
    intsize=4, longsize=4, ptrsize=4, doublesize=8, byteorder=1234
    d_longlong=define, longlongsize=8, d_longdbl=define, longdblsize=12
    ivtype='long', ivsize=4, nvtype='double', nvsize=8, Off_t='off_t', lseeksize=8
    alignbytes=4, prototype=define
  Linker and Libraries:
    ld='cc', ldflags ='-pthread -Wl,-E  -fstack-protector -L/usr/local/lib'
    libpth=/usr/local/lib /usr/lib
    libs=-lgdbm -lm -lutil -lc
    perllibs=-lm -lutil -lc
    libc=/usr/lib/libc.so.58.0, so=so, useshrplib=false, libperl=libperl.a
    gnulibc_version=''
  Dynamic Linking:
    dlsrc=dl_dlopen.xs, dlext=so, d_dlsymun=undef, ccdlflags=' '
    cccdlflags='-DPIC -fPIC ', lddlflags='-shared -fPIC  -L/usr/local/lib -fstack-protector'


Characteristics of this binary (from libperl): 
  Compile-time options: HAS_TIMES MULTIPLICITY MYMALLOC PERLIO_LAYERS
                        PERL_DONT_CREATE_GVSV PERL_IMPLICIT_CONTEXT
                        PERL_MALLOC_WRAP PERL_PRESERVE_IVUV PERL_USE_DEVEL
                        USE_ITHREADS USE_LARGE_FILES USE_LOCALE
                        USE_LOCALE_COLLATE USE_LOCALE_CTYPE
                        USE_LOCALE_NUMERIC USE_PERLIO USE_PERL_ATOF
                        USE_REENTRANT_API
  Built under openbsd
  Compiled at Aug  2 2011 08:28:01
  %ENV:
    PERL5LIB="/home/sts/cpansmoke/perl-5.15.1/cpan/build/Tk-804.029-o4jpEM/blib/arch:/home/sts/cpansmoke/perl-5.15.1/cpan/build/Tk-804.029-o4jpEM/blib/lib:/home/sts/cpansmoke/perl-5.15.1/cpan/build/Tie-Watch-1.301-v2Ltcr/blib/arch:/home/sts/cpansmoke/perl-5.15.1/cpan/build/Tie-Watch-1.301-v2Ltcr/blib/lib"
    PERL5OPT=""
    PERL5_CPANPLUS_IS_RUNNING="32032"
    PERL5_CPAN_IS_RUNNING="32032"
    PERL5_CPAN_IS_RUNNING_IN_RECURSION="10455,32032"
    PERL_CR_SMOKER_CURRENT="Tk-JComboBox-1.14"
    PERL_EXTUTILS_AUTOINSTALL="--defaultdeps"
    PERL_MM_USE_DEFAULT="1"
  @INC:
    /home/sts/cpansmoke/perl-5.15.1/cpan/build/Tk-804.029-o4jpEM/blib/arch
    /home/sts/cpansmoke/perl-5.15.1/cpan/build/Tk-804.029-o4jpEM/blib/lib
    /home/sts/cpansmoke/perl-5.15.1/cpan/build/Tie-Watch-1.301-v2Ltcr/blib/arch
    /home/sts/cpansmoke/perl-5.15.1/cpan/build/Tie-Watch-1.301-v2Ltcr/blib/lib
    /home/sts/cpansmoke/perl-5.15.1/lib/site_perl/5.15.1/OpenBSD.i386-openbsd-thread-multi
    /home/sts/cpansmoke/perl-5.15.1/lib/site_perl/5.15.1
    /home/sts/cpansmoke/perl-5.15.1/lib/5.15.1/OpenBSD.i386-openbsd-thread-multi
    /home/sts/cpansmoke/perl-5.15.1/lib/5.15.1
    .