CPAN-SQLite v0.215 Perl 5 v5.28.0 x86_64-linux
- Status
- Pass
- From
- Slaven Rezić (SREZIC)
- Dist
-
CPAN-SQLite v0.215
- Platform
- Perl 5 v5.28.0 x86_64-linux
- Date
- 2019-01-23 22:58:10
- ID
- 5ad92008-1f62-11e9-a7ec-f4fb47c4106e
This distribution has been tested as part of the CPAN Testers
project, supporting the Perl programming language. See
http://wiki.cpantesters.org/ for more information or email
questions to cpan-testers-discuss@perl.org
--
Dear Serguei Trouchelle,
This is a computer-generated report for CPAN-SQLite-0.215
on perl 5.28.0, created by CPAN-Reporter-1.2018.
Thank you for uploading your work to CPAN. Congratulations!
All tests were successful.
Sections of this report:
* Tester comments
* Program output
* Prerequisites
* Environment and other context
------------------------------
TESTER COMMENTS
------------------------------
Additional comments from tester:
none provided
------------------------------
PROGRAM OUTPUT
------------------------------
Output from '/usr/bin/make test':
PERL_DL_NONLAZY=1 "/bbbike/perl-5.28.0/bin/perl" "-MExtUtils::Command::MM" "-MTest::Harness" "-e" "undef *Test::Harness::Switches; test_harness(0, 'blib/lib', 'blib/arch')" t/*.t
t/00-all_prereqs.t ............... ok
t/00-compile.t ................... ok
#
# Versions for all modules listed in MYMETA.json (including optional ones):
#
# === Configure Requires ===
#
# Module Want Have
# ------------------- ---- ----
# ExtUtils::MakeMaker any 7.34
#
# === Build Requires ===
#
# Module Want Have
# ------------------- ---- ----
# ExtUtils::MakeMaker any 7.34
#
# === Test Requires ===
#
# Module Want Have
# ------------------- ---- --------
# CPAN::HandleConfig any 5.5008
# CPAN::Version any 5.5003
# Carp any 1.50
# DBD::SQLite any 1.58
# ExtUtils::MakeMaker any 7.34
# File::Copy any 2.33
# File::Spec any 3.74
# FindBin any 1.51
# IO::Handle any 1.39
# IPC::Open3 any 1.20
# Test::Memory::Cycle any 1.06
# Test::More 0.94 1.302160
# base any 2.27
# lib any 0.64
#
# === Test Recommends ===
#
# Module Want Have
# ---------- -------- --------
# CPAN::Meta 2.120900 2.150010
#
# === Runtime Requires ===
#
# Module Want Have
# --------------------- ---- -----
# Archive::Tar 1.54 2.30
# CPAN any 2.20
# CPAN::DistnameInfo 0.09 0.12
# CPAN::Index 1.93 2.12
# Compress::Zlib any 2.084
# Cwd any 3.74
# DBD::SQLite 1.27 1.58
# DBI any 1.642
# English any 1.10
# Exporter any 5.73
# File::Basename any 2.85
# File::Find any 1.34
# File::HomeDir any 1.004
# File::Path any 2.16
# File::Spec any 3.74
# File::Spec::Functions any 3.74
# Getopt::Long any 2.5
# HTTP::Tiny any 0.076
# IO::Zlib any 1.10
# Safe any 2.40
# Scalar::Util any 1.50
# constant any 1.33
# parent any 0.236
# strict any 1.11
# utf8 any 1.21
# warnings any 1.42
#
t/00-report-prereqs.t ............ ok
# Testing with Perl 5.028000, /bbbike/perl-5.28.0/bin/perl
# CPAN version is 2.20
# CPAN::DistnameInfo version is 0.12
# CPAN::HandleConfig version is 5.5008
# CPAN::Version version is 5.5003
# Carp version is 1.50
# Compress::Zlib version is 2.084
# Cwd version is 3.74
# DBD::SQLite version is 1.58
# DBI version is 1.642
# English version is 1.10
# Exporter version is 5.73
# ExtUtils::MakeMaker version is 7.34
# File::Basename version is 2.85
# File::Copy version is 2.33
# File::Find version is 1.34
# File::HomeDir version is 1.004
# File::Path version is 2.16
# File::Spec version is 3.74
# File::Spec::Functions version is 3.74
# FindBin version is 1.51
# Getopt::Long version is 2.5
# HTTP::Tiny version is 0.076
# IO::Handle version is 1.39
# IPC::Open3 version is 1.20
# Safe version is 2.40
# Scalar::Util version is 1.5
# Test::Memory::Cycle version is 1.06
# Test::More version is 1.302160
# base version is 2.27
# constant version is 1.33
# lib version is 0.64
# parent version is 0.236
# strict version is 1.11
# utf8 version is 1.21
# warnings version is 1.42
t/000-report-versions.t .......... ok
t/01basic.t ...................... ok
t/02drop.t ....................... ok
t/03info.t ....................... ok
t/04search.t ..................... ok
t/04search_everything.t .......... ok
t/05meta_new.t ................... ok
t/05meta_update.t ................ ok
t/06retrieve.t ................... ok
t/07download.t ................... ok
t/08circular_references.t ........ ok
t/author-critic.t ................ skipped: these tests are for testing by the author
t/author-eol.t ................... skipped: these tests are for testing by the author
t/author-minimum-version.t ....... skipped: these tests are for testing by the author
t/author-no-tabs.t ............... skipped: these tests are for testing by the author
t/author-pod-syntax.t ............ skipped: these tests are for testing by the author
t/release-changes_has_content.t .. skipped: these tests are for release candidate testing
t/release-distmeta.t ............. skipped: these tests are for release candidate testing
t/release-fixme.t ................ skipped: these tests are for release candidate testing
t/release-has-version.t .......... skipped: these tests are for release candidate testing
t/release-kwalitee.t ............. skipped: these tests are for release candidate testing
t/release-meta-json.t ............ skipped: these tests are for release candidate testing
t/release-pause-permissions.t .... skipped: these tests are for release candidate testing
All tests successful.
Files=26, Tests=11316, 10 wallclock secs ( 0.39 usr 0.37 sys + 4.93 cusr 0.94 csys = 6.63 CPU)
Result: PASS
------------------------------
PREREQUISITES
------------------------------
Prerequisite modules loaded:
requires:
Module Need Have
------------------- ---- -----
Archive::Tar 1.54 2.30
Compress::Zlib 0 2.084
CPAN::DistnameInfo 0.09 0.12
CPAN::Index 1.93 2.12
DBD::SQLite 1.27 1.58
File::HomeDir 0 1.004
File::Spec 0 3.74
HTTP::Tiny 0 0.076
IO::Zlib 0 1.10
parent 0 0.236
build_requires:
Module Need Have
------------------- ---- -----
ExtUtils::MakeMaker 0 7.34
Test::Memory::Cycle 0 1.06
configure_requires:
Module Need Have
------------------- ---- -----
ExtUtils::MakeMaker 0 7.34
------------------------------
ENVIRONMENT AND OTHER CONTEXT
------------------------------
Environment variables:
LANG = C
PATH = /usr/local/bin:/usr/bin:/bin:/usr/local/sbin:/usr/sbin:/sbin:/home/cpansand/bin/linux-gnu:/home/cpansand/bin/sh:/home/cpansand/bin:/usr/games:/home/cpansand/devel:/home/eserte/src/srezic-misc/scripts
PERL5LIB =
PERL5OPT =
PERL5_CPANPLUS_IS_RUNNING = 4333
PERL5_CPAN_IS_RUNNING = 4333
PERL5_CPAN_IS_RUNNING_IN_RECURSION = 3673,4333
PERLDOC = -MPod::Perldoc::ToTextOverstrike
PERL_BATCH = yes
PERL_CANARY_STABILITY_NOPROMPT = 1
PERL_CPAN_REPORTER_CONFIG = /var/tmp/cpansmoker-1023/2019012322/cpanreporter_000_config.ini
PERL_EXTUTILS_AUTOINSTALL = --defaultdeps
PERL_USE_UNSAFE_INC = 1
SHELL = /bin/zsh
TERM = screen
TMPDIR = /var/tmp/cpansmoker-1023/2019012322
Perl special variables (and OS-specific diagnostics, for MSWin32):
$^X = /bbbike/perl-5.28.0/bin/perl
$UID/$EUID = 1023 / 1023
$GID = 1023 1023
$EGID = 1023 1023
Perl module toolchain versions installed:
Module Have
------------------- --------
CPAN 2.20
CPAN::Meta 2.150010
Cwd 3.74
ExtUtils::CBuilder 0.280230
ExtUtils::Command 7.34
ExtUtils::Install 2.14
ExtUtils::MakeMaker 7.34
ExtUtils::Manifest 1.70
ExtUtils::ParseXS 3.39
File::Spec 3.74
JSON 4.01
JSON::PP 2.97001
Module::Build 0.4224
Module::Signature n/a
Parse::CPAN::Meta 2.150010
Test::Harness 3.42
Test::More 1.302160
YAML 1.27
YAML::Syck 1.30
version 0.9923
--
Summary of my perl5 (revision 5 version 28 subversion 0) configuration:
Platform:
osname=linux
osvers=3.16.0-4-amd64
archname=x86_64-linux
uname='linux eserte 3.16.0-4-amd64 #1 smp debian 3.16.51-2 (2017-12-03) x86_64 gnulinux '
config_args='-ds -e -Dprefix=/opt/perl-5.28.0 -Dcf_email=srezic@cpan.org'
hint=recommended
useposix=true
d_sigaction=define
useithreads=undef
usemultiplicity=undef
use64bitint=define
use64bitall=define
uselongdouble=undef
usemymalloc=n
default_inc_excludes_dot=define
bincompat5005=undef
Compiler:
cc='cc'
ccflags ='-fwrapv -fno-strict-aliasing -pipe -fstack-protector-strong -I/usr/local/include -D_LARGEFILE_SOURCE -D_FILE_OFFSET_BITS=64 -D_FORTIFY_SOURCE=2'
optimize='-O2'
cppflags='-fwrapv -fno-strict-aliasing -pipe -fstack-protector-strong -I/usr/local/include'
ccversion=''
gccversion='4.9.2'
gccosandvers=''
intsize=4
longsize=8
ptrsize=8
doublesize=8
byteorder=12345678
doublekind=3
d_longlong=define
longlongsize=8
d_longdbl=define
longdblsize=16
longdblkind=3
ivtype='long'
ivsize=8
nvtype='double'
nvsize=8
Off_t='off_t'
lseeksize=8
alignbytes=8
prototype=define
Linker and Libraries:
ld='cc'
ldflags =' -fstack-protector-strong -L/usr/local/lib'
libpth=/usr/local/lib /usr/lib/gcc/x86_64-linux-gnu/4.9/include-fixed /usr/include/x86_64-linux-gnu /usr/lib /lib/x86_64-linux-gnu /lib/../lib /usr/lib/x86_64-linux-gnu /usr/lib/../lib /lib
libs=-lpthread -lnsl -lgdbm -ldb -ldl -lm -lcrypt -lutil -lc -lgdbm_compat
perllibs=-lpthread -lnsl -ldl -lm -lcrypt -lutil -lc
libc=libc-2.19.so
so=so
useshrplib=false
libperl=libperl.a
gnulibc_version='2.19'
Dynamic Linking:
dlsrc=dl_dlopen.xs
dlext=so
d_dlsymun=undef
ccdlflags='-Wl,-E'
cccdlflags='-fPIC'
lddlflags='-shared -O2 -L/usr/local/lib -fstack-protector-strong'
Characteristics of this binary (from libperl):
Compile-time options:
HAS_TIMES
PERLIO_LAYERS
PERL_COPY_ON_WRITE
PERL_DONT_CREATE_GVSV
PERL_MALLOC_WRAP
PERL_OP_PARENT
PERL_PRESERVE_IVUV
USE_64_BIT_ALL
USE_64_BIT_INT
USE_LARGE_FILES
USE_LOCALE
USE_LOCALE_COLLATE
USE_LOCALE_CTYPE
USE_LOCALE_NUMERIC
USE_LOCALE_TIME
USE_PERLIO
USE_PERL_ATOF
Built under linux
Compiled at Jun 23 2018 17:56:19
%ENV:
PERL5LIB=""
PERL5OPT=""
PERL5_CPANPLUS_IS_RUNNING="4333"
PERL5_CPAN_IS_RUNNING="4333"
PERL5_CPAN_IS_RUNNING_IN_RECURSION="3673,4333"
PERLDOC="-MPod::Perldoc::ToTextOverstrike"
PERL_BATCH="yes"
PERL_CANARY_STABILITY_NOPROMPT="1"
PERL_CPAN_REPORTER_CONFIG="/var/tmp/cpansmoker-1023/2019012322/cpanreporter_000_config.ini"
PERL_EXTUTILS_AUTOINSTALL="--defaultdeps"
PERL_USE_UNSAFE_INC="1"
@INC:
/opt/perl-5.28.0/lib/site_perl/5.28.0/x86_64-linux
/opt/perl-5.28.0/lib/site_perl/5.28.0
/opt/perl-5.28.0/lib/5.28.0/x86_64-linux
/opt/perl-5.28.0/lib/5.28.0
.