Config-IniFiles v3.000002 Perl 5 v5.29.7 i686-linux-64int
- Status
- Pass
- From
- Nigel Horne
- Dist
-
Config-IniFiles v3.000002
- Platform
- Perl 5 v5.29.7 i686-linux-64int
- Date
- 2019-03-14 14:42:13
- ID
- 5ae65814-4667-11e9-bf31-80c71e9d5857
This distribution has been tested as part of the CPAN Testers
project, supporting the Perl programming language. See
http://wiki.cpantesters.org/ for more information or email
questions to cpan-testers-discuss@perl.org
--
Dear Shlomi Fish,
This is a computer-generated report for Config-IniFiles-3.000002
on perl 5.29.7, created by CPAN-Reporter-1.2018.
Thank you for uploading your work to CPAN. Congratulations!
All tests were successful.
Sections of this report:
* Tester comments
* Program output
* Prerequisites
* Environment and other context
------------------------------
TESTER COMMENTS
------------------------------
Additional comments from tester:
this report is from an automated smoke testing program
and was not reviewed by a human for accuracy
------------------------------
PROGRAM OUTPUT
------------------------------
Output from './Build test':
t/00load.t .................................... ok
t/00-compile.t ................................ ok
t/02weird.t ................................... ok
t/01basic.t ................................... ok
t/03comments.t ................................ ok
t/04import.t .................................. ok
t/05hash.t .................................... ok
t/06oo.t ...................................... ok
t/07misc.t .................................... ok
t/08group.t ................................... ok
t/09case.t .................................... ok
t/10delta.t ................................... ok
t/12open-empty-file.t ......................... ok
t/11copy-ties-with-array-vals.t ............... ok
t/13val-in-list-context.t ..................... ok
t/14brackets-within-values.t .................. ok
t/16case-sensitive-default.t .................. ok
t/15store-and-retrieve-here-doc-terminator.t .. ok
t/17untainted-multiline-values.t .............. ok
t/18non-contiguous-groups.t ................... ok
t/19param-found-outside-section.t ............. ok
t/20allowedcommentchars.t ..................... ok
t/22trailing-comment-lines.t .................. ok
t/23scalar-ref.t .............................. ok
t/24case-sensitive-exists.t ................... ok
t/26scalar-filehandle.t ....................... ok
t/27empty-ini.t ............................... ok
t/28nomultiline.t ............................. ok
t/25line-endings.t ............................ ok
t/29end-of-line-comment.t ..................... ok
t/30parameters-with-empty-values.t ............ ok
t/32mswin-outputs-contain-crs.t ............... skipped: Test is only relevant for Microsoft Windows
t/31comments_with_spaces.t .................... ok
untie attempted while 1 inner references still exist at t/33update-using-tied-fh-w-shorter-names.t line 52.
t/33update-using-tied-fh-w-shorter-names.t .... ok
t/34trailing-comments-double-delimeter.t ...... ok
t/35reload-config-no-file.t ................... ok
t/35section-iterators.t ....................... ok
t/36php-compat.t .............................. ok
t/37here-doc-no-end-marker.t .................. ok
All tests successful.
Files=39, Tests=205, 4 wallclock secs ( 0.13 usr 0.08 sys + 5.27 cusr 0.58 csys = 6.06 CPU)
Result: PASS
------------------------------
PREREQUISITES
------------------------------
Prerequisite modules loaded:
requires:
Module Need Have
------------------- ----- --------
Carp 0 1.50
Fcntl 0 1.13
File::Basename 0 2.85
File::Temp 0 0.2309
IO::Scalar 0 2.111
List::Util 1.33 1.50
perl 5.008 5.029007
strict 0 1.11
Symbol 0 1.08
vars 0 1.05
warnings 0 1.43
build_requires:
Module Need Have
------------------- ----- --------
base 0 2.27
English 0 1.10
Exporter 0 5.73
File::Spec 0 3.77
File::Temp 0 0.2309
IO::File 0 1.39
IO::Handle 0 1.39
IPC::Open3 0 1.20
lib 0 0.65
Module::Build 0.28 0.4224
parent 0 0.237
Scalar::Util 0 1.50
Test::More 0.88 1.302160
configure_requires:
Module Need Have
------------------- ----- --------
ExtUtils::MakeMaker 0 7.34
Module::Build 0.28 0.4224
------------------------------
ENVIRONMENT AND OTHER CONTEXT
------------------------------
Environment variables:
AUTOMATED_TESTING = 1
HARNESS_OPTIONS = j2
LANG = en_US.UTF-8
PATH = /home/njh/perl5/perlbrew/bin:/home/njh/perl5/perlbrew/perls/perl-5.29.7-64int/bin:/home/njh/src/njh/smoker/bin:/usr/bin:/bin
PERL5LIB = /home/njh/.cpan/build/IO-stringy-2.111-1/blib/arch:/home/njh/.cpan/build/IO-stringy-2.111-1/blib/lib:/home/njh/.cpan/build/RPC-Switch-Client-0.12-1/blib/arch:/home/njh/.cpan/build/RPC-Switch-Client-0.12-1/blib/lib:/home/njh/.cpan/build/MojoX-NetstringStream-0.06-31/blib/arch:/home/njh/.cpan/build/MojoX-NetstringStream-0.06-31/blib/lib:/home/njh/.cpan/build/Mojolicious-8.12-31/blib/arch:/home/njh/.cpan/build/Mojolicious-8.12-31/blib/lib:/home/njh/.cpan/build/JSON-RPC2-TwoWay-0.03-31/blib/arch:/home/njh/.cpan/build/JSON-RPC2-TwoWay-0.03-31/blib/lib:/home/njh/.cpan/build/JSON-MaybeXS-1.004000-31/blib/arch:/home/njh/.cpan/build/JSON-MaybeXS-1.004000-31/blib/lib:/home/njh/.cpan/build/Cpanel-JSON-XS-4.09-29/blib/arch:/home/njh/.cpan/build/Cpanel-JSON-XS-4.09-29/blib/lib
PERL5OPT =
PERL5_CPANPLUS_IS_RUNNING = 7274
PERL5_CPAN_IS_RUNNING = 7274
PERLBREW_HOME = /home/njh/.perlbrew
PERLBREW_MANPATH = /home/njh/perl5/perlbrew/perls/perl-5.29.7-64int/man
PERLBREW_PATH = /home/njh/perl5/perlbrew/bin:/home/njh/perl5/perlbrew/perls/perl-5.29.7-64int/bin
PERLBREW_PERL = perl-5.29.7-64int
PERLBREW_ROOT = /home/njh/perl5/perlbrew
PERLBREW_SHELLRC_VERSION = 0.84
PERLBREW_VERSION = 0.84
PERL_USE_UNSAFE_INC = 1
SHELL = /bin/sh
TEMP = /tmp/user/1000
TMPDIR = /tmp/user/1000/testwrapper.7261
Perl special variables (and OS-specific diagnostics, for MSWin32):
$^X = /home/njh/perl5/perlbrew/perls/perl-5.29.7-64int/bin/perl5.29.7
$UID/$EUID = 1000 / 1000
$GID = 1000 4 24 25 29 30 44 46 108 1000
$EGID = 1000 4 24 25 29 30 44 46 108 1000
Perl module toolchain versions installed:
Module Have
------------------- --------
CPAN 2.25
CPAN::Meta 2.150010
Cwd 3.77
ExtUtils::CBuilder 0.280230
ExtUtils::Command 7.34
ExtUtils::Install 2.14
ExtUtils::MakeMaker 7.34
ExtUtils::Manifest 1.71
ExtUtils::ParseXS 3.40
File::Spec 3.77
JSON n/a
JSON::PP 2.97001
Module::Build 0.4224
Module::Signature n/a
Parse::CPAN::Meta 2.150010
Test::Harness 3.42
Test::More 1.302160
YAML 1.27
YAML::Syck 1.31
version 0.9924
--
Summary of my perl5 (revision 5 version 29 subversion 7) configuration:
Platform:
osname=linux
osvers=4.3.0-1-686-pae
archname=i686-linux-64int
uname='linux zack 4.3.0-1-686-pae #1 smp debian 4.3.5-1 (2016-02-06) i686 gnulinux '
config_args='-de -Dprefix=/home/njh/perl5/perlbrew/perls/perl-5.29.7-64int -Dusedevel -Duse64bitint -Dusedevel -Accflags= -Aeval:scriptdir=/home/njh/perl5/perlbrew/perls/perl-5.29.7-64int/bin'
hint=recommended
useposix=true
d_sigaction=define
useithreads=undef
usemultiplicity=undef
use64bitint=define
use64bitall=undef
uselongdouble=undef
usemymalloc=n
default_inc_excludes_dot=define
bincompat5005=undef
Compiler:
cc='cc'
ccflags ='-fwrapv -fno-strict-aliasing -pipe -fstack-protector-strong -I/usr/local/include -D_LARGEFILE_SOURCE -D_FILE_OFFSET_BITS=64 -D_FORTIFY_SOURCE=2'
optimize='-O2'
cppflags='-fwrapv -fno-strict-aliasing -pipe -fstack-protector-strong -I/usr/local/include'
ccversion=''
gccversion='8.2.1 20190204'
gccosandvers=''
intsize=4
longsize=4
ptrsize=4
doublesize=8
byteorder=12345678
doublekind=3
d_longlong=define
longlongsize=8
d_longdbl=define
longdblsize=12
longdblkind=3
ivtype='long long'
ivsize=8
nvtype='double'
nvsize=8
Off_t='off_t'
lseeksize=8
alignbytes=4
prototype=define
Linker and Libraries:
ld='cc'
ldflags =' -fstack-protector-strong -L/usr/local/lib'
libpth=/usr/local/lib /usr/lib/gcc/i686-linux-gnu/8/include-fixed /usr/include/i386-linux-gnu /usr/lib /lib/i386-linux-gnu /lib/../lib /usr/lib/i386-linux-gnu /usr/lib/../lib /lib /lib64 /usr/lib64
libs=-lpthread -lnsl -lgdbm -ldb -ldl -lm -lcrypt -lutil -lc
perllibs=-lpthread -lnsl -ldl -lm -lcrypt -lutil -lc
libc=libc-2.28.so
so=so
useshrplib=false
libperl=libperl.a
gnulibc_version='2.28'
Dynamic Linking:
dlsrc=dl_dlopen.xs
dlext=so
d_dlsymun=undef
ccdlflags='-Wl,-E'
cccdlflags='-fPIC'
lddlflags='-shared -O2 -L/usr/local/lib -fstack-protector-strong'
Characteristics of this binary (from libperl):
Compile-time options:
HAS_TIMES
PERLIO_LAYERS
PERL_COPY_ON_WRITE
PERL_DONT_CREATE_GVSV
PERL_MALLOC_WRAP
PERL_OP_PARENT
PERL_PRESERVE_IVUV
PERL_USE_DEVEL
USE_64_BIT_INT
USE_LARGE_FILES
USE_LOCALE
USE_LOCALE_COLLATE
USE_LOCALE_CTYPE
USE_LOCALE_NUMERIC
USE_LOCALE_TIME
USE_PERLIO
USE_PERL_ATOF
Locally applied patches:
Devel::PatchPerl 1.38
Built under linux
Compiled at Feb 25 2019 00:54:00
%ENV:
PERL5LIB="/home/njh/.cpan/build/IO-stringy-2.111-1/blib/arch:/home/njh/.cpan/build/IO-stringy-2.111-1/blib/lib:/home/njh/.cpan/build/RPC-Switch-Client-0.12-1/blib/arch:/home/njh/.cpan/build/RPC-Switch-Client-0.12-1/blib/lib:/home/njh/.cpan/build/MojoX-NetstringStream-0.06-31/blib/arch:/home/njh/.cpan/build/MojoX-NetstringStream-0.06-31/blib/lib:/home/njh/.cpan/build/Mojolicious-8.12-31/blib/arch:/home/njh/.cpan/build/Mojolicious-8.12-31/blib/lib:/home/njh/.cpan/build/JSON-RPC2-TwoWay-0.03-31/blib/arch:/home/njh/.cpan/build/JSON-RPC2-TwoWay-0.03-31/blib/lib:/home/njh/.cpan/build/JSON-MaybeXS-1.004000-31/blib/arch:/home/njh/.cpan/build/JSON-MaybeXS-1.004000-31/blib/lib:/home/njh/.cpan/build/Cpanel-JSON-XS-4.09-29/blib/arch:/home/njh/.cpan/build/Cpanel-JSON-XS-4.09-29/blib/lib"
PERL5OPT=""
PERL5_CPANPLUS_IS_RUNNING="7274"
PERL5_CPAN_IS_RUNNING="7274"
PERLBREW_HOME="/home/njh/.perlbrew"
PERLBREW_MANPATH="/home/njh/perl5/perlbrew/perls/perl-5.29.7-64int/man"
PERLBREW_PATH="/home/njh/perl5/perlbrew/bin:/home/njh/perl5/perlbrew/perls/perl-5.29.7-64int/bin"
PERLBREW_PERL="perl-5.29.7-64int"
PERLBREW_ROOT="/home/njh/perl5/perlbrew"
PERLBREW_SHELLRC_VERSION="0.84"
PERLBREW_VERSION="0.84"
PERL_USE_UNSAFE_INC="1"
@INC:
/home/njh/.cpan/build/IO-stringy-2.111-1/blib/arch
/home/njh/.cpan/build/IO-stringy-2.111-1/blib/lib
/home/njh/.cpan/build/RPC-Switch-Client-0.12-1/blib/arch
/home/njh/.cpan/build/RPC-Switch-Client-0.12-1/blib/lib
/home/njh/.cpan/build/MojoX-NetstringStream-0.06-31/blib/arch
/home/njh/.cpan/build/MojoX-NetstringStream-0.06-31/blib/lib
/home/njh/.cpan/build/Mojolicious-8.12-31/blib/arch
/home/njh/.cpan/build/Mojolicious-8.12-31/blib/lib
/home/njh/.cpan/build/JSON-RPC2-TwoWay-0.03-31/blib/arch
/home/njh/.cpan/build/JSON-RPC2-TwoWay-0.03-31/blib/lib
/home/njh/.cpan/build/JSON-MaybeXS-1.004000-31/blib/arch
/home/njh/.cpan/build/JSON-MaybeXS-1.004000-31/blib/lib
/home/njh/.cpan/build/Cpanel-JSON-XS-4.09-29/blib/arch
/home/njh/.cpan/build/Cpanel-JSON-XS-4.09-29/blib/lib
/home/njh/perl5/perlbrew/perls/perl-5.29.7-64int/lib/site_perl/5.29.7/i686-linux-64int
/home/njh/perl5/perlbrew/perls/perl-5.29.7-64int/lib/site_perl/5.29.7
/home/njh/perl5/perlbrew/perls/perl-5.29.7-64int/lib/5.29.7/i686-linux-64int
/home/njh/perl5/perlbrew/perls/perl-5.29.7-64int/lib/5.29.7
.