Report for App-CSE-0.010

Back
From: metabase:user:314402c4-2aae-11df-837a-5e0a49663a4f
Subject: PASS App-CSE-0.010 v5.20.1 GNU/Linux
Date: 2016-12-02T18:44:28Z

This distribution has been tested as part of the CPAN Testers
project, supporting the Perl programming language.  See
http://wiki.cpantesters.org/ for more information or email
questions to cpan-testers-discuss@perl.org


--
Dear Jerome Eteve,

This is a computer-generated report for App-CSE-0.010
on perl 5.20.1, created by CPAN-Reporter-1.2018.

Thank you for uploading your work to CPAN.  Congratulations!
All tests were successful.

Sections of this report:

    * Tester comments
    * Program output
    * Prerequisites
    * Environment and other context

------------------------------
TESTER COMMENTS
------------------------------

Additional comments from tester:

none provided

------------------------------
PROGRAM OUTPUT
------------------------------

Output from '/usr/bin/make test':

PERL_DL_NONLAZY=1 "/bbbike/perl-5.20.1/bin/perl5.20.1" "-MExtUtils::Command::MM" "-MTest::Harness" "-e" "undef *Test::Harness::Switches; test_harness(0, 'blib/lib', 'blib/arch')" t/*.t t/toindex/perl/*.t
t/00-load.t ............. ok
t/01-help.t ............. ok
t/02-check.t ............ ok
t/03-index.t ............ ok
t/04-search.t ........... ok
t/05-more-search.t ...... ok
t/06-update.t ........... ok
t/07-decl.t ............. ok
t/08-meta.t ............. ok
t/09-watch.t ............ skipped: Do not run this test. unless TEST_SLOW=1
t/10-hidden.t ........... ok
# this_is_a_test
t/toindex/perl/hello.t .. ok
All tests successful.
Files=12, Tests=145,  8 wallclock secs ( 0.04 usr  0.05 sys +  4.95 cusr  0.96 csys =  6.00 CPU)
Result: PASS

------------------------------
PREREQUISITES
------------------------------

Prerequisite modules loaded:

requires:

    Module                  Need        Have       
    ----------------------- ----------- -----------
    Carp                    0           1.38       
    Class::InsideOut        0           1.13       
    Class::Load             0           0.23       
    DateTime                0           1.41       
    Encode                  0           2.87       
    File::BaseDir           0           0.07       
    File::Find              0           1.27       
    File::MimeInfo::Magic   0           0.27       
    File::Slurp             0           9999.19    
    File::stat              0           1.07       
    Filesys::Notify::Simple 0           0.12       
    Getopt::Long            0           2.48       
    IO::Interactive         0           1.022      
    JSON                    0           2.90       
    Linux::Inotify2         0           1.22       
    Log::Dispatch::Syslog   0           2.57       
    Log::Log4perl           0           1.48       
    Lucy                    0.006000004 0.006000004
    Moose                   0           2.1806     
    Path::Class::Dir        0           0.37       
    Pod::Text               0           4.09       
    PPI                     0           1.220      
    Regexp::Assemble        0           0.37       
    Scalar::Util            0           1.46       
    String::CamelCase       0           0.02       
    Term::ProgressBar       2.17        2.17       
    Text::Glob              0.09        0.10       
    Time::HiRes             0           1.9740     
    XML::LibXML             0           2.0126     

build_requires:

    Module                  Need        Have       
    ----------------------- ----------- -----------
    Carp::Always            0           0.13       
    ExtUtils::MakeMaker     0           7.24       
    File::Copy::Recursive   0           0.38       
    File::Slurp             0           9999.19    
    File::Temp              0           0.2304     
    Test::More              0           1.302062   

configure_requires:

    Module                  Need        Have       
    ----------------------- ----------- -----------
    ExtUtils::MakeMaker     0           7.24       


------------------------------
ENVIRONMENT AND OTHER CONTEXT
------------------------------

Environment variables:

    LANG = C
    LC_ALL = de_DE.UTF-8
    PATH = /usr/local/bin:/usr/bin:/bin:/usr/local/sbin:/usr/sbin:/sbin:/home/cpansand/bin/linux-gnu:/home/cpansand/bin/sh:/home/cpansand/bin:/usr/games:/home/cpansand/devel:/home/eserte/src/srezic-misc/scripts
    PERL5LIB = /home/cpansand/.cpan/build/2016120218/Lucy-0.6.0.4-6/blib/arch:/home/cpansand/.cpan/build/2016120218/Lucy-0.6.0.4-6/blib/lib:/home/cpansand/.cpan/build/2016120218/Clownfish-0.6.0.5-6/blib/arch:/home/cpansand/.cpan/build/2016120218/Clownfish-0.6.0.5-6/blib/lib:/home/cpansand/.cpan/build/2016120218/Clownfish-CFC-0.6.0.5-6/blib/arch:/home/cpansand/.cpan/build/2016120218/Clownfish-CFC-0.6.0.5-6/blib/lib
    PERL5OPT = 
    PERL5_CPANPLUS_IS_RUNNING = 16538
    PERL5_CPAN_IS_RUNNING = 16538
    PERL5_CPAN_IS_RUNNING_IN_RECURSION = 16400,16538
    PERLDOC = -MPod::Perldoc::ToTextOverstrike
    PERL_BATCH = yes
    PERL_CANARY_STABILITY_NOPROMPT = 1
    PERL_CPAN_REPORTER_CONFIG = /run/user/1023/cpansmoker/2016120218/cpanreporter_000_config.ini
    PERL_EXTUTILS_AUTOINSTALL = --defaultdeps
    PERL_PARALLEL_SMOKER = yes
    PERL_USE_UNSAFE_INC = 1
    SHELL = /bin/zsh
    TERM = screen
    TMPDIR = /run/user/1023/cpansmoker/2016120218

Perl special variables (and OS-specific diagnostics, for MSWin32):

    $^X = /bbbike/perl-5.20.1/bin/perl5.20.1
    $UID/$EUID = 1023 / 1023
    $GID = 1023 1023
    $EGID = 1023 1023

Perl module toolchain versions installed:

    Module              Have    
    ------------------- --------
    CPAN                2.14    
    CPAN::Meta          2.150010
    Cwd                 3.48    
    ExtUtils::CBuilder  0.280224
    ExtUtils::Command   7.24    
    ExtUtils::Install   1.67    
    ExtUtils::MakeMaker 7.24    
    ExtUtils::Manifest  1.70    
    ExtUtils::ParseXS   3.24    
    File::Spec          3.48    
    JSON                2.90    
    JSON::PP            2.27400 
    Module::Build       0.4220  
    Module::Signature   0.80    
    Parse::CPAN::Meta   2.150010
    Test::Harness       3.36    
    Test::More          1.302062
    YAML                1.15    
    YAML::Syck          1.29    
    version             0.9916  


--

Summary of my perl5 (revision 5 version 20 subversion 1) configuration:
   
  Platform:
    osname=linux, osvers=3.16.0-4-amd64, archname=x86_64-linux
    uname='linux eserte 3.16.0-4-amd64 #1 smp debian 3.16.7-ckt25-2 (2016-04-08) x86_64 gnulinux '
    config_args='-ds -e -Dprefix=/opt/perl-5.20.1 -Dcf_email=srezic@cpan.org'
    hint=recommended, useposix=true, d_sigaction=define
    useithreads=undef, usemultiplicity=undef
    use64bitint=define, use64bitall=define, uselongdouble=undef
    usemymalloc=n, bincompat5005=undef
  Compiler:
    cc='cc', ccflags ='-fwrapv -fno-strict-aliasing -pipe -fstack-protector -I/usr/local/include -D_LARGEFILE_SOURCE -D_FILE_OFFSET_BITS=64',
    optimize='-O2',
    cppflags='-fwrapv -fno-strict-aliasing -pipe -fstack-protector -I/usr/local/include'
    ccversion='', gccversion='4.9.2', gccosandvers=''
    intsize=4, longsize=8, ptrsize=8, doublesize=8, byteorder=12345678
    d_longlong=define, longlongsize=8, d_longdbl=define, longdblsize=16
    ivtype='long', ivsize=8, nvtype='double', nvsize=8, Off_t='off_t', lseeksize=8
    alignbytes=8, prototype=define
  Linker and Libraries:
    ld='cc', ldflags =' -fstack-protector -L/usr/local/lib'
    libpth=/usr/local/lib /usr/lib/gcc/x86_64-linux-gnu/4.9/include-fixed /usr/include/x86_64-linux-gnu /usr/lib /lib/x86_64-linux-gnu /lib/../lib /usr/lib/x86_64-linux-gnu /usr/lib/../lib /lib
    libs=-lnsl -lgdbm -ldb -ldl -lm -lcrypt -lutil -lc -lgdbm_compat
    perllibs=-lnsl -ldl -lm -lcrypt -lutil -lc
    libc=libc-2.19.so, so=so, useshrplib=false, libperl=libperl.a
    gnulibc_version='2.19'
  Dynamic Linking:
    dlsrc=dl_dlopen.xs, dlext=so, d_dlsymun=undef, ccdlflags='-Wl,-E'
    cccdlflags='-fPIC', lddlflags='-shared -O2 -L/usr/local/lib -fstack-protector'


Characteristics of this binary (from libperl): 
  Compile-time options: HAS_TIMES PERLIO_LAYERS PERL_DONT_CREATE_GVSV
                        PERL_HASH_FUNC_ONE_AT_A_TIME_HARD PERL_MALLOC_WRAP
                        PERL_NEW_COPY_ON_WRITE PERL_PRESERVE_IVUV
                        USE_64_BIT_ALL USE_64_BIT_INT USE_LARGE_FILES
                        USE_LOCALE USE_LOCALE_COLLATE USE_LOCALE_CTYPE
                        USE_LOCALE_NUMERIC USE_PERLIO USE_PERL_ATOF
  Built under linux
  Compiled at May  7 2016 16:00:15
  %ENV:
    PERL5LIB="/home/cpansand/.cpan/build/2016120218/Lucy-0.6.0.4-6/blib/arch:/home/cpansand/.cpan/build/2016120218/Lucy-0.6.0.4-6/blib/lib:/home/cpansand/.cpan/build/2016120218/Clownfish-0.6.0.5-6/blib/arch:/home/cpansand/.cpan/build/2016120218/Clownfish-0.6.0.5-6/blib/lib:/home/cpansand/.cpan/build/2016120218/Clownfish-CFC-0.6.0.5-6/blib/arch:/home/cpansand/.cpan/build/2016120218/Clownfish-CFC-0.6.0.5-6/blib/lib"
    PERL5OPT=""
    PERL5_CPANPLUS_IS_RUNNING="16538"
    PERL5_CPAN_IS_RUNNING="16538"
    PERL5_CPAN_IS_RUNNING_IN_RECURSION="16400,16538"
    PERLDOC="-MPod::Perldoc::ToTextOverstrike"
    PERL_BATCH="yes"
    PERL_CANARY_STABILITY_NOPROMPT="1"
    PERL_CPAN_REPORTER_CONFIG="/run/user/1023/cpansmoker/2016120218/cpanreporter_000_config.ini"
    PERL_EXTUTILS_AUTOINSTALL="--defaultdeps"
    PERL_PARALLEL_SMOKER="yes"
    PERL_USE_UNSAFE_INC="1"
  @INC:
    /home/cpansand/.cpan/build/2016120218/Lucy-0.6.0.4-6/blib/arch
    /home/cpansand/.cpan/build/2016120218/Lucy-0.6.0.4-6/blib/lib
    /home/cpansand/.cpan/build/2016120218/Clownfish-0.6.0.5-6/blib/arch
    /home/cpansand/.cpan/build/2016120218/Clownfish-0.6.0.5-6/blib/lib
    /home/cpansand/.cpan/build/2016120218/Clownfish-CFC-0.6.0.5-6/blib/arch
    /home/cpansand/.cpan/build/2016120218/Clownfish-CFC-0.6.0.5-6/blib/lib
    /opt/perl-5.20.1/lib/site_perl/5.20.1/x86_64-linux
    /opt/perl-5.20.1/lib/site_perl/5.20.1
    /opt/perl-5.20.1/lib/5.20.1/x86_64-linux
    /opt/perl-5.20.1/lib/5.20.1
    .