Back
From: metabase:user:30f0bd62-2aae-11df-837a-5e0a49663a4f
Subject: PASS Dpchrist-LangUtil-1.013 v5.12.2 GNU/Linux
Date: 2010-12-01T15:26:23Z
This distribution has been tested as part of the CPAN Testers
project, supporting the Perl programming language. See
http://wiki.cpantesters.org/ for more information or email
questions to cpan-testers-discuss@perl.org
--
Dear David Paul Christensen,
This is a computer-generated report for Dpchrist-LangUtil-1.013
on perl 5.12.2, created by CPAN-Reporter-1.1805.
Thank you for uploading your work to CPAN. Congratulations!
All tests were successful.
Sections of this report:
* Tester comments
* Program output
* Prerequisites
* Environment and other context
------------------------------
TESTER COMMENTS
------------------------------
Additional comments from tester:
this report is from an automated smoke testing program
and was not reviewed by a human for accuracy
------------------------------
PROGRAM OUTPUT
------------------------------
Output from '/usr/bin/make test':
PERL_DL_NONLAZY=1 /home/sts/cpansmoke/perl-5.12.2/bin/perl "-MExtUtils::Command::MM" "-e" "test_harness(0, 'blib/lib', 'blib/arch')" t/*.t
t/0_compile_modules.t .... skipped: Test::Compile 0.09 required for testing compilation
t/1_Dpchrist-LangUtil.t .. ok
t/2_arrayref_cmp.t ....... ok
t/2_defined_or.t ......... ok
t/2_echo_system.t ........ ok
t/2_hashref_keys.t ....... ok
t/9_pod.t ................ ok
t/9_prereq.t ............. skipped: Test::Prereq required to test dependencies
All tests successful.
Files=8, Tests=34, 0 wallclock secs ( 0.04 usr 0.00 sys + 0.24 cusr 0.07 csys = 0.35 CPU)
Result: PASS
------------------------------
PREREQUISITES
------------------------------
Prerequisite modules loaded:
requires:
Module Need Have
------------------- ----- -----
Capture::Tiny 0 0.08
Dpchrist::Module 1.026 1.026
feature 0 1.16
Getopt::Long 0 2.38
Pod::Html 0 1.09
Pod::Text 0 3.14
Pod::Usage 0 1.36
configure_requires:
Module Need Have
------------------- ----- -----
ExtUtils::MakeMaker 0 6.56
------------------------------
ENVIRONMENT AND OTHER CONTEXT
------------------------------
Environment variables:
AUTOMATED_TESTING = 1
LANG = en_US.UTF-8
PATH = /usr/local/bin:/usr/bin:/bin:/usr/games
PERL5LIB = /home/sts/cpansmoke/perl-5.12.2/cpan/build/Capture-Tiny-0.08-1TNuCE/blib/arch:/home/sts/cpansmoke/perl-5.12.2/cpan/build/Capture-Tiny-0.08-1TNuCE/blib/lib:/home/sts/cpansmoke/perl-5.12.2/cpan/build/Dpchrist-Module-1.026-5DFaEz/blib/arch:/home/sts/cpansmoke/perl-5.12.2/cpan/build/Dpchrist-Module-1.026-5DFaEz/blib/lib:/home/sts/cpansmoke/perl-5.12.2/cpan/build/Dpchrist-Debug-1.044-YHfy4Q/blib/arch:/home/sts/cpansmoke/perl-5.12.2/cpan/build/Dpchrist-Debug-1.044-YHfy4Q/blib/lib:/home/sts/cpansmoke/perl-5.12.2/cpan/build/Dpchrist-File-Append-1.031-GuXFMf/blib/arch:/home/sts/cpansmoke/perl-5.12.2/cpan/build/Dpchrist-File-Append-1.031-GuXFMf/blib/lib:/home/sts/cpansmoke/perl-5.12.2/cpan/build/Dpchrist-Tag-1.035-g3SPfi/blib/arch:/home/sts/cpansmoke/perl-5.12.2/cpan/build/Dpchrist-Tag-1.035-g3SPfi/blib/lib:/home/sts/cpansmoke/perl-5.12.2/cpan/build/Dpchrist-Is-1.027-jCE61S/blib/arch:/home/sts/cpansmoke/perl-5.12.2/cpan/build/Dpchrist-Is-1.027-jCE61S/blib/lib
PERL5OPT =
PERL5_CPANPLUS_IS_RUNNING = 26248
PERL5_CPAN_IS_RUNNING = 26248
PERL5_CPAN_IS_RUNNING_IN_RECURSION = 4459,26248
PERL_CR_SMOKER_CURRENT = Dpchrist-Scripts-1.012
PERL_EXTUTILS_AUTOINSTALL = --defaultdeps
PERL_MM_USE_DEFAULT = 1
SHELL = /bin/bash
TERM = screen
Perl special variables (and OS-specific diagnostics, for MSWin32):
$^X = /home/sts/cpansmoke/perl-5.12.2/bin/perl
$UID/$EUID = 1000 / 1000
$GID = 1000 1000
$EGID = 1000 1000
Perl module toolchain versions installed:
Module Have
------------------- -------
CPAN 1.94_56
Cwd 3.31
ExtUtils::CBuilder 0.27
ExtUtils::Command 1.16
ExtUtils::Install 1.55
ExtUtils::MakeMaker 6.56
ExtUtils::Manifest 1.57
ExtUtils::ParseXS 2.21
File::Spec 3.31_01
Module::Build 0.3603
Module::Signature n/a
Test::Harness 3.17
Test::More 0.96
YAML n/a
YAML::Syck 1.15
version 0.82
--
Summary of my perl5 (revision 5 version 12 subversion 2) configuration:
Platform:
osname=linux, osvers=2.6.26-2-openvz-686, archname=i686-linux-thread-multi
uname='linux cpansmoke1 2.6.26-2-openvz-686 #1 smp thu sep 16 22:16:19 utc 2010 i686 gnulinux '
config_args='-des -Dusethreads -Dprefix=/home/sts/cpansmoke/perl-5.12.2'
hint=recommended, useposix=true, d_sigaction=define
useithreads=define, usemultiplicity=define
useperlio=define, d_sfio=undef, uselargefiles=define, usesocks=undef
use64bitint=undef, use64bitall=undef, uselongdouble=undef
usemymalloc=n, bincompat5005=undef
Compiler:
cc='cc', ccflags ='-D_REENTRANT -D_GNU_SOURCE -fno-strict-aliasing -pipe -fstack-protector -I/usr/local/include -D_LARGEFILE_SOURCE -D_FILE_OFFSET_BITS=64',
optimize='-O2',
cppflags='-D_REENTRANT -D_GNU_SOURCE -fno-strict-aliasing -pipe -fstack-protector -I/usr/local/include'
ccversion='', gccversion='4.3.2', gccosandvers=''
intsize=4, longsize=4, ptrsize=4, doublesize=8, byteorder=1234
d_longlong=define, longlongsize=8, d_longdbl=define, longdblsize=12
ivtype='long', ivsize=4, nvtype='double', nvsize=8, Off_t='off_t', lseeksize=8
alignbytes=4, prototype=define
Linker and Libraries:
ld='cc', ldflags =' -fstack-protector -L/usr/local/lib'
libpth=/usr/local/lib /lib /usr/lib
libs=-lnsl -ldb -ldl -lm -lcrypt -lutil -lpthread -lc
perllibs=-lnsl -ldl -lm -lcrypt -lutil -lpthread -lc
libc=/lib/libc-2.7.so, so=so, useshrplib=false, libperl=libperl.a
gnulibc_version='2.7'
Dynamic Linking:
dlsrc=dl_dlopen.xs, dlext=so, d_dlsymun=undef, ccdlflags='-Wl,-E'
cccdlflags='-fPIC', lddlflags='-shared -O2 -L/usr/local/lib -fstack-protector'
Characteristics of this binary (from libperl):
Compile-time options: MULTIPLICITY PERL_DONT_CREATE_GVSV
PERL_IMPLICIT_CONTEXT PERL_MALLOC_WRAP USE_ITHREADS
USE_LARGE_FILES USE_PERLIO USE_PERL_ATOF
USE_REENTRANT_API
Built under linux
Compiled at Oct 27 2010 20:24:10
%ENV:
PERL5LIB="/home/sts/cpansmoke/perl-5.12.2/cpan/build/Capture-Tiny-0.08-1TNuCE/blib/arch:/home/sts/cpansmoke/perl-5.12.2/cpan/build/Capture-Tiny-0.08-1TNuCE/blib/lib:/home/sts/cpansmoke/perl-5.12.2/cpan/build/Dpchrist-Module-1.026-5DFaEz/blib/arch:/home/sts/cpansmoke/perl-5.12.2/cpan/build/Dpchrist-Module-1.026-5DFaEz/blib/lib:/home/sts/cpansmoke/perl-5.12.2/cpan/build/Dpchrist-Debug-1.044-YHfy4Q/blib/arch:/home/sts/cpansmoke/perl-5.12.2/cpan/build/Dpchrist-Debug-1.044-YHfy4Q/blib/lib:/home/sts/cpansmoke/perl-5.12.2/cpan/build/Dpchrist-File-Append-1.031-GuXFMf/blib/arch:/home/sts/cpansmoke/perl-5.12.2/cpan/build/Dpchrist-File-Append-1.031-GuXFMf/blib/lib:/home/sts/cpansmoke/perl-5.12.2/cpan/build/Dpchrist-Tag-1.035-g3SPfi/blib/arch:/home/sts/cpansmoke/perl-5.12.2/cpan/build/Dpchrist-Tag-1.035-g3SPfi/blib/lib:/home/sts/cpansmoke/perl-5.12.2/cpan/build/Dpchrist-Is-1.027-jCE61S/blib/arch:/home/sts/cpansmoke/perl-5.12.2/cpan/build/Dpchrist-Is-1.027-jCE61S/blib/lib"
PERL5OPT=""
PERL5_CPANPLUS_IS_RUNNING="26248"
PERL5_CPAN_IS_RUNNING="26248"
PERL5_CPAN_IS_RUNNING_IN_RECURSION="4459,26248"
PERL_CR_SMOKER_CURRENT="Dpchrist-Scripts-1.012"
PERL_EXTUTILS_AUTOINSTALL="--defaultdeps"
PERL_MM_USE_DEFAULT="1"
@INC:
/home/sts/cpansmoke/perl-5.12.2/cpan/build/Capture-Tiny-0.08-1TNuCE/blib/arch
/home/sts/cpansmoke/perl-5.12.2/cpan/build/Capture-Tiny-0.08-1TNuCE/blib/lib
/home/sts/cpansmoke/perl-5.12.2/cpan/build/Dpchrist-Module-1.026-5DFaEz/blib/arch
/home/sts/cpansmoke/perl-5.12.2/cpan/build/Dpchrist-Module-1.026-5DFaEz/blib/lib
/home/sts/cpansmoke/perl-5.12.2/cpan/build/Dpchrist-Debug-1.044-YHfy4Q/blib/arch
/home/sts/cpansmoke/perl-5.12.2/cpan/build/Dpchrist-Debug-1.044-YHfy4Q/blib/lib
/home/sts/cpansmoke/perl-5.12.2/cpan/build/Dpchrist-File-Append-1.031-GuXFMf/blib/arch
/home/sts/cpansmoke/perl-5.12.2/cpan/build/Dpchrist-File-Append-1.031-GuXFMf/blib/lib
/home/sts/cpansmoke/perl-5.12.2/cpan/build/Dpchrist-Tag-1.035-g3SPfi/blib/arch
/home/sts/cpansmoke/perl-5.12.2/cpan/build/Dpchrist-Tag-1.035-g3SPfi/blib/lib
/home/sts/cpansmoke/perl-5.12.2/cpan/build/Dpchrist-Is-1.027-jCE61S/blib/arch
/home/sts/cpansmoke/perl-5.12.2/cpan/build/Dpchrist-Is-1.027-jCE61S/blib/lib
/home/sts/cpansmoke/perl-5.12.2/lib/site_perl/5.12.2/i686-linux-thread-multi
/home/sts/cpansmoke/perl-5.12.2/lib/site_perl/5.12.2
/home/sts/cpansmoke/perl-5.12.2/lib/5.12.2/i686-linux-thread-multi
/home/sts/cpansmoke/perl-5.12.2/lib/5.12.2
.