Task-Dancer2 v0.07 Perl 5 v5.39.1 x86_64-linux-thread-multi

Status
Pass
From
Andreas J. König (ANDK)
Dist
Task-Dancer2 v0.07
Platform
Perl 5 v5.39.1 x86_64-linux-thread-multi
Date
2023-08-03 09:08:48
ID
5b1eec22-31dd-11ee-a817-752e29d2afa7
This distribution has been tested as part of the CPAN Testers
project, supporting the Perl programming language.  See
http://wiki.cpantesters.org/ for more information or email
questions to cpan-testers-discuss@perl.org


--
Dear Jason A. Crome,

This is a computer-generated report for Task-Dancer2-0.07
on perl 5.39.1, created by CPAN-Reporter-1.2019.

Thank you for uploading your work to CPAN.  Congratulations!
All tests were successful.

Sections of this report:

    * Tester comments
    * Program output
    * Prerequisites
    * Environment and other context

------------------------------
TESTER COMMENTS
------------------------------

Additional comments from tester:

this report is from an automated smoke testing program
and was not reviewed by a human for accuracy

------------------------------
PROGRAM OUTPUT
------------------------------

Output from '/usr/bin/make test':

PERL_DL_NONLAZY=1 "/tmp/basesmoker-reloperl-xWzm/bin/perl" "-MExtUtils::Command::MM" "-MTest::Harness" "-e" "undef *Test::Harness::Switches; test_harness(0, 'inc', 'blib/lib', 'blib/arch')" t/00-load.t t/manifest.t t/release-pod-coverage.t t/release-pod-syntax.t
# Testing Task::Dancer2 0.07, Perl 5.039001, /tmp/basesmoker-reloperl-xWzm/bin/perl
t/00-load.t ............... ok
t/manifest.t .............. skipped: Author tests not required for installation
t/release-pod-coverage.t .. skipped: these tests are for release candidate testing
t/release-pod-syntax.t .... skipped: these tests are for release candidate testing
All tests successful.
Files=4, Tests=1,  1 wallclock secs ( 0.02 usr  0.00 sys +  0.26 cusr  0.03 csys =  0.31 CPU)
Result: PASS

------------------------------
PREREQUISITES
------------------------------

Prerequisite modules loaded:

requires:

    Module                                                       Need Have    
    ------------------------------------------------------------ ---- --------
  ! Dancer2                                                      0    n/a     
  ! Dancer2::Logger::Console::Colored                            0    n/a     
  ! Dancer2::Logger::File::RotateLogs                            0    n/a     
  ! Dancer2::Logger::Fluent                                      0    n/a     
  ! Dancer2::Logger::Log4perl                                    0    n/a     
  ! Dancer2::Logger::LogAny                                      0    n/a     
  ! Dancer2::Logger::LogReport                                   0    broken  
  ! Dancer2::Logger::Multiplex                                   0    n/a     
  ! Dancer2::Logger::Radis                                       0    n/a     
  ! Dancer2::Logger::Syslog                                      0    n/a     
  ! Dancer2::Plugin::Adapter                                     0    n/a     
  ! Dancer2::Plugin::Ajax                                        0    n/a     
    Dancer2::Plugin::AppRole::Helper                             0    1.152121
  ! Dancer2::Plugin::Argon2                                      0    n/a     
  ! Dancer2::Plugin::Articulate                                  0    n/a     
  ! Dancer2::Plugin::Auth::ActiveDirectory                       0    n/a     
  ! Dancer2::Plugin::Auth::CAS                                   0    n/a     
  ! Dancer2::Plugin::Auth::Extensible                            0    n/a     
  ! Dancer2::Plugin::Auth::Extensible::Provider::ActiveDirectory 0    n/a     
  ! Dancer2::Plugin::Auth::Extensible::Provider::Database        0    n/a     
  ! Dancer2::Plugin::Auth::Extensible::Provider::DBIC            0    n/a     
  ! Dancer2::Plugin::Auth::Extensible::Provider::DBIx::Class     0    n/a     
  ! Dancer2::Plugin::Auth::Extensible::Provider::IMAP            0    n/a     
  ! Dancer2::Plugin::Auth::Extensible::Provider::LDAP            0    n/a     
  ! Dancer2::Plugin::Auth::Extensible::Provider::Usergroup       0    n/a     
  ! Dancer2::Plugin::Auth::Extensible::Rights                    0    n/a     
  ! Dancer2::Plugin::Auth::HTTP::Basic::DWIW                     0    n/a     
  ! Dancer2::Plugin::Auth::OAuth                                 0    n/a     
  ! Dancer2::Plugin::Auth::SAFE                                  0    n/a     
  ! Dancer2::Plugin::Auth::Tiny                                  0    n/a     
  ! Dancer2::Plugin::Auth::YARBAC                                0    n/a     
  ! Dancer2::Plugin::BrowserDetect                               0    n/a     
  ! Dancer2::Plugin::Cache::CHI                                  0    n/a     
  ! Dancer2::Plugin::Captcha                                     0    n/a     
  ! Dancer2::Plugin::Cart                                        0    n/a     
  ! Dancer2::Plugin::Chain                                       0    n/a     
  ! Dancer2::Plugin::ConditionalCaching                          0    n/a     
  ! Dancer2::Plugin::ControllerAutoload                          0    n/a     
  ! Dancer2::Plugin::CryptPassphrase                             0    n/a     
  ! Dancer2::Plugin::CSRF                                        0    n/a     
  ! Dancer2::Plugin::CSRFI                                       0    n/a     
  ! Dancer2::Plugin::Database                                    0    n/a     
  ! Dancer2::Plugin::DataTransposeValidator                      0    n/a     
  ! Dancer2::Plugin::DBIC                                        0    n/a     
  ! Dancer2::Plugin::DBIx::Class                                 0    n/a     
  ! Dancer2::Plugin::DebugDump                                   0    n/a     
  ! Dancer2::Plugin::Debugger                                    0    n/a     
  ! Dancer2::Plugin::Deferred                                    0    n/a     
  ! Dancer2::Plugin::DoFile                                      0    n/a     
  ! Dancer2::Plugin::EditFile                                    0    n/a     
  ! Dancer2::Plugin::ElasticSearch                               0    n/a     
  ! Dancer2::Plugin::Email                                       0    n/a     
  ! Dancer2::Plugin::Emailesque                                  0    n/a     
  ! Dancer2::Plugin::EncryptID                                   0    n/a     
  ! Dancer2::Plugin::Etcd                                        0    n/a     
  ! Dancer2::Plugin::Feed                                        0    n/a     
  ! Dancer2::Plugin::Flash                                       0    n/a     
  ! Dancer2::Plugin::FlashNote                                   0    n/a     
  ! Dancer2::Plugin::FontSubset                                  0    n/a     
  ! Dancer2::Plugin::FormValidator                               0    n/a     
  ! Dancer2::Plugin::FormValidator::Extension::DBIC              0    n/a     
  ! Dancer2::Plugin::FormValidator::Extension::Password          0    n/a     
  ! Dancer2::Plugin::Github::Webhook                             0    n/a     
  ! Dancer2::Plugin::GoogleAnalytics                             0    n/a     
  ! Dancer2::Plugin::GraphQL                                     0    n/a     
  ! Dancer2::Plugin::Growler                                     0    n/a     
  ! Dancer2::Plugin::HTTP::Auth::Extensible                      0    n/a     
  ! Dancer2::Plugin::HTTP::Bundle                                0    n/a     
  ! Dancer2::Plugin::HTTP::Caching                               0    n/a     
  ! Dancer2::Plugin::HTTP::ConditionalRequest                    0    n/a     
  ! Dancer2::Plugin::HTTP::ContentNegotiation                    0    n/a     
  ! Dancer2::Plugin::Interchange6                                0    n/a     
  ! Dancer2::Plugin::JSManager                                   0    n/a     
  ! Dancer2::Plugin::JWT                                         0    n/a     
  ! Dancer2::Plugin::Locale                                      0    n/a     
  ! Dancer2::Plugin::Locale::Meta                                0    n/a     
  ! Dancer2::Plugin::Locale::Wolowitz                            0    n/a     
  ! Dancer2::Plugin::LogContextual                               0    n/a     
  ! Dancer2::Plugin::LogReport                                   0    broken  
  ! Dancer2::Plugin::Map::Tube                                   0    n/a     
  ! Dancer2::Plugin::MarkdownFilesToHTML                         0    n/a     
  ! Dancer2::Plugin::Menu                                        0    n/a     
  ! Dancer2::Plugin::Minify                                      0    n/a     
  ! Dancer2::Plugin::Minion                                      0    n/a     
  ! Dancer2::Plugin::MobileDevice                                0    n/a     
  ! Dancer2::Plugin::Model                                       0    n/a     
  ! Dancer2::Plugin::Multilang                                   0    n/a     
  ! Dancer2::Plugin::Negotiate                                   0    n/a     
  ! Dancer2::Plugin::OAuth2::Server                              0    n/a     
  ! Dancer2::Plugin::OpenAPIRoutes                               0    n/a     
  ! Dancer2::Plugin::PageHistory                                 0    n/a     
  ! Dancer2::Plugin::Paginator                                   0    n/a     
  ! Dancer2::Plugin::ParamTypes                                  0    n/a     
  ! Dancer2::Plugin::Passphrase                                  0    n/a     
  ! Dancer2::Plugin::Path::Class                                 0    n/a     
  ! Dancer2::Plugin::Pg                                          0    n/a     
  ! Dancer2::Plugin::ProbabilityRoute                            0    n/a     
  ! Dancer2::Plugin::ProgressStatus                              0    n/a     
  ! Dancer2::Plugin::PrometheusTiny                              0    n/a     
  ! Dancer2::Plugin::Queue                                       0    n/a     
  ! Dancer2::Plugin::Queue::IronMQ                               0    n/a     
  ! Dancer2::Plugin::Queue::MongoDB                              0    n/a     
  ! Dancer2::Plugin::reCAPTCHA                                   0    n/a     
  ! Dancer2::Plugin::Redis                                       0    n/a     
  ! Dancer2::Plugin::Res                                         0    n/a     
  ! Dancer2::Plugin::REST                                        0    n/a     
  ! Dancer2::Plugin::RootURIFor                                  0    n/a     
  ! Dancer2::Plugin::RoutePodCoverage                            0    n/a     
  ! Dancer2::Plugin::Routing                                     0    n/a     
  ! Dancer2::Plugin::RPC                                         0    n/a     
  ! Dancer2::Plugin::RPC::RESTISH                                0    n/a     
  ! Dancer2::Plugin::SessionDatabase                             0    n/a     
  ! Dancer2::Plugin::Shutdown                                    0    n/a     
  ! Dancer2::Plugin::Shutdown::Redis                             0    n/a     
  ! Dancer2::Plugin::Sixpack                                     0    n/a     
  ! Dancer2::Plugin::SPID                                        0    n/a     
  ! Dancer2::Plugin::Syntax::GetPost                             0    n/a     
  ! Dancer2::Plugin::Syntax::ParamKeywords                       0    n/a     
  ! Dancer2::Plugin::SyntaxHighlight::Perl                       0    n/a     
  ! Dancer2::Plugin::Tail                                        0    n/a     
  ! Dancer2::Plugin::TemplateFlute                               0    n/a     
  ! Dancer2::Plugin::UnicodeNormalize                            0    n/a     
  ! Dancer2::Plugin::ViewCache                                   0    n/a     
  ! Dancer2::Plugin::WebService                                  0    n/a     
  ! Dancer2::Plugin::WebSocket                                   0    n/a     
  ! Dancer2::Serializer::CBOR                                    0    n/a     
  ! Dancer2::Serializer::XML                                     0    n/a     
  ! Dancer2::Session::CGISession                                 0    n/a     
  ! Dancer2::Session::CHI                                        0    n/a     
  ! Dancer2::Session::Cookie                                     0    n/a     
  ! Dancer2::Session::DatabasePlugin                             0    n/a     
  ! Dancer2::Session::DBIC                                       0    n/a     
  ! Dancer2::Session::JSON                                       0    n/a     
  ! Dancer2::Session::Memcached                                  0    n/a     
  ! Dancer2::Session::MongoDB                                    0    n/a     
  ! Dancer2::Session::PSGI                                       0    n/a     
  ! Dancer2::Session::Redis                                      0    n/a     
  ! Dancer2::Session::Sereal                                     0    n/a     
  ! Dancer2::Template::Caribou                                   0    n/a     
  ! Dancer2::Template::Haml                                      0    n/a     
  ! Dancer2::Template::Handlebars                                0    n/a     
  ! Dancer2::Template::HTCompiled                                0    n/a     
  ! Dancer2::Template::Mason2                                    0    n/a     
  ! Dancer2::Template::MojoTemplate                              0    n/a     
  ! Dancer2::Template::Mustache                                  0    n/a     
  ! Dancer2::Template::Obj2HTML                                  0    n/a     
  ! Dancer2::Template::TemplateFlute                             0    n/a     
  ! Dancer2::Template::TextTemplate                              0    n/a     
  ! Dancer2::Template::Xslate                                    0    n/a     

build_requires:

    Module                                                       Need Have    
    ------------------------------------------------------------ ---- --------
    ExtUtils::MakeMaker                                          6.36 7.70    


------------------------------
ENVIRONMENT AND OTHER CONTEXT
------------------------------

Environment variables:

    AUTOMATED_TESTING = 1
    LANG = en_US.UTF-8
    PATH = /home/sand/bin:/usr/local/bin:/usr/local/sbin:/usr/sbin:/usr/bin:/sbin:/bin:/usr/games:/usr/local/games:/snap/bin:/usr/local/perl/bin:/usr/X11/bin
    PERL = /tmp/basesmoker-reloperl-xWzm/bin/perl
    PERL5LIB = /tmp/loop_over_bdir-3637663-2w1ufZ/dta-tokwrap-0.98-0/blib/arch:/tmp/loop_over_bdir-3637663-2w1ufZ/dta-tokwrap-0.98-0/blib/lib:/tmp/loop_over_bdir-3637663-2w1ufZ/Lingua-YaTeA-0.626-0/blib/arch:/tmp/loop_over_bdir-3637663-2w1ufZ/Lingua-YaTeA-0.626-0/blib/lib:/tmp/loop_over_bdir-3637663-2w1ufZ/Devel-Required-0.16-0/blib/arch:/tmp/loop_over_bdir-3637663-2w1ufZ/Devel-Required-0.16-0/blib/lib:/tmp/loop_over_bdir-3637663-2w1ufZ/App-oo_modulino_zsh_completion_helper-0.04-0/blib/arch:/tmp/loop_over_bdir-3637663-2w1ufZ/App-oo_modulino_zsh_completion_helper-0.04-0/blib/lib:/tmp/loop_over_bdir-3637663-2w1ufZ/LiquidWeb-Storm-CLI-1.03-0/blib/arch:/tmp/loop_over_bdir-3637663-2w1ufZ/LiquidWeb-Storm-CLI-1.03-0/blib/lib:/tmp/loop_over_bdir-3637663-2w1ufZ/Debian-Packages-0.03-0/blib/arch:/tmp/loop_over_bdir-3637663-2w1ufZ/Debian-Packages-0.03-0/blib/lib
    PERL5OPT = 
    PERL5_CPANPLUS_IS_RUNNING = 3637678
    PERL5_CPAN_IS_RUNNING = 3637678
    PERL_CANARY_STABILITY_NOPROMPT = 1
    PERL_MM_USE_DEFAULT = 1
    PERL_USE_UNSAFE_INC = 1
    SHELL = /usr/bin/zsh
    TERM = screen

Perl special variables (and OS-specific diagnostics, for MSWin32):

    $^X = /tmp/basesmoker-reloperl-xWzm/bin/perl
    $UID/$EUID = 1005 / 1005
    $GID = 1005 1005
    $EGID = 1005 1005

Perl module toolchain versions installed:

    Module              Have    
    ------------------- --------
    CPAN                2.36    
    CPAN::Meta          2.150010
    Cwd                 3.89    
    ExtUtils::CBuilder  0.280239
    ExtUtils::Command   7.70    
    ExtUtils::Install   2.22    
    ExtUtils::MakeMaker 7.70    
    ExtUtils::Manifest  1.75    
    ExtUtils::ParseXS   3.51    
    File::Spec          3.88    
    JSON                4.10    
    JSON::PP            4.16    
    Module::Build       0.4234  
    Module::Signature   0.88    
    Parse::CPAN::Meta   2.150010
    Test2               1.302195
    Test::Harness       3.44    
    Test::More          1.302195
    YAML                1.30    
    YAML::Syck          1.34    
    version             0.9929  


--

Summary of my perl5 (revision 5 version 39 subversion 1) configuration:
  Commit id: 8c6729f5e3d051878ec60933bcc19650d2dddb85
  Platform:
    osname=linux
    osvers=5.4.0-153-generic
    archname=x86_64-linux-thread-multi
    uname='linux k93focal 5.4.0-153-generic #170-ubuntu smp fri jun 16 13:43:31 utc 2023 x86_64 x86_64 x86_64 gnulinux '
    config_args='-Dprefix=/home/sand/src/perl/repoperls/installed-perls/host/k93focal/v5.39.1/d119 -Dmyhostname=k93focal -Dinstallusrbinperl=n -Uversiononly -Dusedevel -des -Ui_db -Dlibswanted=cl pthread socket inet nsl gdbm dbm malloc dl ld sun m crypt sec util c cposix posix ucb BSD gdbm_compat -Duseithreads -Uuselongdouble -DEBUGGING=both'
    hint=recommended
    useposix=true
    d_sigaction=define
    useithreads=define
    usemultiplicity=define
    use64bitint=define
    use64bitall=define
    uselongdouble=undef
    usemymalloc=n
    default_inc_excludes_dot=define
  Compiler:
    cc='cc'
    ccflags ='-D_REENTRANT -D_GNU_SOURCE -fwrapv -DDEBUGGING -fno-strict-aliasing -pipe -fstack-protector-strong -I/usr/local/include -D_LARGEFILE_SOURCE -D_FILE_OFFSET_BITS=64'
    optimize='-O2 -g'
    cppflags='-D_REENTRANT -D_GNU_SOURCE -fwrapv -DDEBUGGING -fno-strict-aliasing -pipe -fstack-protector-strong -I/usr/local/include'
    ccversion=''
    gccversion='9.4.0'
    gccosandvers=''
    intsize=4
    longsize=8
    ptrsize=8
    doublesize=8
    byteorder=12345678
    doublekind=3
    d_longlong=define
    longlongsize=8
    d_longdbl=define
    longdblsize=16
    longdblkind=3
    ivtype='long'
    ivsize=8
    nvtype='double'
    nvsize=8
    Off_t='off_t'
    lseeksize=8
    alignbytes=8
    prototype=define
  Linker and Libraries:
    ld='cc'
    ldflags =' -fstack-protector-strong -L/usr/local/lib'
    libpth=/usr/local/lib /usr/lib/x86_64-linux-gnu /usr/lib /usr/lib64
    libs=-lpthread -lnsl -ldl -lm -lcrypt -lutil -lc
    perllibs=-lpthread -lnsl -ldl -lm -lcrypt -lutil -lc
    libc=libc-2.31.so
    so=so
    useshrplib=false
    libperl=libperl.a
    gnulibc_version='2.31'
  Dynamic Linking:
    dlsrc=dl_dlopen.xs
    dlext=so
    d_dlsymun=undef
    ccdlflags='-Wl,-E'
    cccdlflags='-fPIC'
    lddlflags='-shared -O2 -g -L/usr/local/lib -fstack-protector-strong'


Characteristics of this binary (from libperl): 
  Compile-time options:
    DEBUGGING
    HAS_LONG_DOUBLE
    HAS_STRTOLD
    HAS_TIMES
    MULTIPLICITY
    PERLIO_LAYERS
    PERL_COPY_ON_WRITE
    PERL_DONT_CREATE_GVSV
    PERL_HASH_FUNC_SIPHASH13
    PERL_HASH_USE_SBOX32
    PERL_MALLOC_WRAP
    PERL_OP_PARENT
    PERL_PRESERVE_IVUV
    PERL_TRACK_MEMPOOL
    PERL_USE_DEVEL
    PERL_USE_SAFE_PUTENV
    USE_64_BIT_ALL
    USE_64_BIT_INT
    USE_ITHREADS
    USE_LARGE_FILES
    USE_LOCALE
    USE_LOCALE_COLLATE
    USE_LOCALE_CTYPE
    USE_LOCALE_NUMERIC
    USE_LOCALE_TIME
    USE_PERLIO
    USE_PERL_ATOF
    USE_REENTRANT_API
    USE_THREAD_SAFE_LOCALE
  Built under linux
  Compiled at Jul 30 2023 11:06:21
  %ENV:
    PERL="/tmp/basesmoker-reloperl-xWzm/bin/perl"
    PERL5LIB="/tmp/loop_over_bdir-3637663-2w1ufZ/dta-tokwrap-0.98-0/blib/arch:/tmp/loop_over_bdir-3637663-2w1ufZ/dta-tokwrap-0.98-0/blib/lib:/tmp/loop_over_bdir-3637663-2w1ufZ/Lingua-YaTeA-0.626-0/blib/arch:/tmp/loop_over_bdir-3637663-2w1ufZ/Lingua-YaTeA-0.626-0/blib/lib:/tmp/loop_over_bdir-3637663-2w1ufZ/Devel-Required-0.16-0/blib/arch:/tmp/loop_over_bdir-3637663-2w1ufZ/Devel-Required-0.16-0/blib/lib:/tmp/loop_over_bdir-3637663-2w1ufZ/App-oo_modulino_zsh_completion_helper-0.04-0/blib/arch:/tmp/loop_over_bdir-3637663-2w1ufZ/App-oo_modulino_zsh_completion_helper-0.04-0/blib/lib:/tmp/loop_over_bdir-3637663-2w1ufZ/LiquidWeb-Storm-CLI-1.03-0/blib/arch:/tmp/loop_over_bdir-3637663-2w1ufZ/LiquidWeb-Storm-CLI-1.03-0/blib/lib:/tmp/loop_over_bdir-3637663-2w1ufZ/Debian-Packages-0.03-0/blib/arch:/tmp/loop_over_bdir-3637663-2w1ufZ/Debian-Packages-0.03-0/blib/lib"
    PERL5OPT=""
    PERL5_CPANPLUS_IS_RUNNING="3637678"
    PERL5_CPAN_IS_RUNNING="3637678"
    PERL_CANARY_STABILITY_NOPROMPT="1"
    PERL_MM_USE_DEFAULT="1"
    PERL_USE_UNSAFE_INC="1"
  @INC:
    /tmp/loop_over_bdir-3637663-2w1ufZ/dta-tokwrap-0.98-0/blib/arch
    /tmp/loop_over_bdir-3637663-2w1ufZ/dta-tokwrap-0.98-0/blib/lib
    /tmp/loop_over_bdir-3637663-2w1ufZ/Lingua-YaTeA-0.626-0/blib/arch
    /tmp/loop_over_bdir-3637663-2w1ufZ/Lingua-YaTeA-0.626-0/blib/lib
    /tmp/loop_over_bdir-3637663-2w1ufZ/Devel-Required-0.16-0/blib/arch
    /tmp/loop_over_bdir-3637663-2w1ufZ/Devel-Required-0.16-0/blib/lib
    /tmp/loop_over_bdir-3637663-2w1ufZ/App-oo_modulino_zsh_completion_helper-0.04-0/blib/arch
    /tmp/loop_over_bdir-3637663-2w1ufZ/App-oo_modulino_zsh_completion_helper-0.04-0/blib/lib
    /tmp/loop_over_bdir-3637663-2w1ufZ/LiquidWeb-Storm-CLI-1.03-0/blib/arch
    /tmp/loop_over_bdir-3637663-2w1ufZ/LiquidWeb-Storm-CLI-1.03-0/blib/lib
    /tmp/loop_over_bdir-3637663-2w1ufZ/Debian-Packages-0.03-0/blib/arch
    /tmp/loop_over_bdir-3637663-2w1ufZ/Debian-Packages-0.03-0/blib/lib
    /home/sand/src/perl/repoperls/installed-perls/host/k93focal/v5.39.1/d119/lib/site_perl/5.39.1/x86_64-linux-thread-multi
    /home/sand/src/perl/repoperls/installed-perls/host/k93focal/v5.39.1/d119/lib/site_perl/5.39.1
    /home/sand/src/perl/repoperls/installed-perls/host/k93focal/v5.39.1/d119/lib/5.39.1/x86_64-linux-thread-multi
    /home/sand/src/perl/repoperls/installed-perls/host/k93focal/v5.39.1/d119/lib/5.39.1
    .