Data-Session v1.18 Perl 5 v5.41.11 amd64-midnightbsd-thread-multi

Status
Pass
From
Carlos Guevara
Dist
Data-Session v1.18
Platform
Perl 5 v5.41.11 amd64-midnightbsd-thread-multi
Date
2025-04-06 15:54:00
ID
5b35c24e-12ff-11f0-9c5e-c58dc991062c
This distribution has been tested as part of the CPAN Testers
project, supporting the Perl programming language.  See
http://wiki.cpantesters.org/ for more information or email
questions to cpan-testers-discuss@perl.org


--
Dear Ron Savage,

This is a computer-generated report for Data-Session-1.18
on perl 5.41.11, created by CPAN-Reporter-1.2020.

Thank you for uploading your work to CPAN.  Congratulations!
All tests were successful.

Sections of this report:

    * Tester comments
    * Program output
    * Prerequisites
    * Environment and other context

------------------------------
TESTER COMMENTS
------------------------------

Additional comments from tester:

this report is from an automated smoke testing program
and was not reviewed by a human for accuracy

------------------------------
PROGRAM OUTPUT
------------------------------

Output from '/usr/bin/make test':

PERL_DL_NONLAZY=1 "/usr/home/cpan/bin/perl/bin/perl5.41.11" "-MExtUtils::Command::MM" "-MTest::Harness" "-e" "undef *Test::Harness::Switches; test_harness(0, 'blib/lib', 'blib/arch')" t/*.t
# Testing Data::Session V 1.18
# Using autovivification V 0.18
# Using CGI V 4.68
# Using Class::Load V 0.25
# Using Config::Tiny V 2.30
# Using Data::Dumper V 2.192
# Using Data::UUID V 1.227
# Using DBD::SQLite V 1.76
# Using DBI V 1.647
# Using DBIx::Admin::CreateTable V 2.11
# Using Digest::MD5 V 2.59
# Using Digest::SHA V 6.04
# Using Fcntl V 1.19
# Using File::Basename V 2.86
# Using File::Path V 2.18
# Using File::Slurper V 0.014
# Using File::Spec V 3.94
# Using File::Temp V 0.2311
# Using FreezeThaw V 0.5001
# Using Hash::FieldHash V 0.15
# Using JSON V 4.10
# Using overload V 1.40
# Using parent V 0.244
# Using Safe V 2.47
# Using Scalar::Util V 1.6801
# Using Storable V 3.37
# Using strict V 1.13
# Using Try::Tiny V 0.32
# Using vars V 1.05
# Using warnings V 1.74
# Using YAML::Tiny V 1.76
t/00.versions.t .. ok
# Test: File.1. DSN: dbi:File:. ID generator: AutoIncrement. Serializer: DataDumper
# id 1: 1002
# Test: File.1. DSN: dbi:File:. ID generator: AutoIncrement. Serializer: FreezeThaw
# id 1: 1008
# Test: File.1. DSN: dbi:File:. ID generator: AutoIncrement. Serializer: JSON
# id 1: 1014
# Test: File.1. DSN: dbi:File:. ID generator: AutoIncrement. Serializer: Storable
# id 1: 1020
# Test: File.1. DSN: dbi:File:. ID generator: AutoIncrement. Serializer: YAML
# id 1: 1026
# Test: File.1. DSN: dbi:File:. ID generator: MD5. Serializer: DataDumper
# id 1: bff269ce8e0f7960701423b0a1de615d
# Test: File.1. DSN: dbi:File:. ID generator: MD5. Serializer: FreezeThaw
# id 1: 984eea824161692097dd0c543db1050d
# Test: File.1. DSN: dbi:File:. ID generator: MD5. Serializer: JSON
# id 1: a279cd61b5b8c74b3f976fb822dfa9c4
# Test: File.1. DSN: dbi:File:. ID generator: MD5. Serializer: Storable
# id 1: 2d48db1927339b782ec544588010ecda
# Test: File.1. DSN: dbi:File:. ID generator: MD5. Serializer: YAML
# id 1: 7d7cc635672e544aac8186be14da6ab7
# Test: File.1. DSN: dbi:File:. ID generator: SHA1. Serializer: DataDumper
# id 1: 076077a668eb61989a907dd079840a2d10a555fd
# Test: File.1. DSN: dbi:File:. ID generator: SHA1. Serializer: FreezeThaw
# id 1: 7c0c559ecc1c1bb220701451d4d91ac1ef21b8ac
# Test: File.1. DSN: dbi:File:. ID generator: SHA1. Serializer: JSON
# id 1: fd1e742a6f986fafc7512104a55f918afefb0496
# Test: File.1. DSN: dbi:File:. ID generator: SHA1. Serializer: Storable
# id 1: cb68f06ab71afda01fd2cfe71edd6b880f7d64aa
# Test: File.1. DSN: dbi:File:. ID generator: SHA1. Serializer: YAML
# id 1: be94fc54bf3ab0f1d7e837fbd03595f7bbaeb2ba
# Test: File.1. DSN: dbi:File:. ID generator: SHA256. Serializer: DataDumper
# id 1: 523c33becf68f592745eebc9bfaa0ff204b7b4729189589a50fc432991bc1c59
# Test: File.1. DSN: dbi:File:. ID generator: SHA256. Serializer: FreezeThaw
# id 1: 09a68d8811132fba87bf3efb886bf53d8e74fee2e715b20278b9cf25be9f16e3
# Test: File.1. DSN: dbi:File:. ID generator: SHA256. Serializer: JSON
# id 1: c4e76359ae24b6dc6962ad2a3cfb7c2c45e1041228b0a5ac1038f31f6c4474b9
# Test: File.1. DSN: dbi:File:. ID generator: SHA256. Serializer: Storable
# id 1: 1246f5a44e22464932ed9afbf487b0a2c562c822601a15eb957110f15b2e43c6
# Test: File.1. DSN: dbi:File:. ID generator: SHA256. Serializer: YAML
# id 1: a9f5c8db507a0519f326af064ff83b85681d12012033e908edb9d2e74163175b
# Test: File.1. DSN: dbi:File:. ID generator: SHA512. Serializer: DataDumper
# id 1: 81ed61387a75dd968c22c3e38a8447642dd1f582b226dbaff1e5a83a6119ed2ab0fcf61c60c359539a4dcf9d2582bf6bf80a3f076078594330d394adb40dfaaa
# Test: File.1. DSN: dbi:File:. ID generator: SHA512. Serializer: FreezeThaw
# id 1: fd716dcf6b0abcffbbe22e2aff1477b347973bc95cfa6601b8499fd52c873320468b72159ddb85d1e08b6ce69093b936490e5b66f3bf221214dfcc258fbe803b
# Test: File.1. DSN: dbi:File:. ID generator: SHA512. Serializer: JSON
# id 1: ffcbb1bf85a9a0221fe7b1c52a084e46573227e48967b71a466a48ba36d5fcf74dacfc1a33d5b44c6fa552a24b2e9fc3ed4633422bbda3593fb7f25c9190ea3d
# Test: File.1. DSN: dbi:File:. ID generator: SHA512. Serializer: Storable
# id 1: 9887bac1f917d3dbdf477a816f249d567d1206ba8024d37a3ce5afdcf20429288868913e3892a8024d7516dc86ca6971ae5ad8c11d3304bcabd7508277d8e6ca
# Test: File.1. DSN: dbi:File:. ID generator: SHA512. Serializer: YAML
# id 1: dfce1ed2dfa3ec9c167162b630f403914d62ec22c6ad9c6bf747b69c0a7d001c46911ca4212ad8d3f1295736bd7f38f75c917be2f6397255e43e764fc6752f51
# Test: File.1. DSN: dbi:File:. ID generator: Static. Serializer: DataDumper
# id 1: 1234
# Test: File.1. DSN: dbi:File:. ID generator: Static. Serializer: FreezeThaw
# id 1: 1234
# Test: File.1. DSN: dbi:File:. ID generator: Static. Serializer: JSON
# id 1: 1234
# Test: File.1. DSN: dbi:File:. ID generator: Static. Serializer: Storable
# id 1: 1234
# Test: File.1. DSN: dbi:File:. ID generator: Static. Serializer: YAML
# id 1: 1234
# Test: File.1. DSN: dbi:File:. ID generator: UUID34. Serializer: DataDumper
# id 1: 0x570C703C12FF11F0A659EFED566C0F41
# Test: File.1. DSN: dbi:File:. ID generator: UUID34. Serializer: FreezeThaw
# id 1: 0x570D6A9612FF11F08356BB9FD005649A
# Test: File.1. DSN: dbi:File:. ID generator: UUID34. Serializer: JSON
# id 1: 0x570E21AC12FF11F08352C55BC6861CDF
# Test: File.1. DSN: dbi:File:. ID generator: UUID34. Serializer: Storable
# id 1: 0x570EEB1E12FF11F0AACBEC133715C8B4
# Test: File.1. DSN: dbi:File:. ID generator: UUID34. Serializer: YAML
# id 1: 0x570F946012FF11F09592BBEE427E8D6F
# Test: File.1. DSN: dbi:File:. ID generator: UUID36. Serializer: DataDumper
# id 1: 5710577E-12FF-11F0-8769-D02BB4031CD4
# Test: File.1. DSN: dbi:File:. ID generator: UUID36. Serializer: FreezeThaw
# id 1: 57113B8A-12FF-11F0-B775-E10411C3BCB6
# Test: File.1. DSN: dbi:File:. ID generator: UUID36. Serializer: JSON
# id 1: 5711E97C-12FF-11F0-8A93-C3C75AAA13A1
# Test: File.1. DSN: dbi:File:. ID generator: UUID36. Serializer: Storable
# id 1: 57128DBE-12FF-11F0-8F8D-A55CAE925BF3
# Test: File.1. DSN: dbi:File:. ID generator: UUID36. Serializer: YAML
# id 1: 57132E68-12FF-11F0-BD1C-E6444E0F9E41
# Skipping dsn 'dbi:SQLite:dbname=/tmp/sessions.sqlite' because the SQLite directory does not exist
# 
# Testing HTTP header generation
# 
# Testing expire the session. Sleeping for 1 second ...
# Expiring id: 571409C8-12FF-11F0-854D-9EA270E3FB17
# 
# Testing expire a session parameter. Sleeping for 1 second ...
t/basic.t ........ ok
# DSN name: File.1. DSN: dbi:File:. ID generator: MD5. Serializer: DataDumper
# id1: b40780d3204c66095767a631925d1f82
# 1: Recovered known id e77c1a18f81b1f796470437289080574 from traverse
# 2: Recovered known id 12d4e918ad082ace4e2fc05340f3e10d from traverse
# 3: Recovered known id 8aed33fd75e5a981b9b8ed1e142adf07 from traverse
# 4: Recovered known id 66db01093f585747cb0b333f0f00a04b from traverse
# Skipping dsn 'dbi:SQLite:dbname=/tmp/sessions.sqlite' because the SQLite directory does not exist
t/traverse.t ..... ok
All tests successful.
Files=3, Tests=52,  6 wallclock secs ( 0.02 usr  0.01 sys +  0.51 cusr  0.11 csys =  0.65 CPU)
Result: PASS

------------------------------
PREREQUISITES
------------------------------

Prerequisite modules loaded:

requires:

    Module                   Need     Have    
    ------------------------ -------- --------
    autovivification         0        0.18    
    CGI                      3.63     4.68    
    Class::Load              0.19     0.25    
    Config::Tiny             2.14     2.30    
    Data::Dumper             2.145    2.192   
    Data::UUID               1.218    1.227   
    DBD::SQLite              1.39     1.76    
    DBI                      1.627    1.647   
    DBIx::Admin::CreateTable 2.07     2.11    
    Digest::MD5              2.52     2.59    
    Digest::SHA              5.84     6.04    
    Fcntl                    1.06     1.19    
    File::Basename           2.77     2.86    
    File::Path               2.07     2.18    
    File::Slurper            0.012    0.014   
    File::Spec               3.3      3.94    
    File::Temp               0.22     0.2311  
    FreezeThaw               0.5001   0.5001  
    Hash::FieldHash          0.14     0.15    
    JSON                     2.59     4.10    
    overload                 0        1.40    
    parent                   0        0.244   
    Safe                     2.35     2.47    
    Scalar::Util             1.27     1.68_01 
    Storable                 2.39     3.37    
    strict                   0        1.13    
    Try::Tiny                0.12     0.32    
    vars                     0        1.05    
    warnings                 0        1.74    
    YAML::Tiny               1.51     1.76    

build_requires:

    Module                   Need     Have    
    ------------------------ -------- --------
    ExtUtils::MakeMaker      0        7.72    
    Test::More               1.001014 1.302210
    Test::Pod                1.48     1.52    

configure_requires:

    Module                   Need     Have    
    ------------------------ -------- --------
    ExtUtils::MakeMaker      0        7.72    


------------------------------
ENVIRONMENT AND OTHER CONTEXT
------------------------------

Environment variables:

    AUTOMATED_TESTING = 1
    DATE_MANIP_TEST_DM5 = 1
    LC_ALL = C
    NONINTERACTIVE_TESTING = 1
    NO_NETWORK_TESTING = 1
    PATH = /home/cpan/bin/perl/bin:/home/cpan/bin:/sbin:/bin:/usr/sbin:/usr/bin:/usr/games:/usr/local/sbin:/usr/local/bin:/home/cpan/bin
    PERL5LIB = 
    PERL5OPT = 
    PERL5_CPANPLUS_IS_RUNNING = 71627
    PERL5_CPAN_IS_RUNNING = 71627
    PERL_MM_USE_DEFAULT = 1
    PERL_USE_UNSAFE_INC = 1
    SHELL = /usr/local/bin/bash
    TERM = screen
    TMPDIR = /home/cpan/tmp

Perl special variables (and OS-specific diagnostics, for MSWin32):

    $^X = /usr/home/cpan/bin/perl/bin/perl5.41.11
    $UID/$EUID = 1002 / 1002
    $GID = 1002 1002
    $EGID = 1002 1002

Perl module toolchain versions installed:

    Module              Have    
    ------------------- --------
    CPAN                2.38    
    CPAN::Meta          2.150010
    Cwd                 3.94    
    ExtUtils::CBuilder  0.280240
    ExtUtils::Command   7.72    
    ExtUtils::Install   2.22    
    ExtUtils::MakeMaker 7.72    
    ExtUtils::Manifest  1.75    
    ExtUtils::ParseXS   3.57    
    File::Spec          3.94    
    JSON                4.10    
    JSON::PP            4.16    
    Module::Build       0.4234  
    Module::Signature   n/a     
    Parse::CPAN::Meta   2.150010
    Test2               1.302210
    Test::Harness       3.50    
    Test::More          1.302210
    YAML                1.31    
    YAML::Syck          1.34    
    version             0.9933  


--

Summary of my perl5 (revision 5 version 41 subversion 11) configuration:
  Commit id: aed235e3259a92e37aea06ad8802a5f18abfc2f6
  Platform:
    osname=midnightbsd
    osvers=3.2.1
    archname=amd64-midnightbsd-thread-multi
    uname='midnightbsd cjg-midnightbsd3 3.2.1 midnightbsd 3.2.1 #15n13132-0869ed7092(stable3.2)-dirty: wed nov 6 12:53:25 est 2024 root@m3264:usrobjusrsrcamd64.amd64sysgeneric amd64 '
    config_args='-des -Dprefix=/home/cpan/bin/perl -Dscriptdir=/home/cpan/bin/perl/bin -Dusedevel -Duse64bitall -Duseithreads'
    hint=recommended
    useposix=true
    d_sigaction=define
    useithreads=define
    usemultiplicity=define
    use64bitint=define
    use64bitall=define
    uselongdouble=undef
    usemymalloc=n
    default_inc_excludes_dot=define
  Compiler:
    cc='cc'
    ccflags ='-DHAS_FPSETMASK -DHAS_FLOATINGPOINT_H -fno-strict-aliasing -pipe -fstack-protector-strong -I/usr/local/include'
    optimize='-O'
    cppflags='-DHAS_FPSETMASK -DHAS_FLOATINGPOINT_H -fno-strict-aliasing -pipe -fstack-protector-strong -I/usr/local/include'
    ccversion=''
    gccversion='MidnightBSD Clang 13.0.0 (git@github.com:llvm/llvm-project.git llvmorg-13.0.0-0-gd7b669b3a303)'
    gccosandvers=''
    intsize=4
    longsize=8
    ptrsize=8
    doublesize=8
    byteorder=12345678
    doublekind=3
    d_longlong=define
    longlongsize=8
    d_longdbl=define
    longdblsize=16
    longdblkind=3
    ivtype='long'
    ivsize=8
    nvtype='double'
    nvsize=8
    Off_t='off_t'
    lseeksize=8
    alignbytes=8
    prototype=define
  Linker and Libraries:
    ld='cc'
    ldflags ='-pthread -Wl,-E  -fstack-protector-strong -L/usr/local/lib'
    libpth=/usr/lib /usr/local/lib /usr/lib/clang/13.0.0/lib
    libs=-lpthread -lgdbm -ldl -lm -lcrypt
    perllibs=-lpthread -ldl -lm -lcrypt
    libc=
    so=so
    useshrplib=false
    libperl=libperl.a
    gnulibc_version=''
  Dynamic Linking:
    dlsrc=dl_dlopen.xs
    dlext=so
    d_dlsymun=undef
    ccdlflags=' '
    cccdlflags='-DPIC -fPIC'
    lddlflags='-shared  -L/usr/local/lib -fstack-protector-strong'


Characteristics of this binary (from libperl): 
  Compile-time options:
    HAS_LONG_DOUBLE
    HAS_STRTOLD
    HAS_TIMES
    MULTIPLICITY
    PERLIO_LAYERS
    PERL_COPY_ON_WRITE
    PERL_DONT_CREATE_GVSV
    PERL_HASH_FUNC_SIPHASH13
    PERL_HASH_USE_SBOX32
    PERL_MALLOC_WRAP
    PERL_OP_PARENT
    PERL_PRESERVE_IVUV
    PERL_USE_DEVEL
    PERL_USE_SAFE_PUTENV
    USE_64_BIT_ALL
    USE_64_BIT_INT
    USE_ITHREADS
    USE_LARGE_FILES
    USE_LOCALE
    USE_LOCALE_COLLATE
    USE_LOCALE_CTYPE
    USE_LOCALE_NUMERIC
    USE_LOCALE_TIME
    USE_PERLIO
    USE_PERL_ATOF
    USE_REENTRANT_API
    USE_THREAD_SAFE_LOCALE
  Built under midnightbsd
  Compiled at Apr  6 2025 07:55:46
  %ENV:
    PERL5LIB=""
    PERL5OPT=""
    PERL5_CPANPLUS_IS_RUNNING="71627"
    PERL5_CPAN_IS_RUNNING="71627"
    PERL_MM_USE_DEFAULT="1"
    PERL_USE_UNSAFE_INC="1"
  @INC:
    /home/cpan/bin/perl/lib/site_perl/5.41.11/amd64-midnightbsd-thread-multi
    /home/cpan/bin/perl/lib/site_perl/5.41.11
    /home/cpan/bin/perl/lib/5.41.11/amd64-midnightbsd-thread-multi
    /home/cpan/bin/perl/lib/5.41.11
    .