Report for CGI-Application-Plugin-Authentication-0.21

Back
From: metabase:user:30f4dfbe-2aae-11df-837a-5e0a49663a4f
Subject: PASS CGI-Application-Plugin-Authentication-0.21 v5.10.0 Mac OS X
Date: 2017-03-17T19:38:54Z

This distribution has been tested as part of the CPAN Testers
project, supporting the Perl programming language.  See
http://wiki.cpantesters.org/ for more information or email
questions to cpan-testers-discuss@perl.org


--
Dear Wes Malone,

This is a computer-generated report for CGI-Application-Plugin-Authentication-0.21
on perl 5.10.0, created by CPAN-Reporter-1.2018.

Thank you for uploading your work to CPAN.  Congratulations!
All tests were successful.

Sections of this report:

    * Tester comments
    * Program output
    * Prerequisites
    * Environment and other context

------------------------------
TESTER COMMENTS
------------------------------

Additional comments from tester:

this report is from an automated smoke testing program
and was not reviewed by a human for accuracy

------------------------------
PROGRAM OUTPUT
------------------------------

Output from '/sw/bin/make test':

PERL_DL_NONLAZY=1 "/Users/hornenj/perl5/perlbrew/perls/perl-5.10.0/bin/perl" "-MExtUtils::Command::MM" "-MTest::Harness" "-e" "undef *Test::Harness::Switches; test_harness(0, 'blib/lib', 'blib/arch')" t/*.t
t/01_basic.t ........................ ok
t/02_config.t ....................... ok
t/03_authenticate.t ................. skipped: CGI::Application::Plugin::Session required for this test
t/03_destination.t .................. ok
# Color::Calc required for this sub test
# Color::Calc required for this sub test
# Color::Calc required for this sub test
# Color::Calc required for this sub test
t/03_login_box.t .................... ok
t/03_login_box_basic.t .............. ok
# Color::Calc required
t/03_login_box_other.t .............. skipped: Color::Calc required
t/03_missing_color.t ................ ok
t/04_attributes.t ................... ok
t/05_autorunmode.t .................. skipped: CGI::Application::Plugin::AutoRunmode required for this test
# The following tests have some small time delays
t/06_timeout.t ...................... ok
t/07_protected_runmodes.t ........... ok
t/40_encoder_crypt.t ................ ok
t/40_encoder_lc.t ................... ok
t/40_encoder_md5.t .................. ok
t/40_encoder_sha1.t ................. ok
t/40_encoder_strip.t ................ ok
t/40_encoder_uc.t ................... ok
t/50_driver_missing_modules.t ....... ok
t/50_driver_undefined.t ............. ok
t/51_driver_dummy.t ................. ok
t/52_driver_generic.t ............... ok
t/53_driver_dbi.t ................... ok
t/53_driver_dbi_bad.t ............... ok
t/53_driver_dbi_die.t ............... ok
t/53_driver_dbi_syntax.t ............ ok
t/54_driver_htpasswd.t .............. skipped: Apache::Htpasswd >= 1.8 required for this test
t/55_driver_authensimple.t .......... skipped: Authen::Simple required for this test
t/55_driver_authensimple_die.t ...... ok
t/55_driver_missing_authensimple.t .. ok
t/60_parsimony.t .................... skipped: CGI::Application::Plugin::Session etc required for this test
t/60_store.t ........................ ok
t/60_store_cookie.t ................. ok
t/60_store_session.t ................ skipped: CGI::Application::Plugin::Session required for this test
t/61_cookie_badargs.t ............... ok
t/61_store_cookie_noexpiry.t ........ ok
t/61_store_cookie_other.t ........... ok
t/70_action_dispatch.t .............. skipped: CGI::Application::Plugin::ActionDispatch required
t/80_devpopup.t ..................... skipped: CGI::Application::Plugin::DevPopup required
t/98_pod.t .......................... skipped: Author test.  Set $ENV{TEST_AUTHOR} to a true value to run.
t/99_pod_coverage.t ................. skipped: Author test.  Set $ENV{TEST_AUTHOR} to a true value to run.
t/author-pod-syntax.t ............... skipped: these tests are for testing by the author
t/changes.t ......................... skipped: Author test.  Set $ENV{TEST_AUTHOR} to a true value to run.
t/manifest.t ........................ skipped: Author test.  Set $ENV{TEST_AUTHOR} to a true value to run.
t/podspell.t ........................ skipped: Author test.  Set $ENV{TEST_AUTHOR} to a true value to run.
t/prereq.t .......................... skipped: Author test.  Set $ENV{TEST_PREREQ} to a true value to run.
t/release-changes_has_content.t ..... skipped: these tests are for release candidate testing
All tests successful.
Files=47, Tests=484,  6 wallclock secs ( 0.11 usr  0.07 sys +  1.81 cusr  0.32 csys =  2.31 CPU)
Result: PASS

------------------------------
PREREQUISITES
------------------------------

Prerequisite modules loaded:

requires:

    Module                Need     Have      
    --------------------- -------- ----------
    Attribute::Handlers   0        0.99      
    CGI                   3.16     4.32      
    CGI::Application      4        4.50      
    Class::ISA            0        0.36      
    Digest::SHA           0        5.96      
    MIME::Base64          0        3.15      
    perl                  5.008    5.010000  
    Scalar::Util          0        1.45      
    UNIVERSAL::require    0        0.18      

build_requires:

    Module                Need     Have      
    --------------------- -------- ----------
    ExtUtils::MakeMaker   0        7.24      
    Readonly              0        2.05      
    Test::Exception       0        0.43      
    Test::MockObject      0        1.20161202
    Test::More            1.302015 1.302075  
    Test::NoWarnings      0        1.04      
    Test::Regression      0        0.08      
    Test::Taint           0        1.06      
    Test::Warn            0.11     0.32      
    Test::Without::Module 0        0.18      

configure_requires:

    Module                Need     Have      
    --------------------- -------- ----------
    ExtUtils::MakeMaker   0        7.24      


------------------------------
ENVIRONMENT AND OTHER CONTEXT
------------------------------

Environment variables:

    AUTOMATED_TESTING = 1
    LANG = en_US.UTF-8
    LC_ALL = POSIX
    LDFLAGS = 
    PATH = /Users/hornenj/perl5/perlbrew/bin:/Users/hornenj/perl5/perlbrew/perls/perl-5.10.0/bin:/Users/hornenj/perl5/perlbrew/bin:/Users/hornenj/bin:/sw/lib/perl5/ExtUtils:/sw/bin:/am/ncbiapdata/bin:/usr/bin:/bin:/usr/X11R6/bin:/netopt/ncbi_tools/bin:/usr/local/ncbi/blast/bin:/net/traces01.be-md.ncbi.nlm.nih.gov/trace_software/vdb/mac/release/x86_64/bin
    PERL5LIB = /Users/hornenj/.cpan/build/Test-Regression-0.08-6/blib/arch:/Users/hornenj/.cpan/build/Test-Regression-0.08-6/blib/lib:/Users/hornenj/.cpan/build/CGI-Application-4.50-6/blib/arch:/Users/hornenj/.cpan/build/CGI-Application-4.50-6/blib/lib:/Users/hornenj/.cpan/build/HTML-Template-2.95-17/blib/arch:/Users/hornenj/.cpan/build/HTML-Template-2.95-17/blib/lib
    PERL5OPT = 
    PERL5_CPANPLUS_IS_RUNNING = 80968
    PERL5_CPAN_IS_RUNNING = 80968
    PERL5_MINISMOKEBOX = 0.58
    PERLBREW_BASHRC_VERSION = 0.77
    PERLBREW_HOME = /Users/hornenj/.perlbrew
    PERLBREW_LIB = 
    PERLBREW_MANPATH = /Users/hornenj/perl5/perlbrew/perls/perl-5.10.0/man
    PERLBREW_PATH = /Users/hornenj/perl5/perlbrew/bin:/Users/hornenj/perl5/perlbrew/perls/perl-5.10.0/bin
    PERLBREW_PERL = perl-5.10.0
    PERLBREW_ROOT = /Users/hornenj/perl5/perlbrew
    PERLBREW_VERSION = 0.77
    PERL_EXTUTILS_AUTOINSTALL = --defaultdeps
    PERL_LOCAL_LIB_ROOT = 
    PERL_MM_USE_DEFAULT = 1
    SHELL = /bin/bash
    TERM = xterm-256color
    TMPDIR = /var/folders/pz/pd7y1qjs6s3cbk170cw50fjc000c61/T/
    ac_cv_path_INTLTOOL_PERL = /usr/bin/perl

Perl special variables (and OS-specific diagnostics, for MSWin32):

    $^X = /Users/hornenj/perl5/perlbrew/perls/perl-5.10.0/bin/perl
    $UID/$EUID = 12481 / 12481
    $GID = 14 14 5344 37191 527 37223 241
    $EGID = 14 14 5344 37191 527 37223 241

Perl module toolchain versions installed:

    Module              Have    
    ------------------- --------
    CPAN                2.14    
    CPAN::Meta          2.150010
    Cwd                 3.62    
    ExtUtils::CBuilder  0.280224
    ExtUtils::Command   7.24    
    ExtUtils::Install   2.04    
    ExtUtils::MakeMaker 7.24    
    ExtUtils::Manifest  1.70    
    ExtUtils::ParseXS   3.30    
    File::Spec          3.62    
    JSON                2.90    
    JSON::PP            2.27400 
    Module::Build       0.4220  
    Module::Signature   n/a     
    Parse::CPAN::Meta   2.150010
    Test::Harness       3.36    
    Test::More          1.302075
    YAML                1.21    
    YAML::Syck          1.29    
    version             0.9917  


--

Summary of my perl5 (revision 5 version 10 subversion 0) configuration:
  Platform:
    osname=darwin, osvers=12.5.0, archname=darwin-thread-multi-2level
    uname='darwin ncbimac2008.ncbi.nlm.nih.gov 12.5.0 darwin kernel version 12.5.0: sun sep 29 13:33:47 pdt 2013; root:xnu-2050.48.12~1release_x86_64 x86_64 '
    config_args='-de -Dprefix=/Users/hornenj/perl5/perlbrew/perls/perl-5.10.0 -Duseithreads -Dusemultiplicity -Accflags=-O2 -W -Wformat=2 -Wswitch -Wshadow -Wwrite-strings -Wuninitialized -Wall -pipe -mtune=native -march=native -fomit-frame-pointer -msse2 -msse -mmmx -pedantic -D_FORTIFY_SOURCE=2 -Wpointer-arith -Wstrict-prototypes -fstack-protector -Wstack-protector -Wextra -Wbad-function-cast -Wcast-align -Wcast-qual -Wdisabled-optimization -Wendif-labels -Wfloat-equal -Wformat-nonliteral -Winline -Wmissing-declarations -Wmissing-prototypes -Wnested-externs -Wpointer-arith -Wundef -Wformat-security -fassociative-math -Acc=cc -Aeval:scriptdir=/Users/hornenj/perl5/perlbrew/perls/perl-5.10.0/bin'
    hint=recommended, useposix=true, d_sigaction=define
    useithreads=define, usemultiplicity=define
    useperlio=define, d_sfio=undef, uselargefiles=define, usesocks=undef
    use64bitint=define, use64bitall=define, uselongdouble=undef
    usemymalloc=n, bincompat5005=undef
  Compiler:
    cc=' cc', ccflags ='-fno-common -DPERL_DARWIN -O2 -W -Wformat=2 -Wswitch -Wshadow -Wwrite-strings -Wuninitialized -Wall -pipe -mtune=native -march=native -fomit-frame-pointer -msse2 -msse -mmmx -pedantic -D_FORTIFY_SOURCE=2 -Wpointer-arith -Wstrict-prototypes -fstack-protector -Wstack-protector -Wextra -Wbad-function-cast -Wcast-align -Wcast-qual -Wdisabled-optimization -Wendif-labels -Wfloat-equal -Wformat-nonliteral -Winline -Wmissing-declarations -Wmissing-prototypes -Wnested-externs -Wpointer-arith -Wundef -Wformat-security -fassociative-math -fno-strict-aliasing -I/usr/local/include',
    optimize='-O3',
    cppflags='-fno-common -DPERL_DARWIN -O2 -W -Wformat=2 -Wswitch -Wshadow -Wwrite-strings -Wuninitialized -Wall -pipe -mtune=native -march=native -fomit-frame-pointer -msse2 -msse -mmmx -pedantic -D_FORTIFY_SOURCE=2 -Wpointer-arith -Wstrict-prototypes -fstack-protector -Wstack-protector -Wextra -Wbad-function-cast -Wcast-align -Wcast-qual -Wdisabled-optimization -Wendif-labels -Wfloat-equal -Wformat-nonliteral -Winline -Wmissing-declarations -Wmissing-prototypes -Wnested-externs -Wpointer-arith -Wundef -Wformat-security -fassociative-math -fno-strict-aliasing -I/usr/local/include'
    ccversion='', gccversion='4.2.1 Compatible Apple LLVM 4.2 (clang-425.0.24)', gccosandvers=''
    intsize=4, longsize=8, ptrsize=8, doublesize=8, byteorder=12345678
    d_longlong=define, longlongsize=8, d_longdbl=define, longdblsize=16
    ivtype='long', ivsize=8, nvtype='double', nvsize=8, Off_t='off_t', lseeksize=8
    alignbytes=8, prototype=define
  Linker and Libraries:
    ld='env MACOSX_DEPLOYMENT_TARGET=10.3 cc', ldflags =' -L/usr/local/lib'
    libpth=/usr/local/lib /usr/lib
    libs=-ldbm -ldl -lm -lutil -lc
    perllibs=-ldl -lm -lutil -lc
    libc=, so=dylib, useshrplib=false, libperl=libperl.a
    gnulibc_version=''
  Dynamic Linking:
    dlsrc=dl_dlopen.xs, dlext=bundle, d_dlsymun=undef, ccdlflags=' '
    cccdlflags=' ', lddlflags=' -bundle -undefined dynamic_lookup -L/usr/local/lib'


Characteristics of this binary (from libperl): 
  Compile-time options: MULTIPLICITY PERL_DONT_CREATE_GVSV
                        PERL_IMPLICIT_CONTEXT PERL_MALLOC_WRAP USE_64_BIT_ALL
                        USE_64_BIT_INT USE_ITHREADS USE_LARGE_FILES
                        USE_PERLIO USE_REENTRANT_API
  Built under darwin
  Compiled at Sep 15 2014 10:12:06
  %ENV:
    PERL5LIB="/Users/hornenj/.cpan/build/Test-Regression-0.08-6/blib/arch:/Users/hornenj/.cpan/build/Test-Regression-0.08-6/blib/lib:/Users/hornenj/.cpan/build/CGI-Application-4.50-6/blib/arch:/Users/hornenj/.cpan/build/CGI-Application-4.50-6/blib/lib:/Users/hornenj/.cpan/build/HTML-Template-2.95-17/blib/arch:/Users/hornenj/.cpan/build/HTML-Template-2.95-17/blib/lib"
    PERL5OPT=""
    PERL5_CPANPLUS_IS_RUNNING="80968"
    PERL5_CPAN_IS_RUNNING="80968"
    PERL5_MINISMOKEBOX="0.58"
    PERLBREW_BASHRC_VERSION="0.77"
    PERLBREW_HOME="/Users/hornenj/.perlbrew"
    PERLBREW_LIB=""
    PERLBREW_MANPATH="/Users/hornenj/perl5/perlbrew/perls/perl-5.10.0/man"
    PERLBREW_PATH="/Users/hornenj/perl5/perlbrew/bin:/Users/hornenj/perl5/perlbrew/perls/perl-5.10.0/bin"
    PERLBREW_PERL="perl-5.10.0"
    PERLBREW_ROOT="/Users/hornenj/perl5/perlbrew"
    PERLBREW_VERSION="0.77"
    PERL_EXTUTILS_AUTOINSTALL="--defaultdeps"
    PERL_LOCAL_LIB_ROOT=""
    PERL_MM_USE_DEFAULT="1"
  @INC:
    /Users/hornenj/.cpan/build/Test-Regression-0.08-6/blib/arch
    /Users/hornenj/.cpan/build/Test-Regression-0.08-6/blib/lib
    /Users/hornenj/.cpan/build/CGI-Application-4.50-6/blib/arch
    /Users/hornenj/.cpan/build/CGI-Application-4.50-6/blib/lib
    /Users/hornenj/.cpan/build/HTML-Template-2.95-17/blib/arch
    /Users/hornenj/.cpan/build/HTML-Template-2.95-17/blib/lib
    /Users/hornenj/perl5/perlbrew/perls/perl-5.10.0/lib/5.10.0/darwin-thread-multi-2level
    /Users/hornenj/perl5/perlbrew/perls/perl-5.10.0/lib/5.10.0
    /Users/hornenj/perl5/perlbrew/perls/perl-5.10.0/lib/site_perl/5.10.0/darwin-thread-multi-2level
    /Users/hornenj/perl5/perlbrew/perls/perl-5.10.0/lib/site_perl/5.10.0
    .