PAR-Packer v1.058 Perl 5 v5.38.0 darwin-2level

Status
Pass
From
Philip Sharman
Dist
PAR-Packer v1.058
Platform
Perl 5 v5.38.0 darwin-2level
Date
2023-07-05 20:56:04
ID
5b3915ca-1b76-11ee-86dc-2f3cbec4d123
This distribution has been tested as part of the CPAN Testers
project, supporting the Perl programming language.  See
http://wiki.cpantesters.org/ for more information or email
questions to cpan-testers-discuss@perl.org


--
Dear Roderich Schupp,

This is a computer-generated report for PAR-Packer-1.058
on perl 5.38.0, created by CPAN-Reporter-1.2019.

Thank you for uploading your work to CPAN.  Congratulations!
All tests were successful.

Sections of this report:

    * Tester comments
    * Program output
    * Prerequisites
    * Environment and other context

------------------------------
TESTER COMMENTS
------------------------------

Additional comments from tester:

none provided

------------------------------
PROGRAM OUTPUT
------------------------------

Output from '/usr/bin/make test':

"/Users/psharman/perl5/perlbrew/perls/perl-5.38.0/bin/perl" -MExtUtils::Command::MM -e 'cp_nonempty' -- XSFoo.bs ../blib/lib/auto/XSFoo/XSFoo.bs 644
Makefile:867: warning: overriding commands for target `.c.o'
Makefile:340: warning: ignoring old commands for target `.c.o'
"/Users/psharman/perl5/perlbrew/perls/perl-5.38.0/bin/perl" -MExtUtils::Command::MM -e 'cp_nonempty' -- XSFoo.bs ../blib/lib/auto/XSFoo/XSFoo.bs 644
No tests defined for XSFoo extension.
Makefile:867: warning: overriding commands for target `.c.o'
Makefile:340: warning: ignoring old commands for target `.c.o'
No tests defined for myldr extension.
PERL_DL_NONLAZY=1 "/Users/psharman/perl5/perlbrew/perls/perl-5.38.0/bin/perl" "-MExtUtils::Command::MM" "-MTest::Harness" "-e" "undef *Test::Harness::Switches; test_harness(0, 'blib/lib', 'blib/arch')" t/*.t
t/00-pod.t ............... skipped: Set environment variable PERL_TEST_POD=1 to test POD
t/10-parl-generation.t ... ok
/tmp/TbvIsG57dE syntax OK
t/20-pp.t ................ ok
# Please wait
t/30-current_exec.t ...... ok
t/40-packer_cd_option.t .. ok
t/80-doublecolon.t ....... ok
t/85-crt-glob.t .......... ok
t/85-myfile.t ............ ok
# dl_shared_objects = /tmp/1xiZzFqEZJ/par-726f6f74/cache-e23d62dcf3c5a9c2de5a2f80a971222ac8e21da4/7a98abca.bundle /tmp/1xiZzFqEZJ/par-726f6f74/cache-e23d62dcf3c5a9c2de5a2f80a971222ac8e21da4/8997e50f.bundle /tmp/1xiZzFqEZJ/par-726f6f74/cache-e23d62dcf3c5a9c2de5a2f80a971222ac8e21da4/5ea553cd.bundle /tmp/1xiZzFqEZJ/par-726f6f74/cache-e23d62dcf3c5a9c2de5a2f80a971222ac8e21da4/776665cb.bundle /tmp/1xiZzFqEZJ/par-726f6f74/cache-e23d62dcf3c5a9c2de5a2f80a971222ac8e21da4/2ef37b2d.bundle /tmp/1xiZzFqEZJ/par-726f6f74/cache-e23d62dcf3c5a9c2de5a2f80a971222ac8e21da4/6ee505e5.bundle /tmp/1xiZzFqEZJ/par-726f6f74/cache-e23d62dcf3c5a9c2de5a2f80a971222ac8e21da4/b6199cf5.bundle /tmp/1xiZzFqEZJ/par-726f6f74/cache-e23d62dcf3c5a9c2de5a2f80a971222ac8e21da4/54e66772.bundle /tmp/1xiZzFqEZJ/par-726f6f74/cache-e23d62dcf3c5a9c2de5a2f80a971222ac8e21da4/c06b55bc.bundle /tmp/1xiZzFqEZJ/par-726f6f74/cache-e23d62dcf3c5a9c2de5a2f80a971222ac8e21da4/b93f207c.bundle /tmp/1xiZzFqEZJ/par-726f6f74/cache-e23d62dcf3c5a9c2de5a2f80a971222ac8e21da4/845915f5.bundle /tmp/1xiZzFqEZJ/par-726f6f74/cache-e23d62dcf3c5a9c2de5a2f80a971222ac8e21da4/2ade1fcd.bundle /tmp/1xiZzFqEZJ/par-726f6f74/cache-e23d62dcf3c5a9c2de5a2f80a971222ac8e21da4/36f848f7.bundle
# dl_modules = IO Fcntl Cwd Compress::Raw::Zlib List::Util Time::HiRes Encode Storable File::Glob Digest::SHA PerlIO::scalar attributes XSFoo
# greetings from XSFoo
t/86-xs-exe.t ............ ok
t/86-xs-par.t ............ ok
t/90-gh41.t .............. skipped: Tests only relevant on Windows
t/90-gh66.t .............. ok
# PAR_TEMP = /tmp/khnCEM3Ea1/par-726f6f74/cache-70d1b33762a162479530687615d32cd0a2e1ad6d
# running /tmp/khnCEM3Ea1/packed a second time
# running /tmp/khnCEM3Ea1/packed a third time
t/90-rt101800.t .......... ok
t/90-rt103861.t .......... ok
t/90-rt104560.t .......... ok
t/90-rt104635.t .......... ok
t/90-rt122949.t .......... skipped: Tests only relevant on Windows
t/90-rt127064.t .......... skipped: Tests only relevant on Windows
t/90-rt129312.t .......... ok
# found core module Carp in /Users/psharman/perl5/perlbrew/perls/perl-5.38.0/lib/5.38.0/Carp.pm
# found core module Exporter in /Users/psharman/perl5/perlbrew/perls/perl-5.38.0/lib/5.38.0/Exporter.pm
# found core module File::Glob in /Users/psharman/perl5/perlbrew/perls/perl-5.38.0/lib/5.38.0/darwin-2level/File/Glob.pm
# found core module List::Util in /Users/psharman/perl5/perlbrew/perls/perl-5.38.0/lib/5.38.0/darwin-2level/List/Util.pm
t/90-rt130685.t .......... ok
t/90-rt59710.t ........... ok
All tests successful.
Files=21, Tests=150, 1884 wallclock secs ( 0.06 usr  0.04 sys + 49.03 cusr 26.72 csys = 75.85 CPU)
Result: PASS

------------------------------
PREREQUISITES
------------------------------

Prerequisite modules loaded:

requires:

    Module                Need     Have    
    --------------------- -------- --------
    Archive::Zip          1.02     1.68    
    Compress::Zlib        1.30     2.204   
    Digest::SHA           5.40     6.04    
    File::Temp            0.05     0.2311  
    Getopt::ArgvFile      1.07     1.11    
    IO::Compress::Gzip    0        2.204   
    Module::ScanDeps      1.21     1.32    
    PAR                   1.016    1.018   
    PAR::Dist             0.22     0.52    
    perl                  5.008009 5.038000
    Text::ParseWords      0        3.31    

build_requires:

    Module                Need     Have    
    --------------------- -------- --------
    ExtUtils::MakeMaker   0        7.70    
    IPC::Run3             0.048    0.048   
    Test::More            0        1.302194

configure_requires:

    Module                Need     Have    
    --------------------- -------- --------
    DynaLoader            0        1.54    
    ExtUtils::CBuilder    0        0.280238
    ExtUtils::Embed       0        1.35    
    File::Basename        0        2.86    
    File::Glob            0        1.40    
    File::Spec::Functions 0        3.88    

opt_requires:

    Module                Need     Have    
    --------------------- -------- --------
    Digest                0        1.20    
  ! Module::Signature     0        n/a     
  ! Tk                    0        n/a     
  ! Tk::ColoredButton     0        n/a     
  ! Tk::EntryCheck        0        n/a     
  ! Tk::Getopt            0        n/a     


------------------------------
ENVIRONMENT AND OTHER CONTEXT
------------------------------

Environment variables:

    LANG = en_CA.UTF-8
    PATH = /usr/local/sbin:/Users/psharman/perl5/perlbrew/bin:/Users/psharman/perl5/perlbrew/perls/perl-5.38.0/bin:/usr/local/bin:/System/Cryptexes/App/usr/bin:/usr/bin:/bin:/usr/sbin:/sbin:/Library/Apple/usr/bin:/var/run/com.apple.security.cryptexd/codex.system/bootstrap/usr/local/bin:/var/run/com.apple.security.cryptexd/codex.system/bootstrap/usr/bin:/var/run/com.apple.security.cryptexd/codex.system/bootstrap/usr/appleinternal/bin:/usr/local/Cellar/rakudo/2022.07/share/perl6/site/bin
    PERL5LIB = 
    PERL5OPT = 
    PERL5_CPANPLUS_IS_RUNNING = 65345
    PERL5_CPAN_IS_RUNNING = 65345
    PERL_USE_UNSAFE_INC = 1
    SHELL = /usr/local/bin/bash
    TERM = xterm-256color

Perl special variables (and OS-specific diagnostics, for MSWin32):

    $^X = /Users/psharman/perl5/perlbrew/perls/perl-5.38.0/bin/perl
    $UID/$EUID = 0 / 0
    $GID = 0 0 1 2 3 4 5 8 9 12 20 29 61 80 701 702 33
    $EGID = 0 0 1 2 3 4 5 8 9 12 20 29 61 80 701 702 33

Perl module toolchain versions installed:

    Module              Have    
    ------------------- --------
    CPAN                2.36    
    CPAN::Meta          2.150010
    Cwd                 3.89    
    ExtUtils::CBuilder  0.280238
    ExtUtils::Command   7.70    
    ExtUtils::Install   2.22    
    ExtUtils::MakeMaker 7.70    
    ExtUtils::Manifest  1.73    
    ExtUtils::ParseXS   3.51    
    File::Spec          3.88    
    JSON                4.10    
    JSON::PP            4.16    
    Module::Build       0.4234  
    Module::Signature   n/a     
    Parse::CPAN::Meta   2.150010
    Test2               1.302194
    Test::Harness       3.44    
    Test::More          1.302194
    YAML                1.30    
    YAML::Syck          n/a     
    version             0.9929  


--

Summary of my perl5 (revision 5 version 38 subversion 0) configuration:
   
  Platform:
    osname=darwin
    osvers=22.5.0
    archname=darwin-2level
    uname='darwin psharman-ltm2.internal.salesforce.com 22.5.0 darwin kernel version 22.5.0: thu jun 8 22:22:22 pdt 2023; root:xnu-8796.121.3~7release_x86_64 x86_64 '
    config_args='-de -Dprefix=/Users/psharman/perl5/perlbrew/perls/perl-5.38.0 -Aeval:scriptdir=/Users/psharman/perl5/perlbrew/perls/perl-5.38.0/bin'
    hint=recommended
    useposix=true
    d_sigaction=define
    useithreads=undef
    usemultiplicity=undef
    use64bitint=define
    use64bitall=define
    uselongdouble=undef
    usemymalloc=n
    default_inc_excludes_dot=define
  Compiler:
    cc='cc'
    ccflags ='-fno-common -DPERL_DARWIN -mmacosx-version-min=13.4 -DNO_POSIX_2008_LOCALE -fno-strict-aliasing -pipe -fstack-protector-strong -I/usr/local/include'
    optimize='-O3'
    cppflags='-fno-common -DPERL_DARWIN -mmacosx-version-min=13.4 -DNO_POSIX_2008_LOCALE -fno-strict-aliasing -pipe -fstack-protector-strong -I/usr/local/include'
    ccversion=''
    gccversion='Apple LLVM 14.0.3 (clang-1403.0.22.14.1)'
    gccosandvers=''
    intsize=4
    longsize=8
    ptrsize=8
    doublesize=8
    byteorder=12345678
    doublekind=3
    d_longlong=define
    longlongsize=8
    d_longdbl=define
    longdblsize=16
    longdblkind=3
    ivtype='long'
    ivsize=8
    nvtype='double'
    nvsize=8
    Off_t='off_t'
    lseeksize=8
    alignbytes=8
    prototype=define
  Linker and Libraries:
    ld='cc'
    ldflags =' -mmacosx-version-min=13.4 -fstack-protector-strong -L/usr/local/lib'
    libpth=/usr/local/lib /Applications/Xcode.app/Contents/Developer/Toolchains/XcodeDefault.xctoolchain/usr/lib/clang/14.0.3/lib /Applications/Xcode.app/Contents/Developer/Platforms/MacOSX.platform/Developer/SDKs/MacOSX.sdk/usr/lib /Applications/Xcode.app/Contents/Developer/Toolchains/XcodeDefault.xctoolchain/usr/lib /usr/lib
    libs=-lgdbm
    perllibs=
    libc=
    so=dylib
    useshrplib=false
    libperl=libperl.a
    gnulibc_version=''
  Dynamic Linking:
    dlsrc=dl_dlopen.xs
    dlext=bundle
    d_dlsymun=undef
    ccdlflags=' '
    cccdlflags=' '
    lddlflags=' -mmacosx-version-min=13.4 -bundle -undefined dynamic_lookup -L/usr/local/lib -fstack-protector-strong'


Characteristics of this binary (from libperl): 
  Compile-time options:
    HAS_LONG_DOUBLE
    HAS_STRTOLD
    HAS_TIMES
    PERLIO_LAYERS
    PERL_COPY_ON_WRITE
    PERL_DONT_CREATE_GVSV
    PERL_HASH_FUNC_SIPHASH13
    PERL_HASH_USE_SBOX32
    PERL_MALLOC_WRAP
    PERL_OP_PARENT
    PERL_PRESERVE_IVUV
    PERL_USE_SAFE_PUTENV
    USE_64_BIT_ALL
    USE_64_BIT_INT
    USE_LARGE_FILES
    USE_LOCALE
    USE_LOCALE_COLLATE
    USE_LOCALE_CTYPE
    USE_LOCALE_NUMERIC
    USE_LOCALE_TIME
    USE_PERLIO
    USE_PERL_ATOF
  Built under darwin
  Compiled at Jul  5 2023 10:26:24
  %ENV:
    PERL5LIB=""
    PERL5OPT=""
    PERL5_CPANPLUS_IS_RUNNING="65345"
    PERL5_CPAN_IS_RUNNING="65345"
    PERL_USE_UNSAFE_INC="1"
  @INC:
    /Users/psharman/perl5/perlbrew/perls/perl-5.38.0/lib/site_perl/5.38.0/darwin-2level
    /Users/psharman/perl5/perlbrew/perls/perl-5.38.0/lib/site_perl/5.38.0
    /Users/psharman/perl5/perlbrew/perls/perl-5.38.0/lib/5.38.0/darwin-2level
    /Users/psharman/perl5/perlbrew/perls/perl-5.38.0/lib/5.38.0
    .