Math-Prime-Util v0.73 Perl 5 v5.22.3 x86_64-linux

Status
Pass
From
Andreas J. König (ANDK)
Dist
Math-Prime-Util v0.73
Platform
Perl 5 v5.22.3 x86_64-linux
Date
2019-12-25 19:25:49
ID
5b54cba2-274c-11ea-bca1-a93dbf727c9c
This distribution has been tested as part of the CPAN Testers
project, supporting the Perl programming language.  See
http://wiki.cpantesters.org/ for more information or email
questions to cpan-testers-discuss@perl.org


--
Dear Dana Jacobsen,

This is a computer-generated report for Math-Prime-Util-0.73
on perl 5.22.3, created by CPAN-Reporter-1.2018.

Thank you for uploading your work to CPAN.  Congratulations!
All tests were successful.

Sections of this report:

    * Tester comments
    * Program output
    * Prerequisites
    * Environment and other context

------------------------------
TESTER COMMENTS
------------------------------

Additional comments from tester:

this report is from an automated smoke testing program
and was not reviewed by a human for accuracy

------------------------------
PROGRAM OUTPUT
------------------------------

Output from '/usr/bin/make test':

"/home/sand/src/perl/repoperls/installed-perls/host/k93msid/v5.22.3/da1c/bin/perl" -MExtUtils::Command::MM -e 'cp_nonempty' -- Util.bs blib/arch/auto/Math/Prime/Util/Util.bs 644
PERL_DL_NONLAZY=1 "/home/sand/src/perl/repoperls/installed-perls/host/k93msid/v5.22.3/da1c/bin/perl" "-MExtUtils::Command::MM" "-MTest::Harness" "-e" "undef *Test::Harness::Switches; test_harness(0, 'blib/lib', 'blib/arch')" t/*.t
t/01-load.t .................. ok
t/011-load-ntheory.t ......... ok
t/02-can.t ................... ok
t/022-can-ntheory.t .......... ok
# Using XS with MPU::GMP version 0.51.
t/03-init.t .................. ok
t/04-inputvalidation.t ....... ok
t/10-isprime.t ............... ok
t/11-clusters.t .............. ok
t/11-primes.t ................ ok
t/11-ramanujanprimes.t ....... ok
t/11-semiprimes.t ............ ok
t/11-sumprimes.t ............. ok
t/11-twinprimes.t ............ ok
t/12-nextprime.t ............. ok
t/13-primecount.t ............ ok
t/14-nthprime.t .............. ok
t/15-probprime.t ............. ok
t/16-randomprime.t ........... ok
t/17-pseudoprime.t ........... ok
t/18-functions.t ............. ok
t/19-chebyshev.t ............. ok
t/19-chinese.t ............... ok
t/19-divisorsum.t ............ ok
t/19-gcd.t ................... ok
t/19-kronecker.t ............. ok
t/19-legendrephi.t ........... ok
t/19-liouville.t ............. ok
t/19-mangoldt.t .............. ok
t/19-moebius.t ............... ok
t/19-popcount.t .............. ok
t/19-primroots.t ............. ok
t/19-ramanujan.t ............. ok
t/19-rootint.t ............... ok
t/19-totients.t .............. ok
t/19-valuation.t ............. ok
t/19-znorder.t ............... ok
t/20-jordantotient.t ......... ok
t/20-primorial.t ............. ok
t/21-conseq-lcm.t ............ ok
t/22-aks-prime.t ............. ok
t/23-primality-proofs.t ...... ok
t/23-random-certs.t .......... ok
t/24-partitions.t ............ ok
t/25-lucas_sequences.t ....... ok
t/26-combinatorial.t ......... ok
t/26-digits.t ................ ok
t/26-iscarmichael.t .......... ok
t/26-isfundamental.t ......... ok
t/26-ispower.t ............... ok
t/26-issemiprime.t ........... ok
t/26-issquarefree.t .......... ok
t/26-istotient.t ............. ok
t/26-mod.t ................... ok
t/26-pillai.t ................ ok
t/26-polygonal.t ............. ok
t/26-vec.t ................... ok
t/27-bernfrac.t .............. ok
t/28-pi.t .................... ok
t/29-mersenne.t .............. ok
t/30-relations.t ............. ok
t/31-threading.t ............. skipped: only in release or extended testing
t/32-iterators.t ............. ok
t/33-examples.t .............. skipped: these tests are for release candidate testing
# CORE::rand: drand48 (yech). Our PRNG: ChaCha20
t/34-random.t ................ ok
t/35-cipher.t ................ ok
t/35-rand-tag.t .............. ok
t/50-factoring.t ............. ok
t/51-randfactor.t ............ ok
t/51-znlog.t ................. ok
t/52-primearray.t ............ ok
t/70-rt-bignum.t ............. ok
t/80-pp.t .................... ok
# BigInt 0.39_01/1.999818, lib: GMP.  MPU::GMP 0.51
t/81-bignum.t ................ ok
t/90-release-perlcritic.t .... skipped: these tests are for release candidate testing
t/91-release-pod-syntax.t .... skipped: these tests are for release candidate testing
t/92-release-pod-coverage.t .. skipped: these tests are for release candidate testing
t/93-release-spelling.t ...... skipped: these tests are for release candidate testing
t/94-weaken.t ................ skipped: these tests are for release candidate testing
t/97-synopsis.t .............. skipped: these tests are for release candidate testing
All tests successful.
Files=79, Tests=4067, 23 wallclock secs ( 0.29 usr  0.26 sys +  6.83 cusr  1.74 csys =  9.12 CPU)
Result: PASS

------------------------------
PREREQUISITES
------------------------------

Prerequisite modules loaded:

requires:

    Module                 Need     Have    
    ---------------------- -------- --------
    base                   0        2.22    
    Carp                   0        1.50    
    Config                 0        5.022003
    constant               0        1.33    
    Exporter               5.57     5.72    
    Math::BigFloat         1.59     1.999818
    Math::BigInt           1.88     1.999818
    Math::Prime::Util::GMP 0.50     0.51    
    perl                   5.006002 5.022003
    Tie::Array             0        1.06    
    XSLoader               0.01     0.24    

build_requires:

    Module                 Need     Have    
    ---------------------- -------- --------
    bignum                 0.22     0.39_01 
    ExtUtils::MakeMaker    0        7.38    
    Test::More             0.45     1.302169

configure_requires:

    Module                 Need     Have    
    ---------------------- -------- --------
    ExtUtils::MakeMaker    0        7.38    

opt_requires:

    Module                 Need     Have    
    ---------------------- -------- --------
    Digest::SHA            5.87     6.02    
    Math::BigInt::GMP      0        1.6007  
    Math::Prime::Util::GMP 0.51     0.51    


------------------------------
ENVIRONMENT AND OTHER CONTEXT
------------------------------

Environment variables:

    AUTOMATED_TESTING = 1
    LANG = en_US.UTF-8
    PATH = /home/sand/bin:/usr/local/bin:/usr/bin:/bin:/usr/games:/usr/local/perl/bin:/usr/X11/bin:/sbin:/usr/sbin
    PERL5LIB = 
    PERL5OPT = 
    PERL5_CPANPLUS_IS_RUNNING = 2197396
    PERL5_CPAN_IS_RUNNING = 2197396
    PERL_CANARY_STABILITY_NOPROMPT = 1
    PERL_MM_USE_DEFAULT = 1
    PERL_USE_UNSAFE_INC = 1
    SHELL = /usr/bin/zsh
    TERM = screen

Perl special variables (and OS-specific diagnostics, for MSWin32):

    $^X = /home/sand/src/perl/repoperls/installed-perls/host/k93msid/v5.22.3/da1c/bin/perl
    $UID/$EUID = 1005 / 1005
    $GID = 1005 1005
    $EGID = 1005 1005

Perl module toolchain versions installed:

    Module              Have    
    ------------------- --------
    CPAN                2.27    
    CPAN::Meta          2.150010
    Cwd                 3.75    
    ExtUtils::CBuilder  0.280231
    ExtUtils::Command   7.38    
    ExtUtils::Install   2.06    
    ExtUtils::MakeMaker 7.38    
    ExtUtils::Manifest  1.70    
    ExtUtils::ParseXS   3.35    
    File::Spec          3.75    
    JSON                4.02    
    JSON::PP            4.04    
    Module::Build       0.4229  
    Module::Signature   0.83    
    Parse::CPAN::Meta   2.150010
    Test::Harness       3.42    
    Test::More          1.302169
    YAML                1.29    
    YAML::Syck          1.31    
    version             0.9924  


--

Summary of my perl5 (revision 5 version 22 subversion 3) configuration:
  Derived from: 16b638b0a20de774856b3a21a75a5e373af5262c
  Platform:
    osname=linux, osvers=5.3.0-2-amd64, archname=x86_64-linux
    uname='linux k93msid 5.3.0-2-amd64 #1 smp debian 5.3.9-3 (2019-11-19) x86_64 gnulinux '
    config_args='-Dprefix=/home/sand/src/perl/repoperls/installed-perls/host/k93msid/v5.22.3/da1c -Dmyhostname=k93msid -Dinstallusrbinperl=n -Uversiononly -Dusedevel -des -Ui_db -Dlibswanted=cl pthread socket inet nsl gdbm dbm malloc dl ld sun m crypt sec util c cposix posix ucb BSD gdbm_compat -Uuseithreads -Uuselongdouble -DEBUGGING=-g'
    hint=recommended, useposix=true, d_sigaction=define
    useithreads=undef, usemultiplicity=undef
    use64bitint=define, use64bitall=define, uselongdouble=undef
    usemymalloc=n, bincompat5005=undef
  Compiler:
    cc='cc', ccflags ='-fwrapv -fno-strict-aliasing -pipe -fstack-protector-strong -I/usr/local/include -D_LARGEFILE_SOURCE -D_FILE_OFFSET_BITS=64',
    optimize='-O2 -g',
    cppflags='-fwrapv -fno-strict-aliasing -pipe -fstack-protector-strong -I/usr/local/include'
    ccversion='', gccversion='9.2.1 20191109', gccosandvers=''
    intsize=4, longsize=8, ptrsize=8, doublesize=8, byteorder=12345678, doublekind=3
    d_longlong=define, longlongsize=8, d_longdbl=define, longdblsize=16, longdblkind=3
    ivtype='long', ivsize=8, nvtype='double', nvsize=8, Off_t='off_t', lseeksize=8
    alignbytes=8, prototype=define
  Linker and Libraries:
    ld='cc', ldflags =' -fstack-protector-strong -L/usr/local/lib'
    libpth=/usr/local/lib /usr/lib/gcc/x86_64-linux-gnu/9/include-fixed /usr/include/x86_64-linux-gnu /usr/lib /lib/x86_64-linux-gnu /lib/../lib /usr/lib/x86_64-linux-gnu /usr/lib/../lib /lib
    libs=-lpthread -lnsl -ldl -lm -lcrypt -lutil -lc
    perllibs=-lpthread -lnsl -ldl -lm -lcrypt -lutil -lc
    libc=libc-2.29.so, so=so, useshrplib=false, libperl=libperl.a
    gnulibc_version='2.29'
  Dynamic Linking:
    dlsrc=dl_dlopen.xs, dlext=so, d_dlsymun=undef, ccdlflags='-Wl,-E'
    cccdlflags='-fPIC', lddlflags='-shared -O2 -g -L/usr/local/lib -fstack-protector-strong'


Characteristics of this binary (from libperl): 
  Compile-time options: HAS_TIMES PERLIO_LAYERS PERL_DONT_CREATE_GVSV
                        PERL_HASH_FUNC_ONE_AT_A_TIME_HARD PERL_MALLOC_WRAP
                        PERL_NEW_COPY_ON_WRITE PERL_PRESERVE_IVUV
                        PERL_USE_DEVEL USE_64_BIT_ALL USE_64_BIT_INT
                        USE_LARGE_FILES USE_LOCALE USE_LOCALE_COLLATE
                        USE_LOCALE_CTYPE USE_LOCALE_NUMERIC USE_LOCALE_TIME
                        USE_PERLIO USE_PERL_ATOF
  Locally applied patches:
	uncommitted-changes
  Built under linux
  Compiled at Nov 26 2019 04:46:13
  %ENV:
    PERL5LIB=""
    PERL5OPT=""
    PERL5_CPANPLUS_IS_RUNNING="2197396"
    PERL5_CPAN_IS_RUNNING="2197396"
    PERL_CANARY_STABILITY_NOPROMPT="1"
    PERL_MM_USE_DEFAULT="1"
    PERL_USE_UNSAFE_INC="1"
  @INC:
    /home/sand/src/perl/repoperls/installed-perls/host/k93msid/v5.22.3/da1c/lib/site_perl/5.22.3/x86_64-linux
    /home/sand/src/perl/repoperls/installed-perls/host/k93msid/v5.22.3/da1c/lib/site_perl/5.22.3
    /home/sand/src/perl/repoperls/installed-perls/host/k93msid/v5.22.3/da1c/lib/5.22.3/x86_64-linux
    /home/sand/src/perl/repoperls/installed-perls/host/k93msid/v5.22.3/da1c/lib/5.22.3
    .