Template-Semantic v0.10 Perl 5 v5.14.4 MSWin32-x86-multi-thread

Status
Pass
From
NONAME
Dist
Template-Semantic v0.10
Platform
Perl 5 v5.14.4 MSWin32-x86-multi-thread
Date
2020-08-15 04:09:11
ID
5b786ead-709a-1014-afa4-f8aed618ba9a
This distribution has been tested as part of the CPAN Testers
project, supporting the Perl programming language.  See
http://wiki.cpantesters.org/ for more information or email
questions to cpan-testers-discuss@perl.org


--
Dear Yegor Korablev,

This is a computer-generated report for Template-Semantic-0.10
on perl 5.14.4, created by CPAN-Reporter-1.2018.

Thank you for uploading your work to CPAN.  Congratulations!
All tests were successful.

Sections of this report:

    * Tester comments
    * Program output
    * Prerequisites
    * Environment and other context

------------------------------
TESTER COMMENTS
------------------------------

Additional comments from tester:

none provided

------------------------------
PROGRAM OUTPUT
------------------------------

Output from 'C:\Strawberry\perl\bin\perl.exe ./Build test':

t/00_compile.t .......... ok
t/01_load-template.t .... ok
t/02_process.t .......... ok
t/03_as_string.t ........ ok
t/04_selector.t ......... ok
t/05_value-type.t ....... ok
t/06_libxml-hack.t ...... ok
t/07_default-filters.t .. ok
t/08_custom-filter.t .... ok
t/09_libxml_options.t ... ok
t/10_xinclude.t ......... ok
t/11_exp_to_xpath.t ..... ok
All tests successful.
Files=12, Tests=211,  9 wallclock secs ( 0.20 usr +  0.08 sys =  0.28 CPU)
Result: PASS

------------------------------
PREREQUISITES
------------------------------

Prerequisite modules loaded:

requires:

    Module                Need     Have    
    --------------------- -------- --------
    HTML::Selector::XPath 0.17     0.25    
    perl                  5.008000 5.014004
    Scalar::Util          1.19     1.55    
    XML::LibXML           1.69     2.0200  

build_requires:

    Module                Need     Have    
    --------------------- -------- --------
    ExtUtils::MakeMaker   6.59     7.47_07 
    Test::Base            0        0.89    
    Test::More            0.94     1.302177
    Test::Requires        0        0.10    

configure_requires:

    Module                Need     Have    
    --------------------- -------- --------
    Module::Build::Tiny   0.035    0.039   


------------------------------
ENVIRONMENT AND OTHER CONTEXT
------------------------------

Environment variables:

    COMSPEC = C:\windows\system32\cmd.exe
    NONINTERACTIVE_TESTING = 1
    NUMBER_OF_PROCESSORS = 4
    PATH = C:\home\heaven\perl5\bin;C:\windows\system32;C:\windows;C:\windows\System32\Wbem;C:\windows\System32\WindowsPowerShell\v1.0\;C:\Strawberry\c\bin;C:\Strawberry\perl\site\bin;C:\Strawberry\perl\bin
    PERL5LIB = C:\home\heaven\perl5\lib\perl5
    PERL5OPT = 
    PERL5_CPANPLUS_IS_RUNNING = 8448
    PERL5_CPAN_IS_RUNNING = 8448
    PERL_LOCAL_LIB_ROOT = C:\home\heaven\perl5
    PERL_MB_OPT = --install_base "C:\\home\\heaven\\perl5"
    PERL_MM_OPT = INSTALL_BASE=C:\\home\\heaven\\perl5
    PERL_MM_USE_DEFAULT = 1
    PERL_USE_UNSAFE_INC = 1
    PROCESSOR_IDENTIFIER = x86 Family 6 Model 37 Stepping 5, GenuineIntel
    TEMP = C:\Users\user\AppData\Local\Temp
    TERM = dumb

Perl special variables (and OS-specific diagnostics, for MSWin32):

    $^X = C:\Strawberry\perl\bin\perl.exe
    $UID/$EUID = 0 / 0
    $GID = 0
    $EGID = 0
    Win32::GetOSName = Win7
    Win32::GetOSVersion = Service Pack 1, 6, 1, 7601, 2, 1, 0, 256, 1
    Win32::FsType = NTFS
    Win32::IsAdminUser = 0

Perl module toolchain versions installed:

    Module              Have    
    ------------------- --------
    CPAN                2.26    
    CPAN::Meta          2.150010
    Cwd                 3.75    
    ExtUtils::CBuilder  0.280231
    ExtUtils::Command   7.47_07 
    ExtUtils::Install   2.14    
    ExtUtils::MakeMaker 7.47_07 
    ExtUtils::Manifest  1.72    
    ExtUtils::ParseXS   3.35    
    File::Spec          3.75    
    JSON                4.02    
    JSON::PP            4.05    
    Module::Build       0.42_28 
    Module::Signature   0.87    
    Parse::CPAN::Meta   2.150010
    Test::Harness       3.36    
    Test::More          1.302177
    YAML                1.27    
    YAML::Syck          1.31    
    version             0.9925  


--

Summary of my perl5 (revision 5 version 14 subversion 4) configuration:
   
  Platform:
    osname=MSWin32, osvers=4.0, archname=MSWin32-x86-multi-thread
    uname='Win32 strawberry-perl 5.14.4.1 #1 Mon Mar 11 19:56:31 2013 i386'
    config_args='undef'
    hint=recommended, useposix=true, d_sigaction=undef
    useithreads=define, usemultiplicity=define
    useperlio=define, d_sfio=undef, uselargefiles=define, usesocks=undef
    use64bitint=undef, use64bitall=undef, uselongdouble=undef
    usemymalloc=n, bincompat5005=undef
  Compiler:
    cc='gcc', ccflags =' -s -O2 -DWIN32  -DPERL_TEXTMODE_SCRIPTS -DPERL_IMPLICIT_CONTEXT -DPERL_IMPLICIT_SYS -fno-strict-aliasing -mms-bitfields',
    optimize='-s -O2',
    cppflags='-DWIN32'
    ccversion='', gccversion='4.6.3', gccosandvers=''
    intsize=4, longsize=4, ptrsize=4, doublesize=8, byteorder=1234
    d_longlong=undef, longlongsize=8, d_longdbl=define, longdblsize=12
    ivtype='long', ivsize=4, nvtype='double', nvsize=8, Off_t='long long', lseeksize=8
    alignbytes=8, prototype=define
  Linker and Libraries:
    ld='g++', ldflags ='-s -L"C:\Strawberry\perl\lib\CORE" -L"C:\Strawberry\c\lib"'
    libpth=C:\Strawberry\c\lib C:\Strawberry\c\i686-w64-mingw32\lib
    libs=-lmoldname -lkernel32 -luser32 -lgdi32 -lwinspool -lcomdlg32 -ladvapi32 -lshell32 -lole32 -loleaut32 -lnetapi32 -luuid -lws2_32 -lmpr -lwinmm -lversion -lodbc32 -lodbccp32 -lcomctl32
    perllibs=-lmoldname -lkernel32 -luser32 -lgdi32 -lwinspool -lcomdlg32 -ladvapi32 -lshell32 -lole32 -loleaut32 -lnetapi32 -luuid -lws2_32 -lmpr -lwinmm -lversion -lodbc32 -lodbccp32 -lcomctl32
    libc=, so=dll, useshrplib=true, libperl=libperl514.a
    gnulibc_version=''
  Dynamic Linking:
    dlsrc=dl_win32.xs, dlext=dll, d_dlsymun=undef, ccdlflags=' '
    cccdlflags=' ', lddlflags='-mdll -s -L"C:\Strawberry\perl\lib\CORE" -L"C:\Strawberry\c\lib"'


Characteristics of this binary (from libperl): 
  Compile-time options: MULTIPLICITY PERL_DONT_CREATE_GVSV
                        PERL_IMPLICIT_CONTEXT PERL_IMPLICIT_SYS
                        PERL_MALLOC_WRAP PERL_PRESERVE_IVUV PL_OP_SLAB_ALLOC
                        USE_ITHREADS USE_LARGE_FILES USE_PERLIO
                        USE_PERL_ATOF
  Built under MSWin32
  Compiled at Mar 11 2013 20:02:09
  %ENV:
    PERL5LIB="C:\home\heaven\perl5\lib\perl5"
    PERL5_CPANPLUS_IS_RUNNING="8448"
    PERL5_CPAN_IS_RUNNING="8448"
    PERL_LOCAL_LIB_ROOT="C:\home\heaven\perl5"
    PERL_MB_OPT="--install_base "C:\\home\\heaven\\perl5""
    PERL_MM_OPT="INSTALL_BASE=C:\\home\\heaven\\perl5"
    PERL_MM_USE_DEFAULT="1"
    PERL_USE_UNSAFE_INC="1"
  @INC:
    C:\home\heaven\perl5\lib\perl5/MSWin32-x86-multi-thread
    C:\home\heaven\perl5\lib\perl5
    C:/Strawberry/perl/site/lib
    C:/Strawberry/perl/vendor/lib
    C:/Strawberry/perl/lib
    .