WebService-BitbucketServer v0.605 Perl 5 v5.26.1 x86_64-haiku

Status
Pass
From
Serguei Trouchelle (STRO)
Dist
WebService-BitbucketServer v0.605
Platform
Perl 5 v5.26.1 x86_64-haiku
Date
2018-08-24 18:41:48
ID
5b8300b2-a7cd-11e8-8b88-c970d2ab4bb8
This distribution has been tested as part of the CPAN Testers
project, supporting the Perl programming language.  See
http://wiki.cpantesters.org/ for more information or email
questions to cpan-testers-discuss@perl.org


--
Dear Charles McGarvey,

This is a computer-generated report for WebService-BitbucketServer-0.605
on perl 5.26.1, created by CPAN-Reporter-1.2018.

Thank you for uploading your work to CPAN.  Congratulations!
All tests were successful.

Sections of this report:

    * Tester comments
    * Program output
    * Prerequisites
    * Environment and other context

------------------------------
TESTER COMMENTS
------------------------------

Additional comments from tester:

this report is from an automated smoke testing program
and was not reviewed by a human for accuracy

------------------------------
PROGRAM OUTPUT
------------------------------

Output from '/bin/make test':

Skip blib/lib/auto/share/module/WebService-BitbucketServer-Spec/submap_default_reviewers.pl (unchanged)
Skip blib/lib/auto/share/module/WebService-BitbucketServer-Spec/submap_access_tokens.pl (unchanged)
Skip blib/lib/auto/share/module/WebService-BitbucketServer-Spec/submap_gpg.pl (unchanged)
Skip blib/lib/auto/share/module/WebService-BitbucketServer-Spec/submap_mirroring_upstream.pl (unchanged)
Skip blib/lib/auto/share/module/WebService-BitbucketServer-Spec/submap_branch.pl (unchanged)
Skip blib/lib/auto/share/module/WebService-BitbucketServer-Spec/submap_git.pl (unchanged)
Skip blib/lib/auto/share/module/WebService-BitbucketServer-Spec/submap_repository_ref_sync.pl (unchanged)
Skip blib/lib/auto/share/module/WebService-BitbucketServer-Spec/submap_comment_likes.pl (unchanged)
Skip blib/lib/auto/share/module/WebService-BitbucketServer-Spec/submap_build.pl (unchanged)
Skip blib/lib/auto/share/module/WebService-BitbucketServer-Spec/submap_core.pl (unchanged)
Skip blib/lib/auto/share/module/WebService-BitbucketServer-Spec/submap_ssh.pl (unchanged)
Skip blib/lib/auto/share/module/WebService-BitbucketServer-Spec/submap_jira.pl (unchanged)
Skip blib/lib/auto/share/module/WebService-BitbucketServer-Spec/submap_audit.pl (unchanged)
Skip blib/lib/auto/share/module/WebService-BitbucketServer-Spec/submap_ref_restriction.pl (unchanged)
"/packages/perl-5.26.1-2/.self/bin/perl" "-MExtUtils::Command::MM" "-MTest::Harness" "-e" "undef *Test::Harness::Switches; test_harness(0, 'blib/lib', 'blib/arch')" t/*.t
t/00-compile.t ......... ok
# 
# Versions for all modules listed in MYMETA.json (including optional ones):
# 
# === Configure Requires ===
# 
#     Module                  Want Have
#     ----------------------- ---- ----
#     ExtUtils::MakeMaker      any 7.34
#     File::ShareDir::Install 0.06 0.13
# 
# === Build Requires ===
# 
#     Module              Want Have
#     ------------------- ---- ----
#     ExtUtils::MakeMaker  any 7.34
# 
# === Test Requires ===
# 
#     Module               Want     Have
#     -------------------- ---- --------
#     ExtUtils::MakeMaker   any     7.34
#     File::Spec            any     3.67
#     HTTP::AnyUA::Backend  any    0.901
#     IO::Handle            any     1.36
#     IPC::Open3            any     1.20
#     Test::Deep            any    1.128
#     Test::More            any 1.302140
#     lib                   any     0.64
#     parent                any    0.236
# 
# === Test Recommends ===
# 
#     Module         Want     Have
#     ---------- -------- --------
#     CPAN::Meta 2.120900 2.150010
# 
# === Runtime Requires ===
# 
#     Module            Want     Have
#     ----------------- ---- --------
#     Carp               any     1.42
#     Clone              any     0.39
#     Exporter           any     5.72
#     HTTP::AnyUA        any    0.901
#     HTTP::AnyUA::Util  any    0.901
#     JSON::MaybeXS      any 1.004000
#     MIME::Base64       any     3.15
#     Module::Load       any     0.32
#     Moo                any 2.003004
#     Scalar::Util       any     1.50
#     Types::Standard    any 1.004002
#     namespace::clean   any     0.27
#     strict             any     1.11
#     warnings           any     1.37
# 
# === Runtime Suggests ===
# 
#     Module         Want    Have
#     -------------- ---- -------
#     File::Path      any 2.12_01
#     File::ShareDir  any   1.116
#     File::Spec      any    3.67
#     XML::LibXML     any  2.0132
# 
t/00-report-prereqs.t .. ok
t/01-accessors.t ....... ok
t/10-request.t ......... ok
t/20-response.t ........ ok
t/21-paged-response.t .. ok
All tests successful.
Files=6, Tests=45,  4 wallclock secs ( 0.04 usr  0.02 sys +  2.51 cusr  0.94 csys =  3.52 CPU)
Result: PASS

------------------------------
PREREQUISITES
------------------------------

Prerequisite modules loaded:

requires:

    Module                  Need  Have    
    ----------------------- ----- --------
    Carp                    0     1.42    
    Clone                   0     0.39    
    Exporter                0     5.72    
    HTTP::AnyUA             0     0.901   
    HTTP::AnyUA::Util       0     0.901   
    JSON::MaybeXS           0     1.004000
    MIME::Base64            0     3.15    
    Module::Load            0     0.32    
    Moo                     0     2.003004
    namespace::clean        0     0.27    
    perl                    5.006 5.026001
    Scalar::Util            0     1.50    
    strict                  0     1.11    
    Types::Standard         0     1.004002
    warnings                0     1.37    

build_requires:

    Module                  Need  Have    
    ----------------------- ----- --------
    ExtUtils::MakeMaker     0     7.34    
    File::Spec              0     3.67    
    HTTP::AnyUA::Backend    0     0.901   
    IO::Handle              0     1.36    
    IPC::Open3              0     1.20    
    lib                     0     0.64    
    parent                  0     0.236   
    Test::Deep              0     1.128   
    Test::More              0     1.302140

configure_requires:

    Module                  Need  Have    
    ----------------------- ----- --------
    ExtUtils::MakeMaker     0     7.34    
    File::ShareDir::Install 0.06  0.13    


------------------------------
ENVIRONMENT AND OTHER CONTEXT
------------------------------

Environment variables:

    AUTOMATED_TESTING = 1
    LC_COLLATE = en.UTF-8
    LC_CTYPE = en.UTF-8
    LC_MESSAGES = en.UTF-8
    LC_MONETARY = en.UTF-8
    LC_NUMERIC = en.UTF-8
    LC_TIME = en.UTF-8
    LC_TYPE = en_US.UTF-8
    PATH = /boot/home/perl5/bin:.:/boot/home/config/non-packaged/bin:/boot/home/config/bin:/boot/system/non-packaged/bin:/bin:/boot/system/apps:/boot/system/preferences
    PERL5LIB = /boot/home/perl5/lib/perl5
    PERL5OPT = 
    PERL5_CPANPLUS_IS_RUNNING = 242461
    PERL5_CPAN_IS_RUNNING = 242461
    PERL5_CPAN_IS_RUNNING_IN_RECURSION = 112866,242461
    PERL_CR_SMOKER_CURRENT = WebService-BitbucketServer-0.605
    PERL_EXTUTILS_AUTOINSTALL = --defaultdeps
    PERL_LOCAL_LIB_ROOT = /boot/home/perl5
    PERL_MB_OPT = --install_base "/boot/home/perl5"
    PERL_MM_OPT = INSTALL_BASE=/boot/home/perl5
    PERL_MM_USE_DEFAULT = 1
    PERL_USE_UNSAFE_INC = 1
    TERM = xterm

Perl special variables (and OS-specific diagnostics, for MSWin32):

    $^X = /packages/perl-5.26.1-2/.self/bin/perl
    $UID/$EUID = 0 / 0
    $GID = 0 101 0
    $EGID = 0 101 0

Perl module toolchain versions installed:

    Module              Have    
    ------------------- --------
    CPAN                2.18    
    CPAN::Meta          2.150010
    Cwd                 3.67    
    ExtUtils::CBuilder  0.280225
    ExtUtils::Command   7.34    
    ExtUtils::Install   2.06    
    ExtUtils::MakeMaker 7.34    
    ExtUtils::Manifest  1.70    
    ExtUtils::ParseXS   3.34    
    File::Spec          3.67    
    JSON                2.97001 
    JSON::PP            2.97001 
    Module::Build       0.4224  
    Module::Signature   n/a     
    Parse::CPAN::Meta   2.150010
    Test::Harness       3.38    
    Test::More          1.302140
    YAML                1.26    
    YAML::Syck          1.30    
    version             0.9917  


--

Summary of my perl5 (revision 5 version 26 subversion 1) configuration:
  Derived from: 
  Platform:
    osname=haiku
    osvers=1
    archname=x86_64-haiku
    uname='haiku shredder 1 hrev51655 dec 4 2017 12:44:17 x86_64 x86_64 haiku '
    config_args='-Dprefix=/packages/perl-5.26.1-2/.self -Dprivlib=/packages/perl-5.26.1-2/.self/lib/perl5/5.26.1 -Dsiteprefix=/packages/perl-5.26.1-2/.self/non-packaged -Dsitelib=/packages/perl-5.26.1-2/.self/non-packaged/lib/perl5/site_perl/5.26 -Dvendorprefix=/packages/perl-5.26.1-2/.self -Dvendorlib=/packages/perl-5.26.1-2/.self/lib/perl5/vendor_perl/5.26 -Dcf_email=zooey@hirschkaefer.de -Uusenm -Duseshrplib -Uusemymalloc -Dlibpth=/boot/home/config/develop/lib /boot/system/develop/lib -Dusrinc=/boot/system/develop/headers/posix -Dlocinc=/boot/home/config/develop/headers /boot/system/develop/headers -Dlibc='/boot/system/lib/libroot.so' -Dlibs=-lnetwork -Dcc=gcc -Dld=gcc -Ud_link -Ddont_use_nlink -Ud_syserrlst -Dldlibpthname=LIBRARY_PATH -Dstartperl=#! perl -Dccdlflags=-Wl,-fno-stack-protector,-rpath=/packages/perl-5.26.1-2/.self/lib/perl5/5.26.1/x86_64-haiku/CORE -Dusesitecustomize -de'
    hint=recommended
    useposix=true
    d_sigaction=define
    useithreads=undef
    usemultiplicity=undef
    use64bitint=define
    use64bitall=define
    uselongdouble=undef
    usemymalloc=n
    default_inc_excludes_dot=define
    bincompat5005=undef
  Compiler:
    cc='gcc'
    ccflags ='-fwrapv -fno-strict-aliasing -pipe -D_FORTIFY_SOURCE=2'
    optimize='-O'
    cppflags='-fwrapv -fno-strict-aliasing -pipe'
    ccversion=''
    gccversion='5.4.0'
    gccosandvers=''
    intsize=4
    longsize=8
    ptrsize=8
    doublesize=8
    byteorder=12345678
    doublekind=3
    d_longlong=define
    longlongsize=8
    d_longdbl=define
    longdblsize=16
    longdblkind=3
    ivtype='long'
    ivsize=8
    nvtype='double'
    nvsize=8
    Off_t='off_t'
    lseeksize=8
    alignbytes=8
    prototype=define
  Linker and Libraries:
    ld='gcc'
    ldflags =''
    libpth=/boot/home/config/develop/lib /boot/system/develop/lib /boot/system/develop/tools/bin/../lib/gcc/x86_64-unknown-haiku/5.4.0/include-fixed
    libs=-lnetwork
    perllibs=-lnetwork
    libc=/boot/system/lib/libroot.so
    so=so
    useshrplib=true
    libperl=libperl.so
    gnulibc_version=''
  Dynamic Linking:
    dlsrc=dl_dlopen.xs
    dlext=so
    d_dlsymun=undef
    ccdlflags='-Wl,-fno-stack-protector,-rpath=/packages/perl-5.26.1-2/.self/lib/perl5/5.26.1/x86_64-haiku/CORE -Wl,-rpath,/packages/perl-5.26.1-2/.self/lib/perl5/5.26.1/x86_64-haiku/CORE'
    cccdlflags='-fpic'
    lddlflags='-shared'


Characteristics of this binary (from libperl): 
  Compile-time options:
    HAS_TIMES
    PERLIO_LAYERS
    PERL_COPY_ON_WRITE
    PERL_DONT_CREATE_GVSV
    PERL_OP_PARENT
    PERL_PRESERVE_IVUV
    USE_64_BIT_ALL
    USE_64_BIT_INT
    USE_LARGE_FILES
    USE_LOCALE
    USE_LOCALE_COLLATE
    USE_LOCALE_CTYPE
    USE_LOCALE_NUMERIC
    USE_LOCALE_TIME
    USE_PERLIO
    USE_PERL_ATOF
    USE_SITECUSTOMIZE
  Locally applied patches:
    uncommitted-changes
  Built under haiku
  Compiled at Mar 14 2018 20:50:46
  %ENV:
    PERL5LIB="/boot/home/perl5/lib/perl5"
    PERL5OPT=""
    PERL5_CPANPLUS_IS_RUNNING="242461"
    PERL5_CPAN_IS_RUNNING="242461"
    PERL5_CPAN_IS_RUNNING_IN_RECURSION="112866,242461"
    PERL_CR_SMOKER_CURRENT="WebService-BitbucketServer-0.605"
    PERL_EXTUTILS_AUTOINSTALL="--defaultdeps"
    PERL_LOCAL_LIB_ROOT="/boot/home/perl5"
    PERL_MB_OPT="--install_base "/boot/home/perl5""
    PERL_MM_OPT="INSTALL_BASE=/boot/home/perl5"
    PERL_MM_USE_DEFAULT="1"
    PERL_USE_UNSAFE_INC="1"
  @INC:
    /boot/home/perl5/lib/perl5/5.26.1/x86_64-haiku
    /boot/home/perl5/lib/perl5/5.26.1
    /boot/home/perl5/lib/perl5/x86_64-haiku
    /boot/home/perl5/lib/perl5
    /packages/perl-5.26.1-2/.self/non-packaged/lib/perl5/site_perl/5.26/x86_64-haiku
    /packages/perl-5.26.1-2/.self/non-packaged/lib/perl5/site_perl/5.26
    /packages/perl-5.26.1-2/.self/lib/perl5/vendor_perl/5.26/x86_64-haiku
    /packages/perl-5.26.1-2/.self/lib/perl5/vendor_perl/5.26
    /packages/perl-5.26.1-2/.self/lib/perl5/5.26.1/x86_64-haiku
    /packages/perl-5.26.1-2/.self/lib/perl5/5.26.1
    .