Report for Math-Complex-1.57

Back
From: metabase:user:322078bc-2aae-11df-837a-5e0a49663a4f
Subject: PASS Math-Complex-1.57 v5.8.8 FreeBSD
Date: 2011-05-05T11:39:38Z

This distribution has been tested as part of the CPAN Testers
project, supporting the Perl programming language.  See
http://wiki.cpantesters.org/ for more information or email
questions to cpan-testers-discuss@perl.org


--

Dear Andrew Main (Zefram),
    
This is a computer-generated error report created automatically by
CPANPLUS, version 0.9010. Testers personal comments may appear 
at the end of this report.

MAKE TEST passed: PERL_DL_NONLAZY=1 /usr/bin/perl "-MExtUtils::Command::MM" "-e" "test_harness(0, 'blib/lib', 'blib/arch')" t/*.t
t/Complex.t ....... ok
t/pod-coverage.t .. ok
t/pod.t ........... ok
t/Trig.t .......... ok
t/underbar.t ...... ok
All tests successful.
Files=5, Tests=1235,  4 wallclock secs ( 0.70 usr  0.10 sys +  2.51 cusr  0.13 csys =  3.44 CPU)
Result: PASS

[MSG] [Thu May  5 12:35:59 2011] Sending test report for 'Math-Complex-1.57'

This report was machine-generated by CPANPLUS::Dist::YACSmoke 0.58.

------------------------------
ENVIRONMENT AND OTHER CONTEXT
------------------------------

Environment variables:

    AUTOMATED_TESTING = 1
    PATH = /sbin:/bin:/usr/sbin:/usr/bin:/usr/games:/usr/local/sbin:/usr/local/bin:/usr/X11R6/bin:/root/bin
    PERL5LIB = :/root/.cpanplus/5.8.8/build/Math-Complex-1.57/blib/lib:/root/.cpanplus/5.8.8/build/Math-Complex-1.57/blib/arch
    PERL5_CPANIDX_URL = http://cpan.mirror.local/cpanidx/
    PERL5_CPANPLUS_IS_RUNNING = 60595
    PERL5_CPANPLUS_IS_VERSION = 0.9010
    PERL_EXTUTILS_AUTOINSTALL = --defaultdeps
    PERL_MM_USE_DEFAULT = 1
    SHELL = /bin/csh
    TERM = xterm

Perl special variables (and OS-specific diagnostics, for MSWin32):

    Perl: $^X = perl
    UID:  $<  = 0
    EUID: $>  = 0
    GID:  $(  = 0 5 0 0
    EGID: $)  = 0 5 0 0


-------------------------------


--

Summary of my perl5 (revision 5 version 8 subversion 8) configuration:
  Platform:
    osname=freebsd, osvers=6.2-release, archname=i386-freebsd-64int
    uname='freebsd freebsd.org 6.2-release freebsd 6.2-release #0: sat oct 14 21:57:31 pdt 2006 kris@freebsd.org:usrsrcsysmagickernelpath i386 '
    config_args='-sde -Dprefix=/usr/local -Darchlib=/usr/local/lib/perl5/5.8.8/mach -Dprivlib=/usr/local/lib/perl5/5.8.8 -Dman3dir=/usr/local/lib/perl5/5.8.8/perl/man/man3 -Dman1dir=/usr/local/man/man1 -Dsitearch=/usr/local/lib/perl5/site_perl/5.8.8/mach -Dsitelib=/usr/local/lib/perl5/site_perl/5.8.8 -Dscriptdir=/usr/local/bin -Dsiteman3dir=/usr/local/lib/perl5/5.8.8/man/man3 -Dsiteman1dir=/usr/local/man/man1 -Ui_malloc -Ui_iconv -Uinstallusrbinperl -Dcc=cc -Duseshrplib -Dccflags=-DAPPLLIB_EXP="/usr/local/lib/perl5/5.8.8/BSDPAN" -Doptimize=-O2 -fno-strict-aliasing -pipe  -Ud_dosuid -Ui_gdbm -Dusethreads=n -Dusemymalloc=y -Duse64bitint'
    hint=recommended, useposix=true, d_sigaction=define
    usethreads=undef use5005threads=undef useithreads=undef usemultiplicity=undef
    useperlio=define d_sfio=undef uselargefiles=define usesocks=undef
    use64bitint=define use64bitall=undef uselongdouble=undef
    usemymalloc=y, bincompat5005=undef
  Compiler:
    cc='cc', ccflags ='-DAPPLLIB_EXP="/usr/local/lib/perl5/5.8.8/BSDPAN" -DHAS_FPSETMASK -DHAS_FLOATINGPOINT_H -fno-strict-aliasing -pipe -Wdeclaration-after-statement -I/usr/local/include',
    optimize='-O2 -fno-strict-aliasing -pipe ',
    cppflags='-DAPPLLIB_EXP="/usr/local/lib/perl5/5.8.8/BSDPAN" -DHAS_FPSETMASK -DHAS_FLOATINGPOINT_H -fno-strict-aliasing -pipe -Wdeclaration-after-statement -I/usr/local/include'
    ccversion='', gccversion='3.4.6 [FreeBSD] 20060305', gccosandvers=''
    intsize=4, longsize=4, ptrsize=4, doublesize=8, byteorder=12345678
    d_longlong=define, longlongsize=8, d_longdbl=define, longdblsize=12
    ivtype='long long', ivsize=8, nvtype='double', nvsize=8, Off_t='off_t', lseeksize=8
    alignbytes=4, prototype=define
  Linker and Libraries:
    ld='cc', ldflags =' -Wl,-E -L/usr/local/lib'
    libpth=/usr/lib /usr/local/lib
    libs=-lm -lcrypt -lutil
    perllibs=-lm -lcrypt -lutil
    libc=, so=so, useshrplib=true, libperl=libperl.so
    gnulibc_version=''
  Dynamic Linking:
    dlsrc=dl_dlopen.xs, dlext=so, d_dlsymun=undef, ccdlflags='  -Wl,-R/usr/local/lib/perl5/5.8.8/mach/CORE'
    cccdlflags='-DPIC -fPIC', lddlflags='-shared  -L/usr/local/lib'


Characteristics of this binary (from libperl): 
  Compile-time options: MYMALLOC PERL_MALLOC_WRAP USE_64_BIT_INT
                        USE_LARGE_FILES USE_PERLIO
  Locally applied patches:
	defined-or
  Built under freebsd
  Compiled at Oct 15 2006 05:04:59
  %ENV:
    PERL5LIB=":/root/.cpanplus/5.8.8/build/Math-Complex-1.57/blib/lib:/root/.cpanplus/5.8.8/build/Math-Complex-1.57/blib/arch"
    PERL5_CPANIDX_URL="http://cpan.mirror.local/cpanidx/"
    PERL5_CPANPLUS_IS_RUNNING="60595"
    PERL5_CPANPLUS_IS_VERSION="0.9010"
    PERL_EXTUTILS_AUTOINSTALL="--defaultdeps"
    PERL_MM_USE_DEFAULT="1"
  @INC:
    /root/.cpanplus/5.8.8/build/Math-Complex-1.57/blib/lib
    /root/.cpanplus/5.8.8/build/Math-Complex-1.57/blib/arch
    /usr/local/lib/perl5/5.8.8/BSDPAN
    /usr/local/lib/perl5/site_perl/5.8.8/mach
    /usr/local/lib/perl5/site_perl/5.8.8
    /usr/local/lib/perl5/site_perl
    /usr/local/lib/perl5/5.8.8/mach
    /usr/local/lib/perl5/5.8.8
    .