Report for Dist-Zilla-Plugin-Test-Legal-0.02

Back
From: metabase:user:a0e144f2-373b-11e6-8edd-c6848980b093
Subject: PASS Dist-Zilla-Plugin-Test-Legal-0.02 v5.25.6 GNU/Linux
Date: 2016-11-08T09:25:58Z

This distribution has been tested as part of the CPAN Testers
project, supporting the Perl programming language.  See
http://wiki.cpantesters.org/ for more information or email
questions to cpan-testers-discuss@perl.org


--
Dear Alan Young,

This is a computer-generated report for Dist-Zilla-Plugin-Test-Legal-0.02
on perl 5.25.6, created by CPAN-Reporter-1.2018.

Thank you for uploading your work to CPAN.  Congratulations!
All tests were successful.

Sections of this report:

    * Tester comments
    * Program output
    * Prerequisites
    * Environment and other context

------------------------------
TESTER COMMENTS
------------------------------

Additional comments from tester:

this report is from an automated smoke testing program
and was not reviewed by a human for accuracy

------------------------------
PROGRAM OUTPUT
------------------------------

Output from './Build test':

t/00-check-deps.t ................................... ok
t/00-compile/lib_Dist_Zilla_Plugin_Test_Legal_pm.t .. ok
t/00-compile.t ...................................... ok
# Testing with Perl 5.025006, /home/cpan2/install/bin/perl
#     Carp version is 1.38
#     Dist::Zilla::Plugin::InlineFiles version is 6.008
t/00-load.t ......................................... ok
# 
# Versions for all modules listed in MYMETA.json (including optional ones):
# 
# === Configure Requires ===
# 
#     Module                   Want   Have
#     ---------------------- ------ ------
#     Module::Build          0.4208 0.4220
#     Module::Build::Version    any   0.87
# 
# === Build Requires ===
# 
#     Module          Want   Have
#     ------------- ------ ------
#     Module::Build 0.4208 0.4220
# 
# === Test Requires ===
# 
#     Module                   Want     Have
#     ----------------------- ----- --------
#     Carp                      any     1.38
#     ExtUtils::MakeMaker       any     7.24
#     File::Spec                any     3.62
#     IO::Handle                any     1.35
#     IPC::Open3                any     1.20
#     Scalar::Util              any     1.46
#     Test::CPAN::Meta::JSON    any     0.16
#     Test::CheckDeps         0.010    0.010
#     Test::CheckManifest       any     1.29
#     Test::ConsistentVersion   any    0.3.0
#     Test::DistManifest        any    1.014
#     Test::HasVersion          any    0.014
#     Test::MinimumVersion      any 0.101082
#     Test::More               0.94 1.302059
#     Test::NoSmartComments     any    0.005
#     Test::Perl::Critic        any     1.03
#     Test::Pod::Content        any    0.0.6
#     Test::UseAllModules       any     0.17
#     Test::Version             any     2.05
# 
# === Test Recommends ===
# 
#     Module         Want     Have
#     ---------- -------- --------
#     CPAN::Meta 2.120900 2.150010
# 
# === Runtime Requires ===
# 
#     Module                           Want   Have
#     -------------------------------- ---- ------
#     Dist::Zilla::Plugin::InlineFiles  any  6.008
#     Moose                             any 2.1900
#     namespace::autoclean              any   0.28
#     strict                            any   1.11
#     warnings                          any   1.37
# 
t/00-report-prereqs.t ............................... ok
#     ExtUtils::MakeMaker version is 7.24
#     File::Spec version is 3.62
#     IO::Handle version is 1.35
#     IPC::Open3 version is 1.20
#     Module::Build version is 0.422
#     Module::Build::Version version is 0.87
#     Moose version is 2.1900
#     Scalar::Util version is 1.46
#     Test::CPAN::Meta::JSON version is 0.16
#     Test::CheckDeps version is 0.010
#     Test::CheckManifest version is 1.29
#     Test::ConsistentVersion version is 0.3.0
#     Test::DistManifest version is 1.014
#     Test::HasVersion version is 0.014
#     Test::MinimumVersion version is 0.101082
#     Test::More version is 1.302059
#     Test::NoSmartComments version is 0.005
#     Test::Perl::Critic version is 1.03
#     Test::Pod::Content version is 0.0.6
#     Test::UseAllModules version is 0.17
#     Test::Version version is 2.05
#     namespace::autoclean version is 0.28
#     strict version is 1.11
#     warnings version is 1.37
t/000-report-versions.t ............................. ok
All tests successful.
Files=6, Tests=58,  2 wallclock secs ( 0.04 usr  0.01 sys +  4.09 cusr  0.19 csys =  4.33 CPU)
Result: PASS

------------------------------
PREREQUISITES
------------------------------

Prerequisite modules loaded:

requires:

    Module                           Need   Have    
    -------------------------------- ------ --------
    Dist::Zilla::Plugin::InlineFiles 0      6.008   
    Moose                            0      2.1900  
    namespace::autoclean             0      0.28    
    perl                             5.006  5.025006
    strict                           0      1.11    
    warnings                         0      1.37    

build_requires:

    Module                           Need   Have    
    -------------------------------- ------ --------
    Carp                             0      1.38    
    ExtUtils::MakeMaker              0      7.24    
    File::Spec                       0      3.62    
    IO::Handle                       0      1.35    
    IPC::Open3                       0      1.20    
    Module::Build                    0.4208 0.4220  
    Scalar::Util                     0      1.46    
    Test::CheckDeps                  0.010  0.010   
    Test::CheckManifest              0      1.29    
    Test::ConsistentVersion          0      0.3.0   
    Test::CPAN::Meta::JSON           0      0.16    
    Test::DistManifest               0      1.014   
    Test::HasVersion                 0      0.014   
    Test::MinimumVersion             0      0.101082
    Test::More                       0.94   1.302059
    Test::NoSmartComments            0      0.005   
    Test::Perl::Critic               0      1.03    
    Test::Pod::Content               0      0.0.6   
    Test::UseAllModules              0      0.17    
    Test::Version                    0      2.05    

configure_requires:

    Module                           Need   Have    
    -------------------------------- ------ --------
    Module::Build                    0.4208 0.4220  
    Module::Build::Version           0      0.87    


------------------------------
ENVIRONMENT AND OTHER CONTEXT
------------------------------

Environment variables:

    AUTOMATED_TESTING = 1
    HARNESS_OPTIONS = j3
    LANG = en_US.UTF-8
    PATH = /usr/local/bin:/usr/bin:/bin:/usr/local/games:/usr/games
    PERL5LIB = 
    PERL5OPT = 
    PERL5_CPANPLUS_IS_RUNNING = 12059
    PERL5_CPAN_IS_RUNNING = 12059
    PERL5_CPAN_IS_RUNNING_IN_RECURSION = 20451,12059
    PERLBREW_BASHRC_VERSION = 0.76
    PERLBREW_HOME = /home/dcollins/.perlbrew
    PERLBREW_ROOT = /home/dcollins/toolchain/perl5
    PERL_CR_SMOKER_CURRENT = Dist-Zilla-Plugin-Test-Legal-0.02
    PERL_CR_SMOKER_RUNONCE = 1
    PERL_EXTUTILS_AUTOINSTALL = --defaultdeps
    PERL_MM_USE_DEFAULT = 1
    SHELL = /bin/bash
    TERM = putty

Perl special variables (and OS-specific diagnostics, for MSWin32):

    $^X = /home/cpan2/install/bin/perl
    $UID/$EUID = 1003 / 1003
    $GID = 1003 1003
    $EGID = 1003 1003

Perl module toolchain versions installed:

    Module              Have    
    ------------------- --------
    CPAN                2.14    
    CPAN::Meta          2.150010
    Cwd                 3.62    
    ExtUtils::CBuilder  0.280224
    ExtUtils::Command   7.24    
    ExtUtils::Install   2.04    
    ExtUtils::MakeMaker 7.24    
    ExtUtils::Manifest  1.70    
    ExtUtils::ParseXS   3.30    
    File::Spec          3.62    
    JSON                2.90    
    JSON::PP            2.27400 
    Module::Build       0.4220  
    Module::Signature   0.81    
    Parse::CPAN::Meta   2.150010
    Test::Harness       3.36    
    Test::More          1.302059
    YAML                1.18    
    YAML::Syck          1.29    
    version             0.9917  


--

Summary of my perl5 (revision 5 version 25 subversion 6) configuration:
  Commit id: 4eadd82f8c152034818f42956737102f674f9118
  Platform:
    osname=linux
    osvers=3.16.0-4-amd64
    archname=x86_64-linux-thread-multi
    uname='linux digitalis 3.16.0-4-amd64 #1 smp debian 3.16.36-1+deb8u1 (2016-09-03) x86_64 gnulinux '
    config_args='-Dusedevel -DDEBUGGING -Dusethreads -Dprefix=/home/cpan2/install -Uversiononly -des'
    hint=recommended
    useposix=true
    d_sigaction=define
    useithreads=define
    usemultiplicity=define
    use64bitint=define
    use64bitall=define
    uselongdouble=undef
    usemymalloc=n
    bincompat5005=undef
  Compiler:
    cc='cc'
    ccflags ='-D_REENTRANT -D_GNU_SOURCE -fwrapv -DDEBUGGING -fno-strict-aliasing -pipe -fstack-protector-strong -I/usr/local/include -D_LARGEFILE_SOURCE -D_FILE_OFFSET_BITS=64 -D_FORTIFY_SOURCE=2'
    optimize='-O2 -g'
    cppflags='-D_REENTRANT -D_GNU_SOURCE -fwrapv -DDEBUGGING -fno-strict-aliasing -pipe -fstack-protector-strong -I/usr/local/include'
    ccversion=''
    gccversion='4.9.2'
    gccosandvers=''
    intsize=4
    longsize=8
    ptrsize=8
    doublesize=8
    byteorder=12345678
    doublekind=3
    d_longlong=define
    longlongsize=8
    d_longdbl=define
    longdblsize=16
    longdblkind=3
    ivtype='long'
    ivsize=8
    nvtype='double'
    nvsize=8
    Off_t='off_t'
    lseeksize=8
    alignbytes=8
    prototype=define
  Linker and Libraries:
    ld='cc'
    ldflags =' -fstack-protector-strong -L/usr/local/lib'
    libpth=/usr/local/lib /usr/lib/gcc/x86_64-linux-gnu/4.9/include-fixed /usr/include/x86_64-linux-gnu /usr/lib /lib/x86_64-linux-gnu /lib/../lib /usr/lib/x86_64-linux-gnu /usr/lib/../lib /lib
    libs=-lpthread -lnsl -ldl -lm -lcrypt -lutil -lc
    perllibs=-lpthread -lnsl -ldl -lm -lcrypt -lutil -lc
    libc=libc-2.19.so
    so=so
    useshrplib=false
    libperl=libperl.a
    gnulibc_version='2.19'
  Dynamic Linking:
    dlsrc=dl_dlopen.xs
    dlext=so
    d_dlsymun=undef
    ccdlflags='-Wl,-E'
    cccdlflags='-fPIC'
    lddlflags='-shared -O2 -g -L/usr/local/lib -fstack-protector-strong'


Characteristics of this binary (from libperl): 
  Compile-time options:
    DEBUGGING
    HAS_TIMES
    MULTIPLICITY
    PERLIO_LAYERS
    PERL_COPY_ON_WRITE
    PERL_DONT_CREATE_GVSV
    PERL_HASH_FUNC_ONE_AT_A_TIME_HARD
    PERL_IMPLICIT_CONTEXT
    PERL_MALLOC_WRAP
    PERL_OP_PARENT
    PERL_PRESERVE_IVUV
    PERL_TRACK_MEMPOOL
    PERL_USE_DEVEL
    USE_64_BIT_ALL
    USE_64_BIT_INT
    USE_ITHREADS
    USE_LARGE_FILES
    USE_LOCALE
    USE_LOCALE_COLLATE
    USE_LOCALE_CTYPE
    USE_LOCALE_NUMERIC
    USE_LOCALE_TIME
    USE_PERLIO
    USE_PERL_ATOF
    USE_REENTRANT_API
  Built under linux
  Compiled at Oct 17 2016 18:50:03
  %ENV:
    PERL5LIB=""
    PERL5OPT=""
    PERL5_CPANPLUS_IS_RUNNING="12059"
    PERL5_CPAN_IS_RUNNING="12059"
    PERL5_CPAN_IS_RUNNING_IN_RECURSION="20451,12059"
    PERLBREW_BASHRC_VERSION="0.76"
    PERLBREW_HOME="/home/dcollins/.perlbrew"
    PERLBREW_ROOT="/home/dcollins/toolchain/perl5"
    PERL_CR_SMOKER_CURRENT="Dist-Zilla-Plugin-Test-Legal-0.02"
    PERL_CR_SMOKER_RUNONCE="1"
    PERL_EXTUTILS_AUTOINSTALL="--defaultdeps"
    PERL_MM_USE_DEFAULT="1"
  @INC:
    /home/cpan2/install/lib/perl5/site_perl/5.25.6/x86_64-linux-thread-multi
    /home/cpan2/install/lib/perl5/site_perl/5.25.6
    /home/cpan2/install/lib/perl5/5.25.6/x86_64-linux-thread-multi
    /home/cpan2/install/lib/perl5/5.25.6
    .