Report for Catalyst-Controller-FormBuilder-0.06

Back
From: metabase:user:31d414ea-2aae-11df-837a-5e0a49663a4f
Subject: PASS Catalyst-Controller-FormBuilder-0.06 v5.10.1 Mac OS X
Date: 2011-01-27T14:47:26Z

This distribution has been tested as part of the CPAN Testers
project, supporting the Perl programming language.  See
http://wiki.cpantesters.org/ for more information or email
questions to cpan-testers-discuss@perl.org


--
Dear Matt S Trout,

This is a computer-generated report for Catalyst-Controller-FormBuilder-0.06
on perl 5.10.1, created by CPAN-Reporter-1.1711.

Thank you for uploading your work to CPAN.  Congratulations!
All tests were successful.

Sections of this report:

    * Tester comments
    * Program output
    * Prerequisites
    * Environment and other context

------------------------------
TESTER COMMENTS
------------------------------

Additional comments from tester:

this report is from an automated smoke testing program
and was not reviewed by a human for accuracy

------------------------------
PROGRAM OUTPUT
------------------------------

Output from 'make test':

PERL_DL_NONLAZY=1 /Users/david/cpantesting/perl-5.10.1/bin/perl "-MExtUtils::Command::MM" "-e" "test_harness(0, 'inc', 'blib/lib', 'blib/arch')" t/00-load.t t/01-basic.t t/02-edit.t t/03-attr_param.t
# Testing Catalyst::Controller::FormBuilder 0.06
t/00-load.t ........ ok
Use of uninitialized value in length at /Users/david/cpantesting/perl-5.10.1/.cpan/build/Catalyst-Controller-FormBuilder-0.06-HC1Ytg/t/lib/TestApp/Controller/Base.pm line 31.
t/01-basic.t ....... ok
Use of uninitialized value in length at /Users/david/cpantesting/perl-5.10.1/.cpan/build/Catalyst-Controller-FormBuilder-0.06-HC1Ytg/t/lib/TestApp/Controller/Base.pm line 31.
Use of uninitialized value in length at /Users/david/cpantesting/perl-5.10.1/.cpan/build/Catalyst-Controller-FormBuilder-0.06-HC1Ytg/t/lib/TestApp/Controller/Base.pm line 31.
t/02-edit.t ........ ok
Use of uninitialized value in length at /Users/david/cpantesting/perl-5.10.1/.cpan/build/Catalyst-Controller-FormBuilder-0.06-HC1Ytg/t/lib/TestApp/Controller/Base.pm line 31.
t/03-attr_param.t .. ok
All tests successful.
Files=4, Tests=16,  8 wallclock secs ( 0.05 usr  0.02 sys +  5.72 cusr  0.70 csys =  6.49 CPU)
Result: PASS

------------------------------
PREREQUISITES
------------------------------

Prerequisite modules loaded:

requires:

    Module                         Need Have   
    ------------------------------ ---- -------
    Catalyst::Runtime              5.7  5.80030
    CGI::FormBuilder               3.02 3.0501 
    Class::Data::Inheritable       0.04 0.08   
    Class::Inspector               1.13 1.25   
    ExtUtils::MakeMaker            6.42 6.56   
    MRO::Compat                    0.09 0.11   
    Scalar::Util                   1.19 1.21   
    Test::WWW::Mechanize::Catalyst 0.37 0.53   
    Tie::IxHash                    1.21 1.22   

configure_requires:

    Module                         Need Have   
    ------------------------------ ---- -------
    ExtUtils::MakeMaker            6.42 6.56   


------------------------------
ENVIRONMENT AND OTHER CONTEXT
------------------------------

Environment variables:

    AUTOMATED_TESTING = 1
    PATH = /sw/bin:/sw/sbin:/usr/local/bin:/bin:/sbin:/usr/bin:/usr/sbin:/usr/X11R6/bin
    PERL5LIB = /sw/lib/perl5:/sw/lib/perl5/darwin
    PERL5OPT = 
    PERL5_CPANPLUS_IS_RUNNING = 12891
    PERL5_CPAN_IS_RUNNING = 12891
    PERLVER = 5.10.1
    SHELL = /bin/bash
    TERM = screen

Perl special variables (and OS-specific diagnostics, for MSWin32):

    $^X = /Users/david/cpantesting/perl-5.10.1/bin/perl
    $UID/$EUID = 501 / 501
    $GID = 501 501 81 79 80
    $EGID = 501 501 81 79 80

Perl module toolchain versions installed:

    Module              Have  
    ------------------- ------
    CPAN                1.9402
    Cwd                 3.33  
    ExtUtils::CBuilder  0.2703
    ExtUtils::Command   1.16  
    ExtUtils::Install   1.54  
    ExtUtils::MakeMaker 6.56  
    ExtUtils::Manifest  1.56  
    ExtUtils::ParseXS   2.2206
    File::Spec          3.33  
    Module::Build       0.3607
    Module::Signature   n/a   
    Test::Harness       3.17  
    Test::More          0.96  
    YAML                0.72  
    YAML::Syck          1.17  
    version             0.88  


--

Summary of my perl5 (revision 5 version 10 subversion 1) configuration:
   
  Platform:
    osname=darwin, osvers=8.11.1, archname=darwin-thread-multi-2level
    uname='darwin cowshed-door.barnyard.co.uk 8.11.1 darwin kernel version 8.11.1: wed oct 10 18:23:28 pdt 2007; root:xnu-792.25.20~1release_i386 i386 i386 '
    config_args='-de -Dprefix=/Users/david/cpantesting/perl-5.10.1 -Dusethreads'
    hint=recommended, useposix=true, d_sigaction=define
    useithreads=define, usemultiplicity=define
    useperlio=define, d_sfio=undef, uselargefiles=define, usesocks=undef
    use64bitint=undef, use64bitall=undef, uselongdouble=undef
    usemymalloc=n, bincompat5005=undef
  Compiler:
    cc='cc', ccflags ='-fno-common -DPERL_DARWIN -no-cpp-precomp -fno-strict-aliasing -pipe',
    optimize='-O3',
    cppflags='-no-cpp-precomp -fno-common -DPERL_DARWIN -no-cpp-precomp -fno-strict-aliasing -pipe'
    ccversion='', gccversion='4.0.1 (Apple Computer, Inc. build 5367)', gccosandvers=''
    intsize=4, longsize=4, ptrsize=4, doublesize=8, byteorder=1234
    d_longlong=define, longlongsize=8, d_longdbl=define, longdblsize=16
    ivtype='long', ivsize=4, nvtype='double', nvsize=8, Off_t='off_t', lseeksize=8
    alignbytes=8, prototype=define
  Linker and Libraries:
    ld='env MACOSX_DEPLOYMENT_TARGET=10.3 cc', ldflags =' -L/usr/local/lib'
    libpth=/usr/local/lib /usr/lib
    libs=-ldbm -ldl -lm -lc
    perllibs=-ldl -lm -lc
    libc=/usr/lib/libc.dylib, so=dylib, useshrplib=false, libperl=libperl.a
    gnulibc_version=''
  Dynamic Linking:
    dlsrc=dl_dlopen.xs, dlext=bundle, d_dlsymun=undef, ccdlflags=' '
    cccdlflags=' ', lddlflags=' -bundle -undefined dynamic_lookup -L/usr/local/lib'


Characteristics of this binary (from libperl): 
  Compile-time options: MULTIPLICITY PERL_DONT_CREATE_GVSV
                        PERL_IMPLICIT_CONTEXT PERL_MALLOC_WRAP USE_ITHREADS
                        USE_LARGE_FILES USE_PERLIO USE_REENTRANT_API
  Built under darwin
  Compiled at Sep  3 2009 20:05:15
  %ENV:
    PERL5LIB="/sw/lib/perl5:/sw/lib/perl5/darwin"
    PERL5OPT=""
    PERL5_CPANPLUS_IS_RUNNING="12891"
    PERL5_CPAN_IS_RUNNING="12891"
    PERLVER="5.10.1"
  @INC:
    /sw/lib/perl5
    /sw/lib/perl5/darwin
    /Users/david/cpantesting/perl-5.10.1/lib/5.10.1/darwin-thread-multi-2level
    /Users/david/cpantesting/perl-5.10.1/lib/5.10.1
    /Users/david/cpantesting/perl-5.10.1/lib/site_perl/5.10.1/darwin-thread-multi-2level
    /Users/david/cpantesting/perl-5.10.1/lib/site_perl/5.10.1
    .