Report for Jifty-DBI-0.78

Back
From: metabase:user:320bfe00-2aae-11df-837a-5e0a49663a4f
Subject: PASS Jifty-DBI-0.78 v5.22.1 GNU/Linux
Date: 2017-04-19T10:38:43Z

This distribution has been tested as part of the CPAN Testers
project, supporting the Perl programming language.  See
http://wiki.cpantesters.org/ for more information or email
questions to cpan-testers-discuss@perl.org


--
Dear Alex Vandiver,

This is a computer-generated report for Jifty-DBI-0.78
on perl 5.22.1, created by CPAN-Reporter-1.2018.

Thank you for uploading your work to CPAN.  Congratulations!
All tests were successful.

Sections of this report:

    * Tester comments
    * Program output
    * Prerequisites
    * Environment and other context

------------------------------
TESTER COMMENTS
------------------------------

Additional comments from tester:

this report is from an automated smoke testing program
and was not reviewed by a human for accuracy

------------------------------
PROGRAM OUTPUT
------------------------------

Output from '/usr/bin/make test':

PERL_DL_NONLAZY=1 "/home/sand/src/perl/repoperls/installed-perls/host/k93msid/v5.22.1/2d7c/bin/perl" "-MExtUtils::Command::MM" "-MTest::Harness" "-e" "undef *Test::Harness::Switches; test_harness(0, 'inc', 'blib/lib', 'blib/arch')" t/00.load.t t/01-version_checks.t t/01basics.t t/01records.t t/01searches.t t/02-column_constraints.t t/02records_cachable.t t/02records_object.t t/02searches_distinct_values.t t/02searches_joins.t t/03rebless.t t/03rename_column.t t/03rename_table.t t/04memcached.t t/05raw_value.t t/06filter.t t/06filter_base64.t t/06filter_boolean.t t/06filter_datetime.t t/06filter_duration.t t/06filter_salthash.t t/06filter_storable.t t/06filter_truncate.t t/06filter_utf8.t t/06filter_yaml.t t/10schema.t t/11schema_records.t t/12prefetch.t t/13collection.t t/14handle-pg.t t/15types.t t/16inheritance.t t/17virtualtypes.t t/18triggers.t t/19reference.t t/20overload.t t/99-pod-coverage.t t/99-pod-spelling.t t/99-pod.t t/99-tabs.t t/case_sensitivity.t t/metadata.t
t/00.load.t ..................... ok
t/01-version_checks.t ........... ok
t/01basics.t .................... ok
t/01records.t ................... ok
t/01searches.t .................. ok
t/02-column_constraints.t ....... ok
t/02records_cachable.t .......... ok
t/02records_object.t ............ ok
t/02searches_distinct_values.t .. ok
t/02searches_joins.t ............ ok
t/03rebless.t ................... ok
t/03rename_column.t ............. ok
t/03rename_table.t .............. ok
t/04memcached.t ................. ok
t/05raw_value.t ................. ok
t/06filter.t .................... ok
t/06filter_base64.t ............. ok
t/06filter_boolean.t ............ ok
t/06filter_datetime.t ........... ok
t/06filter_duration.t ........... ok
t/06filter_salthash.t ........... ok
t/06filter_storable.t ........... ok
t/06filter_truncate.t ........... ok
t/06filter_utf8.t ............... ok
t/06filter_yaml.t ............... ok
t/10schema.t .................... ok
t/11schema_records.t ............ ok
t/12prefetch.t .................. ok
t/13collection.t ................ ok
t/14handle-pg.t ................. ok
t/15types.t ..................... ok
t/16inheritance.t ............... ok
t/17virtualtypes.t .............. ok
t/18triggers.t .................. ok
t/19reference.t ................. ok
t/20overload.t .................. ok
t/99-pod-coverage.t ............. skipped: Coverage tests only run for authors
t/99-pod-spelling.t ............. skipped: Spelling tests only run for authors
t/99-pod.t ...................... skipped: Coverage tests only run for authors
t/99-tabs.t ..................... skipped: Tab tests only run for authors
t/case_sensitivity.t ............ ok
t/metadata.t .................... ok
All tests successful.
Files=42, Tests=2565, 20 wallclock secs ( 0.22 usr  0.22 sys +  6.87 cusr  1.36 csys =  8.67 CPU)
Result: PASS

------------------------------
PREREQUISITES
------------------------------

Prerequisite modules loaded:

requires:

    Module                     Need     Have    
    -------------------------- -------- --------
    Cache::Memcached           0        1.30    
    Cache::Simple::TimedExpiry 0.21     0.27    
    Class::Accessor::Fast      0        0.34    
    Class::Data::Inheritable   0        0.08    
    Class::ReturnValue         0.4      0.55    
    Class::Trigger             0.12     0.14    
    Clone                      0        0.39    
    Data::Page                 2.0      2.02    
    DateTime                   0.34     1.42    
    DateTime::Format::ISO8601  0        0.08    
    DateTime::Format::Strptime 0        1.73    
    DBD::SQLite                1.14     1.54    
    DBI                        0        1.636   
    DBIx::DBSchema             0.34     0.45    
    Encode                     2.1      2.72    
    Exporter::Lite             0        0.08    
    Hash::Merge                0        0.200   
    Lingua::EN::Inflect        0        1.901   
    Object::Declare            0.22     0.23    
    perl                       5.008003 5.022001
    Scalar::Defer              0.1      0.23    
    Test::More                 0.52     1.302083
    Test::Warn                 0.1      0.32    
    Time::Duration             0        1.20    
    Time::Duration::Parse      0.06     0.13    
    UNIVERSAL::require         0.11     0.18    
    URI                        0        1.71    
    version                    0        0.9909  
    YAML::Syck                 0        1.30_01 

build_requires:

    Module                     Need     Have    
    -------------------------- -------- --------
    DBD::SQLite                1.14     1.54    
    ExtUtils::MakeMaker        6.59     7.24    
    Test::More                 0.52     1.302083
    Test::Warn                 0.1      0.32    

configure_requires:

    Module                     Need     Have    
    -------------------------- -------- --------
    ExtUtils::MakeMaker        6.59     7.24    


------------------------------
ENVIRONMENT AND OTHER CONTEXT
------------------------------

Environment variables:

    AUTOMATED_TESTING = 1
    LANG = en_US.UTF-8
    PATH = /home/sand/bin:/usr/local/bin:/usr/bin:/bin:/usr/games:/usr/local/perl/bin:/usr/X11/bin:/sbin:/usr/sbin
    PERL5LIB = 
    PERL5OPT = 
    PERL5_CPANPLUS_IS_RUNNING = 6997
    PERL5_CPAN_IS_RUNNING = 6997
    PERL_CANARY_STABILITY_NOPROMPT = 1
    PERL_MM_USE_DEFAULT = 1
    PERL_USE_UNSAFE_INC = 1
    SHELL = /usr/bin/zsh
    TERM = screen

Perl special variables (and OS-specific diagnostics, for MSWin32):

    $^X = /home/sand/src/perl/repoperls/installed-perls/host/k93msid/v5.22.1/2d7c/bin/perl
    $UID/$EUID = 1005 / 1005
    $GID = 1005 1005
    $EGID = 1005 1005

Perl module toolchain versions installed:

    Module              Have    
    ------------------- --------
    CPAN                2.18    
    CPAN::Meta          2.150010
    Cwd                 3.62    
    ExtUtils::CBuilder  0.280224
    ExtUtils::Command   7.24    
    ExtUtils::Install   2.04    
    ExtUtils::MakeMaker 7.24    
    ExtUtils::Manifest  1.70    
    ExtUtils::ParseXS   3.28    
    File::Spec          3.62    
    JSON                2.90    
    JSON::PP            2.27300 
    Module::Build       0.4222  
    Module::Signature   0.81    
    Parse::CPAN::Meta   2.150010
    Test::Harness       3.39    
    Test::More          1.302083
    YAML                1.23    
    YAML::Syck          1.30_01 
    version             0.9909  


--

Summary of my perl5 (revision 5 version 22 subversion 1) configuration:
  Derived from: 0ab152a1d10861997fe3e1b985cc92f142f4cec7
  Platform:
    osname=linux, osvers=4.9.0-2-amd64, archname=x86_64-linux-ld
    uname='linux k93msid 4.9.0-2-amd64 #1 smp debian 4.9.18-1 (2017-03-30) x86_64 gnulinux '
    config_args='-Dprefix=/home/sand/src/perl/repoperls/installed-perls/host/k93msid/v5.22.1/2d7c -Dmyhostname=k93msid -Dinstallusrbinperl=n -Uversiononly -Dusedevel -des -Ui_db -Dlibswanted=cl pthread socket inet nsl gdbm dbm malloc dl ld sun m crypt sec util c cposix posix ucb BSD gdbm_compat -Uuseithreads -Duselongdouble -DDEBUGGING=-g'
    hint=recommended, useposix=true, d_sigaction=define
    useithreads=undef, usemultiplicity=undef
    use64bitint=define, use64bitall=define, uselongdouble=define
    usemymalloc=n, bincompat5005=undef
  Compiler:
    cc='cc', ccflags ='-fwrapv -fno-strict-aliasing -pipe -fstack-protector-strong -I/usr/local/include -D_LARGEFILE_SOURCE -D_FILE_OFFSET_BITS=64',
    optimize='-O2 -g',
    cppflags='-fwrapv -fno-strict-aliasing -pipe -fstack-protector-strong -I/usr/local/include'
    ccversion='', gccversion='6.3.0 20170406', gccosandvers=''
    intsize=4, longsize=8, ptrsize=8, doublesize=8, byteorder=12345678, doublekind=3
    d_longlong=define, longlongsize=8, d_longdbl=define, longdblsize=16, longdblkind=3
    ivtype='long', ivsize=8, nvtype='long double', nvsize=16, Off_t='off_t', lseeksize=8
    alignbytes=16, prototype=define
  Linker and Libraries:
    ld='cc', ldflags =' -fstack-protector-strong -L/usr/local/lib'
    libpth=/usr/local/lib /usr/lib/gcc/x86_64-linux-gnu/6/include-fixed /usr/include/x86_64-linux-gnu /usr/lib /lib/x86_64-linux-gnu /lib/../lib /usr/lib/x86_64-linux-gnu /usr/lib/../lib /lib
    libs=-lpthread -lnsl -ldl -lm -lcrypt -lutil -lc
    perllibs=-lpthread -lnsl -ldl -lm -lcrypt -lutil -lc
    libc=libc-2.24.so, so=so, useshrplib=false, libperl=libperl.a
    gnulibc_version='2.24'
  Dynamic Linking:
    dlsrc=dl_dlopen.xs, dlext=so, d_dlsymun=undef, ccdlflags='-Wl,-E'
    cccdlflags='-fPIC', lddlflags='-shared -O2 -g -L/usr/local/lib -fstack-protector-strong'


Characteristics of this binary (from libperl): 
  Compile-time options: HAS_TIMES PERLIO_LAYERS PERL_DONT_CREATE_GVSV
                        PERL_HASH_FUNC_ONE_AT_A_TIME_HARD PERL_MALLOC_WRAP
                        PERL_NEW_COPY_ON_WRITE PERL_PRESERVE_IVUV
                        PERL_USE_DEVEL USE_64_BIT_ALL USE_64_BIT_INT
                        USE_LARGE_FILES USE_LOCALE USE_LOCALE_COLLATE
                        USE_LOCALE_CTYPE USE_LOCALE_NUMERIC USE_LOCALE_TIME
                        USE_LONG_DOUBLE USE_PERLIO USE_PERL_ATOF
  Locally applied patches:
	uncommitted-changes
  Built under linux
  Compiled at Apr 17 2017 04:47:02
  %ENV:
    PERL5LIB=""
    PERL5OPT=""
    PERL5_CPANPLUS_IS_RUNNING="6997"
    PERL5_CPAN_IS_RUNNING="6997"
    PERL_CANARY_STABILITY_NOPROMPT="1"
    PERL_MM_USE_DEFAULT="1"
    PERL_USE_UNSAFE_INC="1"
  @INC:
    /home/sand/src/perl/repoperls/installed-perls/host/k93msid/v5.22.1/2d7c/lib/site_perl/5.22.1/x86_64-linux-ld
    /home/sand/src/perl/repoperls/installed-perls/host/k93msid/v5.22.1/2d7c/lib/site_perl/5.22.1
    /home/sand/src/perl/repoperls/installed-perls/host/k93msid/v5.22.1/2d7c/lib/5.22.1/x86_64-linux-ld
    /home/sand/src/perl/repoperls/installed-perls/host/k93msid/v5.22.1/2d7c/lib/5.22.1
    .