Report for Tree-1.09

Back
From: metabase:user:320bfe00-2aae-11df-837a-5e0a49663a4f
Subject: PASS Tree-1.09 v5.8.6 GNU/Linux
Date: 2016-09-14T08:29:32Z

This distribution has been tested as part of the CPAN Testers
project, supporting the Perl programming language.  See
http://wiki.cpantesters.org/ for more information or email
questions to cpan-testers-discuss@perl.org


--
Dear Ron Savage,

This is a computer-generated report for Tree-1.09
on perl 5.8.6, created by CPAN-Reporter-1.2018.

Thank you for uploading your work to CPAN.  Congratulations!
All tests were successful.

Sections of this report:

    * Tester comments
    * Program output
    * Prerequisites
    * Environment and other context

------------------------------
TESTER COMMENTS
------------------------------

Additional comments from tester:

this report is from an automated smoke testing program
and was not reviewed by a human for accuracy

------------------------------
PROGRAM OUTPUT
------------------------------

Output from '/usr/bin/make test':

PERL_DL_NONLAZY=1 "/home/sand/src/perl/repoperls/installed-perls/perl/perl-5.8.6/8942/bin/perl" "-MExtUtils::Command::MM" "-MTest::Harness" "-e" "undef *Test::Harness::Switches; test_harness(0, 'blib/lib', 'blib/arch')" t/*.t t/Tree_Binary/*.t t/Tree/*.t t/Tree_Fast/*.t
t/Tree/000_interface.t ............ ok
t/Tree/001_root_node.t ............ ok
t/Tree/002_null_object.t .......... ok
t/Tree/003_child_node.t ........... ok
t/Tree/004_multiple_children.t .... ok
t/Tree/005_multilevel_tree.t ...... ok
t/Tree/007_add_child.t ............ ok
t/Tree/008_weak_refs.t ............ ok
t/Tree/009_error_handling.t ....... ok
t/Tree/010_errors_addchild.t ...... ok
t/Tree/011_errors_removechild.t ... ok
t/Tree/012_height.t ............... ok
t/Tree/013_width.t ................ ok
t/Tree/014_clone.t ................ ok
t/Tree/015_traverse.t ............. ok
t/Tree/016_events.t ............... ok
t/Tree/017_traverse_scalar.t ...... ok
t/Tree_Binary/000_binary_trees.t .. ok
t/Tree_Binary/001_mirror.t ........ ok
t/Tree_Binary/002_clone.t ......... ok
t/Tree_Fast/001_clone.t ........... ok
All tests successful.
Files=21, Tests=874,  6 wallclock secs ( 0.11 usr  0.03 sys +  1.04 cusr  0.10 csys =  1.28 CPU)
Result: PASS

------------------------------
PREREQUISITES
------------------------------

Prerequisite modules loaded:

requires:

    Module              Need     Have    
    ------------------- -------- --------
    constant            0        1.04    
    Data::Dumper        2.161    2.161   
    Exporter            5.71     5.72    
    lib                 0        0.5565  
    overload            0        1.02    
    parent              0.234    0.234   
    perl                5.006    5.008006
    Scalar::Util        1.45     1.45_05 
    strict              0        1.03    
    warnings            0        1.03    

build_requires:

    Module              Need     Have    
    ------------------- -------- --------
    ExtUtils::MakeMaker 0        7.24    
    Test::Deep          1.123    1.123   
    Test::Exception     0.43     0.43    
    Test::More          1.302056 1.302056
    Test::Pod           1.51     1.51    
    Test::Pod::Coverage 1.1      1.10    
    Test::Warn          0.3      0.30    

configure_requires:

    Module              Need     Have    
    ------------------- -------- --------
    ExtUtils::MakeMaker 0        7.24    


------------------------------
ENVIRONMENT AND OTHER CONTEXT
------------------------------

Environment variables:

    AUTOMATED_TESTING = 1
    LANG = en_US.UTF-8
    LANGUAGE = en_US:en
    PATH = /home/sand/bin:/usr/local/bin:/usr/bin:/bin:/usr/games:/usr/local/perl/bin:/usr/X11/bin:/sbin:/usr/sbin
    PERL5LIB = 
    PERL5OPT = 
    PERL5_CPANPLUS_IS_RUNNING = 12127
    PERL5_CPAN_IS_RUNNING = 12127
    PERL_CANARY_STABILITY_NOPROMPT = 1
    PERL_MM_USE_DEFAULT = 1
    SHELL = /usr/bin/zsh
    TERM = screen

Perl special variables (and OS-specific diagnostics, for MSWin32):

    $^X = /home/sand/src/perl/repoperls/installed-perls/perl/perl-5.8.6/8942/bin/perl
    $UID/$EUID = 1005 / 1005
    $GID = 1005 1005
    $EGID = 1005 1005

Perl module toolchain versions installed:

    Module              Have    
    ------------------- --------
    CPAN                2.15    
    CPAN::Meta          2.150010
    Cwd                 3.62    
    ExtUtils::CBuilder  0.280224
    ExtUtils::Command   7.24    
    ExtUtils::Install   1.54    
    ExtUtils::MakeMaker 7.24    
    ExtUtils::Manifest  1.70    
    ExtUtils::ParseXS   3.30    
    File::Spec          3.62    
    JSON                2.90    
    JSON::PP            2.27400 
    Module::Build       0.4220  
    Module::Signature   0.81    
    Parse::CPAN::Meta   2.150010
    Test::Harness       3.36    
    Test::More          1.302056
    YAML                n/a     
    YAML::Syck          1.29    
    version             0.9917  


--

Summary of my perl5 (revision 5 version 8 subversion 6) configuration:
  Platform:
    osname=linux, osvers=4.7.0-1-amd64, archname=x86_64-linux-ld
    uname='linux k83 4.7.0-1-amd64 #1 smp debian 4.7.2-1 (2016-08-28) x86_64 gnulinux '
    config_args='-Dprefix=/home/sand/src/perl/repoperls/installed-perls/perl/perl-5.8.6/8942 -Dmyhostname=k83 -Dinstallusrbinperl=n -Uversiononly -Dusedevel -des -Ui_db -Dlibswanted=cl pthread socket inet nsl gdbm dbm malloc dl ld sun m crypt sec util c cposix posix ucb BSD gdbm_compat -Uuseithreads -Duselongdouble -DDEBUGGING=-g'
    hint=recommended, useposix=true, d_sigaction=define
    usethreads=undef use5005threads=undef useithreads=undef usemultiplicity=undef
    useperlio=define d_sfio=undef uselargefiles=define usesocks=undef
    use64bitint=define use64bitall=define uselongdouble=define
    usemymalloc=n, bincompat5005=undef
  Compiler:
    cc='cc', ccflags ='-fno-strict-aliasing -pipe -I/usr/local/include -D_LARGEFILE_SOURCE -D_FILE_OFFSET_BITS=64',
    optimize='-O2',
    cppflags='-fno-strict-aliasing -pipe -I/usr/local/include'
    ccversion='', gccversion='6.2.0 20160830', gccosandvers=''
    intsize=4, longsize=8, ptrsize=8, doublesize=8, byteorder=12345678
    d_longlong=define, longlongsize=8, d_longdbl=define, longdblsize=16
    ivtype='long', ivsize=8, nvtype='long double', nvsize=16, Off_t='off_t', lseeksize=8
    alignbytes=16, prototype=define
  Linker and Libraries:
    ld='cc', ldflags =' -L/usr/local/lib'
    libpth=/usr/local/lib /lib/x86_64-linux-gnu /lib/../lib /usr/lib/x86_64-linux-gnu /usr/lib/../lib /lib /usr/lib
    libs=-lpthread -lnsl -lgdbm -ldl -lm -lcrypt -lutil -lc -lgdbm_compat
    perllibs=-lpthread -lnsl -ldl -lm -lcrypt -lutil -lc -lgdbm_compat
    libc=libc-2.24.so, so=so, useshrplib=false, libperl=libperl.a
    gnulibc_version='2.24'
  Dynamic Linking:
    dlsrc=dl_dlopen.xs, dlext=so, d_dlsymun=undef, ccdlflags='-Wl,-E'
    cccdlflags='-fpic', lddlflags='-shared -L/usr/local/lib'


Characteristics of this binary (from libperl): 
  Compile-time options: USE_64_BIT_INT USE_64_BIT_ALL USE_LONG_DOUBLE USE_LARGE_FILES
  Locally applied patches:
	MAINT23539
  Built under linux
  Compiled at Sep  5 2016 21:16:03
  %ENV:
    PERL5LIB=""
    PERL5OPT=""
    PERL5_CPANPLUS_IS_RUNNING="12127"
    PERL5_CPAN_IS_RUNNING="12127"
    PERL_CANARY_STABILITY_NOPROMPT="1"
    PERL_MM_USE_DEFAULT="1"
  @INC:
    /home/sand/src/perl/repoperls/installed-perls/perl/perl-5.8.6/8942/lib/5.8.6/x86_64-linux-ld
    /home/sand/src/perl/repoperls/installed-perls/perl/perl-5.8.6/8942/lib/5.8.6
    /home/sand/src/perl/repoperls/installed-perls/perl/perl-5.8.6/8942/lib/site_perl/5.8.6/x86_64-linux-ld
    /home/sand/src/perl/repoperls/installed-perls/perl/perl-5.8.6/8942/lib/site_perl/5.8.6
    /home/sand/src/perl/repoperls/installed-perls/perl/perl-5.8.6/8942/lib/site_perl
    .