Acme-Base64 vv0.0.2 Perl 5 v5.26.2 darwin-2level

Status
Pass
From
NONAME
Dist
Acme-Base64 vv0.0.2
Platform
Perl 5 v5.26.2 darwin-2level
Date
2018-06-21 07:04:38
ID
5cdb4a48-7521-11e8-9980-161e1f8bc241
This distribution has been tested as part of the CPAN Testers
project, supporting the Perl programming language.  See
http://wiki.cpantesters.org/ for more information or email
questions to cpan-testers-discuss@perl.org


--
Dear HAGGAI,

This is a computer-generated report for Acme-Base64-v0.0.2
on perl 5.26.2, created by App::cpanminus::reporter 0.17 (1.7043).

Thank you for uploading your work to CPAN.  Congratulations!
All tests were successful.

Sections of this report:

    * Tester comments
    * Program output
    * Prerequisites
    * Environment and other context

------------------------------
TESTER COMMENTS
------------------------------

Additional comments from tester:

none provided

------------------------------
PROGRAM OUTPUT
------------------------------

Output from '':

Building and testing Acme-Base64-v0.0.2
Building Acme-Base64
# Testing Acme::Base64 0.0.2
t/00.load.t ....... ok
t/app.t ........... ok
t/perlcritic.t .... skipped: Author tests not required for installation
t/pod-coverage.t .. skipped: Author tests not required for installation
t/pod.t ........... skipped: Author tests not required for installation
All tests successful.
Files=5, Tests=2,  0 wallclock secs ( 0.04 usr  0.02 sys +  0.38 cusr  0.06 csys =  0.50 CPU)
Result: PASS

------------------------------
PREREQUISITES
------------------------------

Prerequisite modules loaded:

    No requirements found

------------------------------
ENVIRONMENT AND OTHER CONTEXT
------------------------------

Environment variables:

    LANG = en_US.UTF-8
    LD_LIBRARY_PATH = /usr/lib:/usr/local/lib:/usr/local/pgsql/lib
    PATH = /Users/dha/rakudo-star-2018.04/install/share/perl6/site/bin:/usr/local/pgsql/bin:/usr/local/bin:/usr/local/bin:/usr/bin:/bin:/usr/sbin:/sbin:/opt/X11/bin:/Users/dha/rakudo-star-2018.04/install/bin:/Users/dha/rakudo-star-2018.04/install/share/perl6/lib/
    SHELL = /bin/zsh
    TERM = color_xterm
    TMPDIR = /var/folders/5n/9xl8v7xj5vzdb9pqvgclfn8r0000gn/T/

Perl special variables (and OS-specific diagnostics, for MSWin32):

    EGID = 20 20 701 12 61 79 80 81 98 33 100 204 395 398 399
    EUID = 501
    EXECUTABLE_NAME = /usr/local/bin/perl
    GID = 20 20 701 12 61 79 80 81 98 33 100 204 395 398 399
    UID = 501

Perl module toolchain versions installed:

    Module              Have      
    ------------------- ----------
    CPAN                2.18      
    CPAN::Meta          2.150010  
    Cwd                 3.67      
    ExtUtils::CBuilder  0.280225  
    ExtUtils::Command   7.24      
    ExtUtils::Install   2.04      
    ExtUtils::MakeMaker 7.24      
    ExtUtils::Manifest  1.70      
    ExtUtils::ParseXS   3.34      
    File::Spec          3.67      
    JSON                2.90      
    JSON::PP            2.27400_02
    Module::Build       0.4224    
    Module::Signature   0.80      
    Parse::CPAN::Meta   2.150010  
    Test::Harness       3.38      
    Test::More          1.302136  
    YAML                1.24      
    YAML::Syck          1.30      
    version             0.9917    


--

Summary of my perl5 (revision 5 version 26 subversion 2) configuration:
   
  Platform:
    osname=darwin
    osvers=14.5.0
    archname=darwin-2level
    uname='darwin 50-207-252-218-static.hfc.comcastbusiness.net 14.5.0 darwin kernel version 14.5.0: sun jun 4 21:40:08 pdt 2017; root:xnu-2782.70.3~1release_x86_64 x86_64 '
    config_args=''
    hint=recommended
    useposix=true
    d_sigaction=define
    useithreads=undef
    usemultiplicity=undef
    use64bitint=define
    use64bitall=define
    uselongdouble=undef
    usemymalloc=n
    default_inc_excludes_dot=define
    bincompat5005=undef
  Compiler:
    cc='cc'
    ccflags ='-fno-common -DPERL_DARWIN -mmacosx-version-min=10.10 -fno-strict-aliasing -pipe -fstack-protector-strong -I/usr/local/include -DPERL_USE_SAFE_PUTENV'
    optimize='-O3'
    cppflags='-fno-common -DPERL_DARWIN -mmacosx-version-min=10.10 -fno-strict-aliasing -pipe -fstack-protector-strong -I/usr/local/include'
    ccversion=''
    gccversion='4.2.1 Compatible Apple LLVM 7.0.2 (clang-700.1.81)'
    gccosandvers=''
    intsize=4
    longsize=8
    ptrsize=8
    doublesize=8
    byteorder=12345678
    doublekind=3
    d_longlong=define
    longlongsize=8
    d_longdbl=define
    longdblsize=16
    longdblkind=3
    ivtype='long'
    ivsize=8
    nvtype='double'
    nvsize=8
    Off_t='off_t'
    lseeksize=8
    alignbytes=8
    prototype=define
  Linker and Libraries:
    ld='cc'
    ldflags =' -mmacosx-version-min=10.10 -fstack-protector-strong -L/usr/local/lib'
    libpth=/usr/local/lib /Applications/Xcode.app/Contents/Developer/Toolchains/XcodeDefault.xctoolchain/usr/bin/../lib/clang/7.0.2/lib /Applications/Xcode.app/Contents/Developer/Toolchains/XcodeDefault.xctoolchain/usr/lib /usr/lib
    libs=-lcl -lpthread -lgdbm -ldbm -ldl -lm -lutil -lc
    perllibs=-lcl -lpthread -ldl -lm -lutil -lc
    libc=
    so=dylib
    useshrplib=false
    libperl=libperl.a
    gnulibc_version=''
  Dynamic Linking:
    dlsrc=dl_dlopen.xs
    dlext=bundle
    d_dlsymun=undef
    ccdlflags=' '
    cccdlflags=' '
    lddlflags=' -mmacosx-version-min=10.10 -bundle -undefined dynamic_lookup -L/usr/local/lib -fstack-protector-strong'


Characteristics of this binary (from libperl): 
  Compile-time options:
    HAS_TIMES
    PERLIO_LAYERS
    PERL_COPY_ON_WRITE
    PERL_DONT_CREATE_GVSV
    PERL_MALLOC_WRAP
    PERL_OP_PARENT
    PERL_PRESERVE_IVUV
    PERL_USE_SAFE_PUTENV
    USE_64_BIT_ALL
    USE_64_BIT_INT
    USE_LARGE_FILES
    USE_LOCALE
    USE_LOCALE_COLLATE
    USE_LOCALE_CTYPE
    USE_LOCALE_NUMERIC
    USE_LOCALE_TIME
    USE_PERLIO
    USE_PERL_ATOF
  Built under darwin
  Compiled at Jun 19 2018 14:47:25
  @INC:
    /usr/local/lib/perl5/site_perl/5.26.2/darwin-2level
    /usr/local/lib/perl5/site_perl/5.26.2
    /usr/local/lib/perl5/5.26.2/darwin-2level
    /usr/local/lib/perl5/5.26.2
    /usr/local/lib/perl5/site_perl/5.26.1/darwin-2level
    /usr/local/lib/perl5/site_perl/5.26.1
    /usr/local/lib/perl5/site_perl/5.26.0/darwin-2level
    /usr/local/lib/perl5/site_perl/5.26.0
    /usr/local/lib/perl5/site_perl/5.24.1
    /usr/local/lib/perl5/site_perl/5.24.0
    /usr/local/lib/perl5/site_perl/5.22.0
    /usr/local/lib/perl5/site_perl