Back
From: metabase:user:83145d68-08df-11e6-8426-04a496649788
Subject: PASS Web-Scraper-0.38 v5.12.5 GNU/Linux
Date: 2016-05-03T08:59:37Z
This distribution has been tested as part of the CPAN Testers
project, supporting the Perl programming language. See
http://wiki.cpantesters.org/ for more information or email
questions to cpan-testers-discuss@perl.org
--
Dear Tatsuhiko Miyagawa,
This is a computer-generated report for Web-Scraper-0.38
on perl 5.12.5, created by CPAN-Reporter-1.2017.
Thank you for uploading your work to CPAN. Congratulations!
All tests were successful.
Sections of this report:
* Tester comments
* Program output
* Prerequisites
* Environment and other context
------------------------------
TESTER COMMENTS
------------------------------
Additional comments from tester:
none provided
------------------------------
PROGRAM OUTPUT
------------------------------
Output from './Build test':
t/00_compile.t .......... ok
t/01_process.t .......... ok
t/02_process_multi.t .... ok
t/03_scraper_nest.t ..... ok
t/04_callback.t ......... ok
t/05_process_first.t .... ok
t/06_define.t ........... ok
t/07-live.t ............. skipped: LIVE_TEST not enabled
t/08-leak.t ............. skipped: LEAK_TEST is not defined
t/09-process_hash.t ..... ok
t/11_absolute.t ......... ok
t/12_html.t ............. ok
t/13_textnode.t ......... ok
t/14_absolute_nested.t .. ok
t/15_absolute_hash.t .... ok
t/16_filter.t ........... ok
t/17_filter_loop.t ...... ok
t/18_http_response.t .... skipped: LIVE_TEST not enabled
t/19_decode_content.t ... skipped: LIVE_TEST not enabled
t/20_comment_nodes.t .... skipped: Please upgrade HTML::TreeBuilder::XPath and HTML::TreeBuilder::LibXML modules for comment nodes supporting
t/21_html5.t ............ ok
t/22_filter_regex.t ..... ok
t/redefine.t ............ ok
t/release-pod-syntax.t .. skipped: these tests are for release candidate testing
t/xml-simple.t .......... skipped: Test requires module 'HTML::TreeBuilder::LibXML' but it's not found
All tests successful.
Files=25, Tests=42, 4 wallclock secs ( 0.03 usr 0.00 sys + 1.83 cusr 0.23 csys = 2.09 CPU)
Result: PASS
------------------------------
PREREQUISITES
------------------------------
Prerequisite modules loaded:
requires:
Module Need Have
------------------------ -------- --------
HTML::Entities 0 3.69
HTML::Selector::XPath 0.03 0.18
HTML::Tagset 0 3.20
HTML::TreeBuilder 3.23 5.03
HTML::TreeBuilder::XPath 0.08 0.14
LWP 5.827 6.15
perl 5.008001 5.012005
Scalar::Util 0 1.45
UNIVERSAL::require 0 0.18
URI 0 1.71
XML::XPathEngine 0.08 0.14
YAML 0 1.15
build_requires:
Module Need Have
------------------------ -------- --------
ExtUtils::MakeMaker 6.59 7.14
Test::Base 0 0.88
Test::More 0 1.001014
Test::Requires 0 0.10
configure_requires:
Module Need Have
------------------------ -------- --------
Module::Build::Tiny 0.039 0.039
------------------------------
ENVIRONMENT AND OTHER CONTEXT
------------------------------
Environment variables:
LANG = de_DE.UTF-8
LANGUAGE = de_DE
PATH = /home/ss5/perl5/perlbrew/bin:/home/ss5/perl5/perlbrew/perls/perl-5.12.5-l4/bin:/home/ss5/bin:/home/ss5/bin:/usr/local/sbin:/usr/local/bin:/usr/sbin:/usr/bin:/sbin:/bin:/usr/games:/usr/local/games:/snap/bin:/snap/bin
PERL5LIB =
PERL5OPT =
PERL5_CPANPLUS_IS_RUNNING = 15840
PERL5_CPAN_IS_RUNNING = 15840
PERLBREW_BASHRC_VERSION = 0.75
PERLBREW_HOME = /home/ss5/.perlbrew
PERLBREW_MANPATH = /home/ss5/perl5/perlbrew/perls/perl-5.12.5-l4/man
PERLBREW_PATH = /home/ss5/perl5/perlbrew/bin:/home/ss5/perl5/perlbrew/perls/perl-5.12.5-l4/bin
PERLBREW_PERL = perl-5.12.5-l4
PERLBREW_ROOT = /home/ss5/perl5/perlbrew
PERLBREW_VERSION = 0.75
SHELL = /bin/bash
TERM = xterm
Perl special variables (and OS-specific diagnostics, for MSWin32):
$^X = /home/ss5/perl5/perlbrew/perls/perl-5.12.5-l4/bin/perl
$UID/$EUID = 1000 / 1000
$GID = 1000 4 24 27 30 46 113 129 1000
$EGID = 1000 4 24 27 30 46 113 129 1000
Perl module toolchain versions installed:
Module Have
------------------- --------
CPAN 1.94_56
CPAN::Meta 2.143240
Cwd 3.31
ExtUtils::CBuilder 0.27
ExtUtils::Command 7.14
ExtUtils::Install 1.55
ExtUtils::MakeMaker 7.14
ExtUtils::Manifest 1.70
ExtUtils::ParseXS 3.30
File::Spec 3.31_01
JSON 2.90
JSON::PP 2.27400
Module::Build 0.4218
Module::Signature n/a
Parse::CPAN::Meta 1.4414
Test::Harness 3.36
Test::More 1.001014
YAML 1.15
YAML::Syck 1.29
version 0.9916
--
Summary of my perl5 (revision 5 version 12 subversion 5) configuration:
Platform:
osname=linux, osvers=4.4.0-l4-g2be3f0e, archname=x86_64-linux
uname='linux ss5x201 4.4.0-l4-g2be3f0e #3 smp tue apr 19 15:28:23 cest 2016 x86_64 x86_64 x86_64 gnulinux '
config_args='-de -Dprefix=/home/ss5/perl5/perlbrew/perls/perl-5.12.5-l4 -Aeval:scriptdir=/home/ss5/perl5/perlbrew/perls/perl-5.12.5-l4/bin'
hint=recommended, useposix=true, d_sigaction=define
useithreads=undef, usemultiplicity=undef
useperlio=define, d_sfio=undef, uselargefiles=define, usesocks=undef
use64bitint=define, use64bitall=define, uselongdouble=undef
usemymalloc=n, bincompat5005=undef
Compiler:
cc='cc', ccflags ='-fno-strict-aliasing -pipe -fstack-protector -I/usr/local/include -D_LARGEFILE_SOURCE -D_FILE_OFFSET_BITS=64',
optimize='-O2',
cppflags='-fno-strict-aliasing -pipe -fstack-protector -I/usr/local/include'
ccversion='', gccversion='5.3.1 20160413', gccosandvers=''
intsize=4, longsize=8, ptrsize=8, doublesize=8, byteorder=12345678
d_longlong=define, longlongsize=8, d_longdbl=define, longdblsize=16
ivtype='long', ivsize=8, nvtype='double', nvsize=8, Off_t='off_t', lseeksize=8
alignbytes=8, prototype=define
Linker and Libraries:
ld='cc', ldflags =' -fstack-protector -L/usr/local/lib'
libpth=/usr/local/lib /lib/x86_64-linux-gnu /lib/../lib /usr/lib/x86_64-linux-gnu /usr/lib/../lib /lib /usr/lib
libs=-lnsl -ldl -lm -lcrypt -lutil -lc
perllibs=-lnsl -ldl -lm -lcrypt -lutil -lc
libc=libc-2.23.so, so=so, useshrplib=false, libperl=libperl.a
gnulibc_version='2.23'
Dynamic Linking:
dlsrc=dl_dlopen.xs, dlext=so, d_dlsymun=undef, ccdlflags='-Wl,-E'
cccdlflags='-fPIC', lddlflags='-shared -O2 -L/usr/local/lib -fstack-protector'
Characteristics of this binary (from libperl):
Compile-time options: PERL_DONT_CREATE_GVSV PERL_MALLOC_WRAP USE_64_BIT_ALL
USE_64_BIT_INT USE_LARGE_FILES USE_PERLIO
USE_PERL_ATOF
Locally applied patches:
Devel::PatchPerl 1.38
Built under linux
Compiled at May 2 2016 16:56:23
%ENV:
PERL5LIB=""
PERL5OPT=""
PERL5_CPANPLUS_IS_RUNNING="15840"
PERL5_CPAN_IS_RUNNING="15840"
PERLBREW_BASHRC_VERSION="0.75"
PERLBREW_HOME="/home/ss5/.perlbrew"
PERLBREW_MANPATH="/home/ss5/perl5/perlbrew/perls/perl-5.12.5-l4/man"
PERLBREW_PATH="/home/ss5/perl5/perlbrew/bin:/home/ss5/perl5/perlbrew/perls/perl-5.12.5-l4/bin"
PERLBREW_PERL="perl-5.12.5-l4"
PERLBREW_ROOT="/home/ss5/perl5/perlbrew"
PERLBREW_VERSION="0.75"
@INC:
/home/ss5/perl5/perlbrew/perls/perl-5.12.5-l4/lib/site_perl/5.12.5/x86_64-linux
/home/ss5/perl5/perlbrew/perls/perl-5.12.5-l4/lib/site_perl/5.12.5
/home/ss5/perl5/perlbrew/perls/perl-5.12.5-l4/lib/5.12.5/x86_64-linux
/home/ss5/perl5/perlbrew/perls/perl-5.12.5-l4/lib/5.12.5
.