Test-WWW-Mechanize v1.56 Perl 5 v5.20.1 amd64-freebsd-ld
- Status
- Pass
- From
- Slaven Rezić
- Dist
-
Test-WWW-Mechanize v1.56
- Platform
- Perl 5 v5.20.1 amd64-freebsd-ld
- Date
- 2022-04-27 04:20:26
- ID
- 5d43a966-c5e1-11ec-9e93-e72f1f24ea8f
This distribution has been tested as part of the CPAN Testers
project, supporting the Perl programming language. See
http://wiki.cpantesters.org/ for more information or email
questions to cpan-testers-discuss@perl.org
--
Dear Andy Lester,
This is a computer-generated report for Test-WWW-Mechanize-1.56
on perl 5.20.1, created by CPAN-Reporter-1.2018.
Thank you for uploading your work to CPAN. Congratulations!
All tests were successful.
Sections of this report:
* Tester comments
* Program output
* Prerequisites
* Environment and other context
------------------------------
TESTER COMMENTS
------------------------------
Additional comments from tester:
none provided
------------------------------
PROGRAM OUTPUT
------------------------------
Output from '/usr/bin/make test':
PERL_DL_NONLAZY=1 "/usr/perl5.20.1Dp/bin/perl" "-MExtUtils::Command::MM" "-MTest::Harness" "-e" "undef *Test::Harness::Switches; test_harness(0, 'blib/lib', 'blib/arch')" t/*.t
# Testing Test::WWW::Mechanize 1.56 undef Perl 5.020001, /usr/perl5.20.1Dp/bin/perl
# LWP 6.10
# WWW::Mechanize 1.74
# Test::More 1.302183
# Test::Builder::Tester 1.302183
# Found optional HTML::Lint 2.20
# Optional HTML::Tidy5 not found. Install it to use additional features.
t/00-load.t ................ ok
t/autolint.t ............... ok
t/autotidy.t ............... skipped: Optional HTML::Tidy5 1.00 is not installed, cannot test autotidy.
t/button_exists.t .......... ok
# Test server http://127.0.0.1:23468 as PID 14576
t/click_ok.t ............... ok
t/content_contains.t ....... ok
t/content_lacks.t .......... ok
# Test server http://127.0.0.1:34692 as PID 14582
t/delete_ok.t .............. ok
t/follow_link_ok.t ......... ok
t/followable_links.t ....... ok
t/get_ok-parms.t ........... ok
t/get_ok.t ................. ok
t/has_tag.t ................ ok
t/head_ok-parms.t .......... ok
t/head_ok.t ................ ok
# Test server http://127.0.0.1:23330 as PID 14603
t/headers.t ................ ok
t/html_lint_ok.t ........... ok
t/html_tidy_ok.t ........... skipped: Optional HTML::Tidy5 1.00 is not installed, cannot test html_tidy_ok
t/id_exists.t .............. ok
t/lacks_uncapped_inputs.t .. ok
t/link_content.t ........... ok
t/link_status.t ............ ok
t/links_ok.t ............... ok
t/new.t .................... ok
t/page_links_content.t ..... ok
t/page_links_ok.t .......... ok
t/pod-coverage.t ........... ok
t/pod.t .................... ok
# Test server http://127.0.0.1:28995 as PID 14629
t/put_ok.t ................. ok
t/scrape_text_by_id.t ...... ok
t/stuff_inputs.t ........... ok
# Test server http://127.0.0.1:30134 as PID 14636
t/submit_form_ok.t ......... ok
t/text_contains.t .......... ok
t/title_is.t ............... ok
All tests successful.
Files=34, Tests=319, 11 wallclock secs ( 0.01 usr 0.20 sys + 0.84 cusr 4.94 csys = 5.98 CPU)
Result: PASS
------------------------------
PREREQUISITES
------------------------------
Prerequisite modules loaded:
requires:
Module Need Have
------------------------- ----- --------
Carp 0 1.3301
Carp::Assert::More 1.16 2.0.1
HTML::Form 0 6.03
HTML::TokeParser 0 3.69
HTTP::Message 6.29 6.36
HTTP::Server::Simple 0.42 0.50
HTTP::Server::Simple::CGI 0 0
LWP 6.02 6.10
parent 0 0.228
perl 5.010 5.020001
Test::Builder::Tester 1.09 1.302183
Test::LongString 0.15 0.17
Test::More 0.96 1.302183
URI::file 0 4.21
WWW::Mechanize 1.68 1.74
build_requires:
Module Need Have
------------------------- ----- --------
ExtUtils::MakeMaker 0 7.58
configure_requires:
Module Need Have
------------------------- ----- --------
ExtUtils::MakeMaker 0 7.58
------------------------------
ENVIRONMENT AND OTHER CONTEXT
------------------------------
Environment variables:
LC_ALL = de_DE.ISO8859-1
PATH = /usr/local/bin:/usr/bin:/bin:/usr/local/sbin:/usr/sbin:/sbin:/home/cpansand/bin/freebsd10.3:/home/cpansand/bin/sh:/home/cpansand/bin:/usr/games:/home/cpansand/devel:/home/eserte/src/srezic-misc/scripts
PERL5LIB = /home/cpansand/.cpan/build/2022042706/Carp-Assert-More-2.0.1-BAiS51/blib/arch:/home/cpansand/.cpan/build/2022042706/Carp-Assert-More-2.0.1-BAiS51/blib/lib:/home/cpansand/.cpan/build/2022042706/HTTP-Message-6.36-3yMBLB/blib/arch:/home/cpansand/.cpan/build/2022042706/HTTP-Message-6.36-3yMBLB/blib/lib:/home/cpansand/.cpan/build/2022042706/Encode-3.17-KzAmr8/blib/arch:/home/cpansand/.cpan/build/2022042706/Encode-3.17-KzAmr8/blib/lib
PERL5OPT =
PERL5_CPANPLUS_IS_RUNNING = 13549
PERL5_CPAN_IS_RUNNING = 13549
PERL5_CPAN_IS_RUNNING_IN_RECURSION = 13485,13549
PERLDOC = -MPod::Perldoc::ToTextOverstrike
PERL_BATCH = yes
PERL_CANARY_STABILITY_NOPROMPT = 1
PERL_CPAN_REPORTER_CONFIG = /var/tmp/cpansmoker-1023/2022042706/cpanreporter_000_config.ini
PERL_EXTUTILS_AUTOINSTALL = --defaultdeps
SHELL = /usr/local/bin/zsh
TERM = screen
TMPDIR = /var/tmp/cpansmoker-1023/2022042706
Perl special variables (and OS-specific diagnostics, for MSWin32):
$^X = /usr/perl5.20.1Dp/bin/perl
$UID/$EUID = 1023 / 1023
$GID = 1023 1023
$EGID = 1023 1023
Perl module toolchain versions installed:
Module Have
------------------- --------
CPAN 2.05
CPAN::Meta 2.143240
Cwd 3.48
ExtUtils::CBuilder 0.280217
ExtUtils::Command 7.58
ExtUtils::Install 2.06
ExtUtils::MakeMaker 7.58
ExtUtils::Manifest 1.70
ExtUtils::ParseXS 3.35
File::Spec 3.48
JSON 2.90
JSON::PP 2.27400
Module::Build 0.4211
Module::Signature n/a
Parse::CPAN::Meta 1.4422
Test::Harness 3.30
Test::More 1.302183
YAML 1.14
YAML::Syck 1.29
version 0.9909
--
Summary of my perl5 (revision 5 version 20 subversion 1) configuration:
Platform:
osname=freebsd, osvers=10.1-release, archname=amd64-freebsd-ld
uname='freebsd cvrsnica-freebsd-101.herceg.de 10.1-release freebsd 10.1-release #0 r274401: tue nov 11 21:02:49 utc 2014 root@releng1.nyi.freebsd.org:usrobjusrsrcsysgeneric amd64 '
config_args='-ds -e -Dprefix=/usr/perl5.20.1Dp -Duselongdouble'
hint=recommended, useposix=true, d_sigaction=define
useithreads=undef, usemultiplicity=undef
use64bitint=define, use64bitall=define, uselongdouble=define
usemymalloc=n, bincompat5005=undef
Compiler:
cc='cc', ccflags ='-DHAS_FPSETMASK -DHAS_FLOATINGPOINT_H -fno-strict-aliasing -pipe -fstack-protector -I/usr/local/include',
optimize='-O',
cppflags='-DHAS_FPSETMASK -DHAS_FLOATINGPOINT_H -fno-strict-aliasing -pipe -fstack-protector -I/usr/local/include'
ccversion='', gccversion='4.2.1 Compatible FreeBSD Clang 3.4.1 (tags/RELEASE_34/dot1-final 208032)', gccosandvers=''
intsize=4, longsize=8, ptrsize=8, doublesize=8, byteorder=12345678
d_longlong=define, longlongsize=8, d_longdbl=define, longdblsize=16
ivtype='long', ivsize=8, nvtype='long double', nvsize=16, Off_t='off_t', lseeksize=8
alignbytes=16, prototype=define
Linker and Libraries:
ld='cc', ldflags ='-pthread -Wl,-E -fstack-protector -L/usr/local/lib'
libpth=/usr/lib /usr/local/lib /usr/include/clang/3.4.1 /usr/lib
libs=-lgdbm -lm -lcrypt -lutil -lc
perllibs=-lm -lcrypt -lutil -lc
libc=, so=so, useshrplib=false, libperl=libperl.a
gnulibc_version=''
Dynamic Linking:
dlsrc=dl_dlopen.xs, dlext=so, d_dlsymun=undef, ccdlflags=' '
cccdlflags='-DPIC -fPIC', lddlflags='-shared -L/usr/local/lib -fstack-protector'
Characteristics of this binary (from libperl):
Compile-time options: HAS_TIMES PERLIO_LAYERS PERL_DONT_CREATE_GVSV
PERL_HASH_FUNC_ONE_AT_A_TIME_HARD PERL_MALLOC_WRAP
PERL_NEW_COPY_ON_WRITE PERL_PRESERVE_IVUV
USE_64_BIT_ALL USE_64_BIT_INT USE_LARGE_FILES
USE_LOCALE USE_LOCALE_COLLATE USE_LOCALE_CTYPE
USE_LOCALE_NUMERIC USE_LONG_DOUBLE USE_PERLIO
USE_PERL_ATOF
Built under freebsd
Compiled at Feb 13 2015 08:17:27
%ENV:
PERL5LIB="/home/cpansand/.cpan/build/2022042706/Carp-Assert-More-2.0.1-BAiS51/blib/arch:/home/cpansand/.cpan/build/2022042706/Carp-Assert-More-2.0.1-BAiS51/blib/lib:/home/cpansand/.cpan/build/2022042706/HTTP-Message-6.36-3yMBLB/blib/arch:/home/cpansand/.cpan/build/2022042706/HTTP-Message-6.36-3yMBLB/blib/lib:/home/cpansand/.cpan/build/2022042706/Encode-3.17-KzAmr8/blib/arch:/home/cpansand/.cpan/build/2022042706/Encode-3.17-KzAmr8/blib/lib"
PERL5OPT=""
PERL5_CPANPLUS_IS_RUNNING="13549"
PERL5_CPAN_IS_RUNNING="13549"
PERL5_CPAN_IS_RUNNING_IN_RECURSION="13485,13549"
PERLDOC="-MPod::Perldoc::ToTextOverstrike"
PERL_BATCH="yes"
PERL_CANARY_STABILITY_NOPROMPT="1"
PERL_CPAN_REPORTER_CONFIG="/var/tmp/cpansmoker-1023/2022042706/cpanreporter_000_config.ini"
PERL_EXTUTILS_AUTOINSTALL="--defaultdeps"
@INC:
/home/cpansand/.cpan/build/2022042706/Carp-Assert-More-2.0.1-BAiS51/blib/arch
/home/cpansand/.cpan/build/2022042706/Carp-Assert-More-2.0.1-BAiS51/blib/lib
/home/cpansand/.cpan/build/2022042706/HTTP-Message-6.36-3yMBLB/blib/arch
/home/cpansand/.cpan/build/2022042706/HTTP-Message-6.36-3yMBLB/blib/lib
/home/cpansand/.cpan/build/2022042706/Encode-3.17-KzAmr8/blib/arch
/home/cpansand/.cpan/build/2022042706/Encode-3.17-KzAmr8/blib/lib
/usr/perl5.20.1Dp/lib/site_perl/5.20.1/amd64-freebsd-ld
/usr/perl5.20.1Dp/lib/site_perl/5.20.1
/usr/perl5.20.1Dp/lib/5.20.1/amd64-freebsd-ld
/usr/perl5.20.1Dp/lib/5.20.1
.