Report for WWW-Curl-Simple-0.100191

Back
From: metabase:user:314402c4-2aae-11df-837a-5e0a49663a4f
Subject: PASS WWW-Curl-Simple-0.100191 v5.22.1 FreeBSD
Date: 2016-05-08T06:52:00Z

This distribution has been tested as part of the CPAN Testers
project, supporting the Perl programming language.  See
http://wiki.cpantesters.org/ for more information or email
questions to cpan-testers-discuss@perl.org


--
Dear Andreas Marienborg,

This is a computer-generated report for WWW-Curl-Simple-0.100191
on perl 5.22.1, created by CPAN-Reporter-1.2015.

Thank you for uploading your work to CPAN.  Congratulations!
All tests were successful.

Sections of this report:

    * Tester comments
    * Program output
    * Prerequisites
    * Environment and other context

------------------------------
TESTER COMMENTS
------------------------------

Additional comments from tester:

none provided

------------------------------
PROGRAM OUTPUT
------------------------------

Output from '/usr/bin/make test':

PERL_DL_NONLAZY=1 "/usr/perl5.22.1p/bin/perl5.22.1" "-MExtUtils::Command::MM" "-MTest::Harness" "-e" "undef *Test::Harness::Switches; test_harness(0, 'blib/lib', 'blib/arch')" t/*.t
t/00-compile.t ................... ok
# Testing WWW::Curl::Simple 0.100191, Perl 5.022001, /usr/perl5.22.1p/bin/perl5.22.1
t/00.load.t ...................... ok
# 
# 
# Generated by Dist::Zilla::Plugin::ReportVersions::Tiny v1.10
# perl: 5.022001 (wanted any version) on freebsd from /usr/perl5.22.1p/bin/perl5.22.1
# 
# Carp                                          => 1.38       (want any version)
# ExtUtils::MakeMaker                           => 7.14       (want 6.30)   
# File::Spec                                    => 3.62       (want any version)
# HTTP::Request                                 => 6.11       (want any version)
# HTTP::Response                                => 6.11       (want any version)
# IO::Handle                                    => 1.35       (want any version)
# IPC::Open3                                    => 1.18       (want any version)
# Moose                                         => 2.1801     (want any version)
# Scalar::Util                                  => 1.45       (want any version)
# Test::Exception                               => 0.43       (want any version)
# Test::More                                    => 1.001014   (want 0.96)   
# Time::HiRes                                   => 1.9732     (want 1.9705) 
# WWW::Curl::Easy                               => 4.17       (want any version)
# WWW::Curl::Multi                              => <undef>    (want any version)
# base                                          => 2.22       (want any version)
# namespace::clean                              => 0.26       (want any version)
# strict                                        => 1.09       (want any version)
# warnings                                      => 1.34       (want any version)
# 
# Thanks for using my code.  I hope it works for you.
# If not, please try and include this output in the bug report.
# That will help me reproduce the issue and solve your problem.
# 
t/000-report-versions-tiny.t ..... ok
t/10.simple.t .................... ok
t/20.timeout.t ................... ok
t/author-10.usage.multi.t ........ skipped: these tests are for testing by the author
t/author-10.usage.single.t ....... skipped: these tests are for testing by the author
t/author-20.non-fatal.t .......... skipped: these tests are for testing by the author
t/author-20.timeout-old.t ........ skipped: these tests are for testing by the author
t/author-30.max-redirects.t ...... skipped: these tests are for testing by the author
t/author-31.check-ssl-certs.t .... skipped: these tests are for testing by the author
t/author-99.pua-compat.t ......... skipped: these tests are for testing by the author
t/release-changes_has_content.t .. skipped: these tests are for release candidate testing
t/release-cpan-changes.t ......... skipped: these tests are for release candidate testing
t/release-pod-coverage.t ......... skipped: these tests are for release candidate testing
t/release-pod-syntax.t ........... skipped: these tests are for release candidate testing
t/release-synopsis.t ............. skipped: these tests are for release candidate testing
All tests successful.
Files=17, Tests=9, 17 wallclock secs ( 0.16 usr  0.09 sys + 11.77 cusr  2.03 csys = 14.05 CPU)
Result: PASS

------------------------------
PREREQUISITES
------------------------------

Prerequisite modules loaded:

requires:

    Module              Need   Have    
    ------------------- ------ --------
    Carp                0      1.38    
    HTTP::Request       0      6.11    
    HTTP::Response      0      6.11    
    Moose               0      2.1801  
    namespace::clean    0      0.26    
    Scalar::Util        0      1.45    
    Time::HiRes         1.9705 1.9732  
    WWW::Curl::Easy     0      4.17    
    WWW::Curl::Multi    0      0       

build_requires:

    Module              Need   Have    
    ------------------- ------ --------
    base                0      2.22    
    File::Spec          0      3.62    
    IO::Handle          0      1.35    
    IPC::Open3          0      1.18    
    strict              0      1.09    
    Test::Exception     0      0.43    
    Test::More          0.96   1.001014
    warnings            0      1.34    

configure_requires:

    Module              Need   Have    
    ------------------- ------ --------
    ExtUtils::MakeMaker 6.30   7.14    


------------------------------
ENVIRONMENT AND OTHER CONTEXT
------------------------------

Environment variables:

    LC_ALL = de_DE.ISO8859-1
    PATH = /usr/local/bin:/usr/bin:/bin:/usr/local/sbin:/usr/sbin:/sbin:/home/cpansand/bin/freebsd10.1:/home/cpansand/bin/sh:/home/cpansand/bin:/usr/games:/home/cpansand/devel:/home/eserte/src/srezic-misc/scripts
    PERL5LIB = /home/cpansand/.cpan/build/2016050806/WWW-Curl-4.17-jCOavx/blib/arch:/home/cpansand/.cpan/build/2016050806/WWW-Curl-4.17-jCOavx/blib/lib
    PERL5OPT = 
    PERL5_CPANPLUS_IS_RUNNING = 85806
    PERL5_CPAN_IS_RUNNING = 85806
    PERL5_CPAN_IS_RUNNING_IN_RECURSION = 85767,85806
    PERLDOC = -MPod::Perldoc::ToTextOverstrike
    PERL_BATCH = yes
    PERL_CANARY_STABILITY_NOPROMPT = 1
    PERL_CPAN_REPORTER_CONFIG = /var/tmp/cpansmoker-1023/2016050806/cpanreporter_000_config.ini
    PERL_EXTUTILS_AUTOINSTALL = --defaultdeps
    SHELL = /usr/local/bin/zsh
    TERM = screen
    TMPDIR = /var/tmp/cpansmoker-1023/2016050806

Perl special variables (and OS-specific diagnostics, for MSWin32):

    $^X = /usr/perl5.22.1p/bin/perl5.22.1
    $UID/$EUID = 1023 / 1023
    $GID = 1023 1023
    $EGID = 1023 1023

Perl module toolchain versions installed:

    Module              Have    
    ------------------- --------
    CPAN                2.11    
    CPAN::Meta          2.150005
    Cwd                 3.62    
    ExtUtils::CBuilder  0.280221
    ExtUtils::Command   7.14    
    ExtUtils::Install   2.04    
    ExtUtils::MakeMaker 7.14    
    ExtUtils::Manifest  1.70    
    ExtUtils::ParseXS   3.30    
    File::Spec          3.62    
    JSON                2.90    
    JSON::PP            2.27300 
    Module::Build       0.4214  
    Module::Signature   0.79    
    Parse::CPAN::Meta   1.4414  
    Test::Harness       3.35    
    Test::More          1.001014
    YAML                1.15    
    YAML::Syck          1.29    
    version             0.9916  


--

Summary of my perl5 (revision 5 version 22 subversion 1) configuration:
   
  Platform:
    osname=freebsd, osvers=10.1-release, archname=amd64-freebsd
    uname='freebsd cvrsnica-freebsd-101.herceg.de 10.1-release freebsd 10.1-release #0 r274401: tue nov 11 21:02:49 utc 2014 root@releng1.nyi.freebsd.org:usrobjusrsrcsysgeneric amd64 '
    config_args='-ds -e -Dprefix=/usr/perl5.22.1p -Dcf_email=srezic@cpan.org'
    hint=recommended, useposix=true, d_sigaction=define
    useithreads=undef, usemultiplicity=undef
    use64bitint=define, use64bitall=define, uselongdouble=undef
    usemymalloc=n, bincompat5005=undef
  Compiler:
    cc='cc', ccflags ='-DHAS_FPSETMASK -DHAS_FLOATINGPOINT_H -fno-strict-aliasing -pipe -fstack-protector -I/usr/local/include -D_FORTIFY_SOURCE=2',
    optimize='-O',
    cppflags='-DHAS_FPSETMASK -DHAS_FLOATINGPOINT_H -fno-strict-aliasing -pipe -fstack-protector -I/usr/local/include'
    ccversion='', gccversion='4.2.1 Compatible FreeBSD Clang 3.4.1 (tags/RELEASE_34/dot1-final 208032)', gccosandvers=''
    intsize=4, longsize=8, ptrsize=8, doublesize=8, byteorder=12345678, doublekind=3
    d_longlong=define, longlongsize=8, d_longdbl=define, longdblsize=16, longdblkind=3
    ivtype='long', ivsize=8, nvtype='double', nvsize=8, Off_t='off_t', lseeksize=8
    alignbytes=8, prototype=define
  Linker and Libraries:
    ld='cc', ldflags ='-pthread -Wl,-E  -fstack-protector -L/usr/local/lib'
    libpth=/usr/lib /usr/local/lib /usr/include/clang/3.4.1 /usr/lib
    libs=-lpthread -lgdbm -lm -lcrypt -lutil -lc
    perllibs=-lpthread -lm -lcrypt -lutil -lc
    libc=, so=so, useshrplib=false, libperl=libperl.a
    gnulibc_version=''
  Dynamic Linking:
    dlsrc=dl_dlopen.xs, dlext=so, d_dlsymun=undef, ccdlflags=' '
    cccdlflags='-DPIC -fPIC', lddlflags='-shared  -L/usr/local/lib -fstack-protector'


Characteristics of this binary (from libperl): 
  Compile-time options: HAS_TIMES PERLIO_LAYERS PERL_DONT_CREATE_GVSV
                        PERL_HASH_FUNC_ONE_AT_A_TIME_HARD PERL_MALLOC_WRAP
                        PERL_NEW_COPY_ON_WRITE PERL_PRESERVE_IVUV
                        USE_64_BIT_ALL USE_64_BIT_INT USE_LARGE_FILES
                        USE_LOCALE USE_LOCALE_COLLATE USE_LOCALE_CTYPE
                        USE_LOCALE_NUMERIC USE_LOCALE_TIME USE_PERLIO
                        USE_PERL_ATOF
  Built under freebsd
  Compiled at Dec 15 2015 07:47:22
  %ENV:
    PERL5LIB="/home/cpansand/.cpan/build/2016050806/WWW-Curl-4.17-jCOavx/blib/arch:/home/cpansand/.cpan/build/2016050806/WWW-Curl-4.17-jCOavx/blib/lib"
    PERL5OPT=""
    PERL5_CPANPLUS_IS_RUNNING="85806"
    PERL5_CPAN_IS_RUNNING="85806"
    PERL5_CPAN_IS_RUNNING_IN_RECURSION="85767,85806"
    PERLDOC="-MPod::Perldoc::ToTextOverstrike"
    PERL_BATCH="yes"
    PERL_CANARY_STABILITY_NOPROMPT="1"
    PERL_CPAN_REPORTER_CONFIG="/var/tmp/cpansmoker-1023/2016050806/cpanreporter_000_config.ini"
    PERL_EXTUTILS_AUTOINSTALL="--defaultdeps"
  @INC:
    /home/cpansand/.cpan/build/2016050806/WWW-Curl-4.17-jCOavx/blib/arch
    /home/cpansand/.cpan/build/2016050806/WWW-Curl-4.17-jCOavx/blib/lib
    /usr/perl5.22.1p/lib/site_perl/5.22.1/amd64-freebsd
    /usr/perl5.22.1p/lib/site_perl/5.22.1
    /usr/perl5.22.1p/lib/5.22.1/amd64-freebsd
    /usr/perl5.22.1p/lib/5.22.1
    .