DateTime-Format-Strptime v1.79 Perl 5 v5.12.3 MSWin32-x86-multi-thread

Status
Pass
From
NONAME
Dist
DateTime-Format-Strptime v1.79
Platform
Perl 5 v5.12.3 MSWin32-x86-multi-thread
Date
2024-08-03 09:16:22
ID
5d717b67-7705-1014-935d-b2b5b03d33c9
This distribution has been tested as part of the CPAN Testers
project, supporting the Perl programming language.  See
http://wiki.cpantesters.org/ for more information or email
questions to cpan-testers-discuss@perl.org


--
Dear Dave Rolsky,

This is a computer-generated report for DateTime-Format-Strptime-1.79
on perl 5.12.3, created by CPAN-Reporter-1.2018.

Thank you for uploading your work to CPAN.  Congratulations!
All tests were successful.

Sections of this report:

    * Tester comments
    * Program output
    * Prerequisites
    * Environment and other context

------------------------------
TESTER COMMENTS
------------------------------

Additional comments from tester:

none provided

------------------------------
PROGRAM OUTPUT
------------------------------

Output from 'C:\Strawberry\c\bin\dmake.EXE test':

C:\"Strawberry\perl\bin\perl.exe" "-MExtUtils::Command::MM" "-MTest::Harness" "-e" "undef *Test::Harness::Switches; test_harness(0, 'blib\lib', 'blib\arch')" t/*.t
# 
# Versions for all modules listed in MYMETA.json (including optional ones):
# 
# === Configure Requires ===
# 
#     Module              Want    Have
#     ------------------- ---- -------
#     ExtUtils::MakeMaker  any 7.71_01
# 
# === Configure Suggests ===
# 
#     Module      Want    Have
#     -------- ------- -------
#     JSON::PP 2.27300 4.17_01
# 
# === Build Requires ===
# 
#     Module              Want    Have
#     ------------------- ---- -------
#     ExtUtils::MakeMaker  any 7.71_01
# 
# === Test Requires ===
# 
#     Module              Want     Have
#     ------------------- ---- --------
#     ExtUtils::MakeMaker  any  7.71_01
#     File::Spec           any     3.62
#     FindBin              any     1.54
#     Test::Builder        any 1.302199
#     Test::Fatal          any    0.017
#     Test::More          0.96 1.302199
#     Test::Warnings       any    0.033
#     lib                  any     0.62
#     utf8                 any     1.08
# 
# === Test Recommends ===
# 
#     Module         Want     Have
#     ---------- -------- --------
#     CPAN::Meta 2.120900 2.150010
# 
# === Runtime Requires ===
# 
#     Module                     Want  Have
#     -------------------------- ---- -----
#     Carp                        any  1.50
#     DateTime                   1.00  1.65
#     DateTime::Locale           1.30  1.43
#     DateTime::Locale::Base      any  1.43
#     DateTime::Locale::FromData  any  1.43
#     DateTime::TimeZone         2.09  2.62
#     Exporter                    any  5.78
#     Params::ValidationCompiler  any  0.31
#     Specio                     0.33  0.48
#     Specio::Declare             any  0.48
#     Specio::Exporter            any  0.48
#     Specio::Library::Builtins   any  0.48
#     Specio::Library::String     any  0.48
#     Try::Tiny                   any  0.31
#     constant                    any  1.33
#     parent                      any 0.241
#     strict                      any  1.04
#     warnings                    any  1.09
# 
t/00-report-prereqs.t .... ok
t/basic.t ................ ok
Subroutine olson_version redefined at C:\home\griffin\perl5\lib\perl5/DateTime/TimeZone/america/new_york.pm line 2116, <DATA> line 1.
Subroutine has_dst_changes redefined at C:\home\griffin\perl5\lib\perl5/DateTime/TimeZone/america/new_york.pm line 2118, <DATA> line 1.
Subroutine _max_year redefined at C:\home\griffin\perl5\lib\perl5/DateTime/TimeZone/america/new_york.pm line 2120, <DATA> line 1.
Subroutine _new_instance redefined at C:\home\griffin\perl5\lib\perl5/DateTime/TimeZone/america/new_york.pm line 2122, <DATA> line 1.
Subroutine _last_offset redefined at C:\home\griffin\perl5\lib\perl5/DateTime/TimeZone/america/new_york.pm line 2126, <DATA> line 1.
Subroutine _last_observance redefined at C:\home\griffin\perl5\lib\perl5/DateTime/TimeZone/america/new_york.pm line 2164, <DATA> line 1.
Subroutine _rules redefined at C:\home\griffin\perl5\lib\perl5/DateTime/TimeZone/america/new_york.pm line 2191, <DATA> line 1.
Subroutine olson_version redefined at C:\home\griffin\perl5\lib\perl5/DateTime/TimeZone/amERicA/new_YORK.pm line 2116, <DATA> line 1.
Subroutine has_dst_changes redefined at C:\home\griffin\perl5\lib\perl5/DateTime/TimeZone/amERicA/new_YORK.pm line 2118, <DATA> line 1.
Subroutine _max_year redefined at C:\home\griffin\perl5\lib\perl5/DateTime/TimeZone/amERicA/new_YORK.pm line 2120, <DATA> line 1.
Subroutine _new_instance redefined at C:\home\griffin\perl5\lib\perl5/DateTime/TimeZone/amERicA/new_YORK.pm line 2122, <DATA> line 1.
Subroutine _last_offset redefined at C:\home\griffin\perl5\lib\perl5/DateTime/TimeZone/amERicA/new_YORK.pm line 2126, <DATA> line 1.
Subroutine _last_observance redefined at C:\home\griffin\perl5\lib\perl5/DateTime/TimeZone/amERicA/new_YORK.pm line 2164, <DATA> line 1.
Subroutine _rules redefined at C:\home\griffin\perl5\lib\perl5/DateTime/TimeZone/amERicA/new_YORK.pm line 2191, <DATA> line 1.
t/edge.t ................. ok
t/errors.t ............... ok
t/format-datetime.t ...... ok
t/format-with-locale.t ... ok
t/generated-locale-de.t .. ok
t/generated-locale-en.t .. ok
t/generated-locale-ga.t .. ok
t/generated-locale-pt.t .. ok
t/generated-locale-zh.t .. ok
t/import.t ............... ok
t/zones.t ................ ok
All tests successful.
Files=13, Tests=143, 26 wallclock secs ( 0.30 usr +  0.08 sys =  0.37 CPU)
Result: PASS

------------------------------
PREREQUISITES
------------------------------

Prerequisite modules loaded:

requires:

    Module                     Need Have    
    -------------------------- ---- --------
    Carp                       0    1.50    
    constant                   0    1.33    
    DateTime                   1.00 1.65    
    DateTime::Locale           1.30 1.43    
    DateTime::Locale::Base     0    1.43    
    DateTime::Locale::FromData 0    1.43    
    DateTime::TimeZone         2.09 2.62    
    Exporter                   0    5.78    
    Params::ValidationCompiler 0    0.31    
    parent                     0    0.241   
    Specio                     0.33 0.48    
    Specio::Declare            0    0.48    
    Specio::Exporter           0    0.48    
    Specio::Library::Builtins  0    0.48    
    Specio::Library::String    0    0.48    
    strict                     0    1.04    
    Try::Tiny                  0    0.31    
    warnings                   0    1.09    

build_requires:

    Module                     Need Have    
    -------------------------- ---- --------
    ExtUtils::MakeMaker        0    7.71_01 
    File::Spec                 0    3.62    
    FindBin                    0    1.54    
    lib                        0    0.62    
    Test::Builder              0    1.302199
    Test::Fatal                0    0.017   
    Test::More                 0.96 1.302199
    Test::Warnings             0    0.033   
    utf8                       0    1.08    

configure_requires:

    Module                     Need Have    
    -------------------------- ---- --------
    ExtUtils::MakeMaker        0    7.71_01 


------------------------------
ENVIRONMENT AND OTHER CONTEXT
------------------------------

Environment variables:

    COMSPEC = C:\windows\system32\cmd.exe
    NONINTERACTIVE_TESTING = 1
    NUMBER_OF_PROCESSORS = 4
    PATH = C:\home\griffin\perl5\bin;C:\windows\system32;C:\windows;C:\windows\System32\Wbem;C:\windows\System32\WindowsPowerShell\v1.0\;C:\Strawberry\c\bin;C:\Strawberry\perl\site\bin;C:\Strawberry\perl\bin;C:\cmake-3.27.7\bin
    PERL5LIB = C:\home\griffin\perl5\lib\perl5
    PERL5OPT = 
    PERL5_CPANPLUS_IS_RUNNING = 12496
    PERL5_CPAN_IS_RUNNING = 12496
    PERL_LOCAL_LIB_ROOT = C:\home\griffin\perl5
    PERL_MB_OPT = --install_base "C:\\home\\griffin\\perl5"
    PERL_MM_OPT = INSTALL_BASE=C:\\home\\griffin\\perl5
    PERL_MM_USE_DEFAULT = 1
    PROCESSOR_IDENTIFIER = x86 Family 6 Model 37 Stepping 5, GenuineIntel
    TEMP = C:\Users\user\AppData\Local\Temp
    TERM = dumb
    TUGI_PERLVER = 5.012003

Perl special variables (and OS-specific diagnostics, for MSWin32):

    $^X = C:\Strawberry\perl\bin\perl.exe
    $UID/$EUID = 0 / 0
    $GID = 0
    $EGID = 0
    Win32::GetOSName = Win7
    Win32::GetOSVersion = Service Pack 1, 6, 1, 7601, 2, 1, 0, 256, 1
    Win32::FsType = NTFS
    Win32::IsAdminUser = 0

Perl module toolchain versions installed:

    Module              Have    
    ------------------- --------
    CPAN                2.16    
    CPAN::Meta          2.150010
    Cwd                 3.62    
    ExtUtils::CBuilder  0.280236
    ExtUtils::Command   7.71_01 
    ExtUtils::Install   2.22    
    ExtUtils::MakeMaker 7.71_01 
    ExtUtils::Manifest  1.75    
    ExtUtils::ParseXS   3.51    
    File::Spec          3.62    
    JSON                4.10    
    JSON::PP            4.17_01 
    Module::Build       0.4234  
    Module::Signature   0.88    
    Parse::CPAN::Meta   2.150010
    Test::Harness       3.49_02 
    Test::More          1.302199
    YAML                1.31    
    YAML::Syck          1.29    
    version             0.9932  


--

Summary of my perl5 (revision 5 version 12 subversion 3) configuration:
   
  Platform:
    osname=MSWin32, osvers=5.1, archname=MSWin32-x86-multi-thread
    uname='Win32 strawberryperl 5.12.3.0 #1 Sun May 15 09:44:53 2011 i386'
    config_args='undef'
    hint=recommended, useposix=true, d_sigaction=undef
    useithreads=define, usemultiplicity=define
    useperlio=define, d_sfio=undef, uselargefiles=define, usesocks=undef
    use64bitint=undef, use64bitall=undef, uselongdouble=undef
    usemymalloc=n, bincompat5005=undef
  Compiler:
    cc='gcc', ccflags =' -s -O2 -DWIN32 -DHAVE_DES_FCRYPT  -DUSE_SITECUSTOMIZE -DPERL_IMPLICIT_CONTEXT -DPERL_IMPLICIT_SYS -fno-strict-aliasing -mms-bitfields -DPERL_MSVCRT_READFIX',
    optimize='-s -O2',
    cppflags='-DWIN32'
    ccversion='', gccversion='4.4.3', gccosandvers=''
    intsize=4, longsize=4, ptrsize=4, doublesize=8, byteorder=1234
    d_longlong=undef, longlongsize=8, d_longdbl=define, longdblsize=12
    ivtype='long', ivsize=4, nvtype='double', nvsize=8, Off_t='long long', lseeksize=8
    alignbytes=8, prototype=define
  Linker and Libraries:
    ld='g++', ldflags ='-s -L"C:\Strawberry\perl\lib\CORE" -L"C:\Strawberry\c\lib"'
    libpth=C:\Strawberry\c\lib C:\Strawberry\c\i686-w64-mingw32\lib
    libs=-lmoldname -lkernel32 -luser32 -lgdi32 -lwinspool -lcomdlg32 -ladvapi32 -lshell32 -lole32 -loleaut32 -lnetapi32 -luuid -lws2_32 -lmpr -lwinmm -lversion -lodbc32 -lodbccp32 -lcomctl32
    perllibs=-lmoldname -lkernel32 -luser32 -lgdi32 -lwinspool -lcomdlg32 -ladvapi32 -lshell32 -lole32 -loleaut32 -lnetapi32 -luuid -lws2_32 -lmpr -lwinmm -lversion -lodbc32 -lodbccp32 -lcomctl32
    libc=, so=dll, useshrplib=true, libperl=libperl512.a
    gnulibc_version=''
  Dynamic Linking:
    dlsrc=dl_win32.xs, dlext=dll, d_dlsymun=undef, ccdlflags=' '
    cccdlflags=' ', lddlflags='-mdll -s -L"C:\Strawberry\perl\lib\CORE" -L"C:\Strawberry\c\lib"'


Characteristics of this binary (from libperl): 
  Compile-time options: MULTIPLICITY PERL_DONT_CREATE_GVSV
                        PERL_IMPLICIT_CONTEXT PERL_IMPLICIT_SYS
                        PERL_MALLOC_WRAP PL_OP_SLAB_ALLOC USE_ITHREADS
                        USE_LARGE_FILES USE_PERLIO USE_PERL_ATOF
                        USE_SITECUSTOMIZE
  Built under MSWin32
  Compiled at May 15 2011 17:02:01
  %ENV:
    PERL5LIB="C:\home\griffin\perl5\lib\perl5"
    PERL5_CPANPLUS_IS_RUNNING="12496"
    PERL5_CPAN_IS_RUNNING="12496"
    PERL_LOCAL_LIB_ROOT="C:\home\griffin\perl5"
    PERL_MB_OPT="--install_base "C:\\home\\griffin\\perl5""
    PERL_MM_OPT="INSTALL_BASE=C:\\home\\griffin\\perl5"
    PERL_MM_USE_DEFAULT="1"
  @INC:
    C:\home\griffin\perl5\lib\perl5/MSWin32-x86-multi-thread
    C:\home\griffin\perl5\lib\perl5
    C:/Strawberry/perl/site/lib
    C:/Strawberry/perl/vendor/lib
    C:/Strawberry/perl/lib
    .