Text-MacroScript v2.14 Perl 5 v5.42.0 x86_64-linux-thread-multi
        
            - Status
- Pass
- From
- Andreas J. König (ANDK)
- Dist
- 
                Text-MacroScript v2.14
            
- Platform
- Perl 5 v5.42.0 x86_64-linux-thread-multi
- Date
- 2025-07-09 13:12:29
- ID
- 5d7b4b4e-5cc6-11f0-91af-c662b80c50b8
This distribution has been tested as part of the CPAN Testers
project, supporting the Perl programming language.  See
http://wiki.cpantesters.org/ for more information or email
questions to cpan-testers-discuss@perl.org
--
Dear Paulo Custodio,
This is a computer-generated report for Text-MacroScript-2.14
on perl 5.42.0, created by CPAN-Reporter-1.2020.
Thank you for uploading your work to CPAN.  Congratulations!
All tests were successful.
Sections of this report:
    * Tester comments
    * Program output
    * Prerequisites
    * Environment and other context
------------------------------
TESTER COMMENTS
------------------------------
Additional comments from tester:
this report is from an automated smoke testing program
and was not reviewed by a human for accuracy
------------------------------
PROGRAM OUTPUT
------------------------------
Output from '/usr/bin/make test':
PERL_DL_NONLAZY=1 "/tmp/basesmoker-reloperl-oBbL/bin/perl" "-MExtUtils::Command::MM" "-MTest::Harness" "-e" "undef *Test::Harness::Switches; test_harness(0, 'blib/lib', 'blib/arch')" t/*.t
	(in cleanup) Error at file test~ line unknown: Unbalanced open structure at end of file
	(in cleanup) Error at file test~ line unknown: Unbalanced open structure at end of file
	(in cleanup) Error at file test~ line unknown: Unbalanced open structure at end of file
	(in cleanup) Error at file test~ line unknown: Unbalanced open structure at end of file
	(in cleanup) Error at file test~ line unknown: Unbalanced open structure at end of file
	(in cleanup) Error at file test~ line 3: Unbalanced open structure at end of file
	(in cleanup) Error at file test~ line unknown: Unbalanced open structure at end of file
Use of uninitialized value in die at /tmp/loop_over_bdir-2516185-SFtn5d/Text-MacroScript-2.14-0/blib/lib/Text/MacroScript.pm line 172 during global destruction.
	(in cleanup) Error at file  line unknown: Unbalanced open structure at end of file
t/expand_file.t ................ ok
t/fix_002.t .................... ok
t/fix_003.t .................... ok
t/fix_004.t .................... ok
t/fix_007.t .................... ok
t/fix_027.t .................... ok
t/fix_028_037.t ................ ok
t/fix_038.t .................... ok
t/fix_039.t .................... ok
t/fix_040.t .................... ok
t/fix_041.t .................... ok
t/fix_046.t .................... ok
t/fix_048.t .................... ok
t/fix_049.t .................... ok
t/fix_063.t .................... ok
# Issue #10: macrodir always in embedded mode, ignoring -p option
# Issue #10: macrodir always in embedded mode, ignoring -p option
# Issue #10: macrodir always in embedded mode, ignoring -p option
# Issue #10: macrodir always in embedded mode, ignoring -p option
# Issue #10: macrodir always in embedded mode, ignoring -p option
# Issue #10: macrodir always in embedded mode, ignoring -p option
# Issue #10: macrodir always in embedded mode, ignoring -p option
# Issue #10: macrodir always in embedded mode, ignoring -p option
# Issue #10: macrodir always in embedded mode, ignoring -p option
# Issue #9: macrodir -d: does not replicate source tree in target directory
# Issue #10: macrodir always in embedded mode, ignoring -p option
# Issue #10: macrodir always in embedded mode, ignoring -p option
# Issue #10: macrodir always in embedded mode, ignoring -p option
# Issue #10: macrodir always in embedded mode, ignoring -p option
# Issue #10: macrodir always in embedded mode, ignoring -p option
# Issue #10: macrodir always in embedded mode, ignoring -p option
# Issue #10: macrodir always in embedded mode, ignoring -p option
# Issue #10: macrodir always in embedded mode, ignoring -p option
# Issue #10: macrodir always in embedded mode, ignoring -p option
# Issue #10: macrodir always in embedded mode, ignoring -p option
t/macrodir.t ................... ok
# Issue #23: macropp: report errors on syntax error
# Issue #23: macropp: report errors on syntax error
t/macropp.t .................... ok
# Issue #1: expansion depends on size of macro name
# Issue #1: expansion depends on size of macro name
t/macros.t ..................... ok
t/macroscript.t ................ ok
t/new.t ........................ ok
	(in cleanup) Error at file - line unknown: Unbalanced open structure at end of file
t/new_case.t ................... ok
t/new_comment.t ................ ok
	(in cleanup) Error at file - line unknown: Unbalanced open structure at end of file
	(in cleanup) Error at file - line unknown: Unbalanced open structure at end of file
t/new_define_macro.t ........... ok
	(in cleanup) Error at file - line unknown: Unbalanced open structure at end of file
	(in cleanup) Error at file - line unknown: Unbalanced open structure at end of file
t/new_define_script.t .......... ok
	(in cleanup) Error at file - line unknown: Unbalanced open structure at end of file
t/new_define_variable.t ........ ok
t/new_embedded.t ............... ok
t/new_escapes.t ................ ok
t/new_expand_file.t ............ ok
t/new_list_macro.t ............. ok
t/new_list_script.t ............ ok
t/new_list_variable.t .......... ok
t/new_load_file.t .............. ok
t/new_require.t ................ ok
t/new_undefine_all_macro.t ..... ok
t/new_undefine_all_script.t .... ok
t/new_undefine_all_variable.t .. ok
t/new_undefine_macro.t ......... ok
t/new_undefine_script.t ........ ok
t/new_undefine_variable.t ...... ok
# Issue #7: expansion depends on size of script name
t/scripts.t .................... ok
t/variables.t .................. ok
All tests successful.
Files=41, Tests=1128, 14 wallclock secs ( 0.26 usr  0.08 sys +  8.53 cusr  1.43 csys = 10.30 CPU)
Result: PASS
------------------------------
PREREQUISITES
------------------------------
Prerequisite modules loaded:
requires:
    Module              Need     Have    
    ------------------- -------- --------
    Algorithm::Diff     1.201    1.201   
    Capture::Tiny       0.22     0.50    
    enum                1.1      1.12    
    Object::Tiny::RW    1.07     1.07    
    Path::Tiny          0.068    0.148   
    perl                5.010    5.042000
    Test::Differences   0.61     0.71    
    Test::More          1.001014 1.302214
build_requires:
    Module              Need     Have    
    ------------------- -------- --------
    ExtUtils::MakeMaker 0        7.76    
configure_requires:
    Module              Need     Have    
    ------------------- -------- --------
    ExtUtils::MakeMaker 0        7.76    
------------------------------
ENVIRONMENT AND OTHER CONTEXT
------------------------------
Environment variables:
    AUTOMATED_TESTING = 1
    LANG = en_US.UTF-8
    PATH = /home/sand/bin:/usr/local/bin:/usr/local/sbin:/usr/sbin:/usr/bin:/sbin:/bin:/usr/games:/usr/local/games:/snap/bin:/usr/local/perl/bin:/usr/X11/bin
    PERL = /tmp/basesmoker-reloperl-oBbL/bin/perl
    PERL5LIB = /tmp/loop_over_bdir-2516185-SFtn5d/HTML-Menu-TreeView-1.22-0/blib/arch:/tmp/loop_over_bdir-2516185-SFtn5d/HTML-Menu-TreeView-1.22-0/blib/lib:/tmp/loop_over_bdir-2516185-SFtn5d/ProjectBuilder-0.14.1-0/blib/arch:/tmp/loop_over_bdir-2516185-SFtn5d/ProjectBuilder-0.14.1-0/blib/lib:/tmp/loop_over_bdir-2516185-SFtn5d/Net-ISP-Balance-1.31-0/blib/arch:/tmp/loop_over_bdir-2516185-SFtn5d/Net-ISP-Balance-1.31-0/blib/lib:/tmp/loop_over_bdir-2516185-SFtn5d/Lemonldap-NG-Cli-0.2-0/blib/arch:/tmp/loop_over_bdir-2516185-SFtn5d/Lemonldap-NG-Cli-0.2-0/blib/lib:/tmp/loop_over_bdir-2516185-SFtn5d/Devel-Required-0.17-0/blib/arch:/tmp/loop_over_bdir-2516185-SFtn5d/Devel-Required-0.17-0/blib/lib:/tmp/loop_over_bdir-2516185-SFtn5d/Dpkg-1.22.21-0/blib/arch:/tmp/loop_over_bdir-2516185-SFtn5d/Dpkg-1.22.21-0/blib/lib:/tmp/loop_over_bdir-2516185-SFtn5d/triceps-2.1.0-0/blib/arch:/tmp/loop_over_bdir-2516185-SFtn5d/triceps-2.1.0-0/blib/lib:/tmp/loop_over_bdir-2516185-SFtn5d/DBIx-Migration-Directories-0.12-0/blib/arch:/tmp/loop_over_bdir-2516185-SFtn5d/DBIx-Migration-Directories-0.12-0/blib/lib
    PERL5OPT = 
    PERL5_CPANPLUS_IS_RUNNING = 2516194
    PERL5_CPAN_IS_RUNNING = 2516194
    PERL_CANARY_STABILITY_NOPROMPT = 1
    PERL_MM_USE_DEFAULT = 1
    PERL_USE_UNSAFE_INC = 1
    SHELL = /usr/bin/zsh
    TERM = screen
Perl special variables (and OS-specific diagnostics, for MSWin32):
    $^X = /tmp/basesmoker-reloperl-oBbL/bin/perl
    $UID/$EUID = 1005 / 1005
    $GID = 1005 1005
    $EGID = 1005 1005
Perl module toolchain versions installed:
    Module              Have    
    ------------------- --------
    CPAN                2.38    
    CPAN::Meta          2.150010
    Cwd                 3.94    
    ExtUtils::CBuilder  0.280242
    ExtUtils::Command   7.76    
    ExtUtils::Install   2.22    
    ExtUtils::MakeMaker 7.76    
    ExtUtils::Manifest  1.75    
    ExtUtils::ParseXS   3.57    
    File::Spec          3.94    
    JSON                4.10    
    JSON::PP            4.16    
    Module::Build       0.4234  
    Module::Signature   0.93    
    Parse::CPAN::Meta   2.150010
    Test2               1.302214
    Test::Harness       3.52    
    Test::More          1.302214
    YAML                1.31    
    YAML::Syck          1.34    
    version             0.9933  
--
Summary of my perl5 (revision 5 version 42 subversion 0) configuration:
  Commit id: 5551b97c3be30b899397b99d57993a39d13294f1
  Platform:
    osname=linux
    osvers=5.4.0-208-generic
    archname=x86_64-linux-thread-multi
    uname='linux k93focal 5.4.0-208-generic #228-ubuntu smp fri feb 7 19:41:33 utc 2025 x86_64 x86_64 x86_64 gnulinux '
    config_args='-Dprefix=/home/sand/src/perl/repoperls/installed-perls/host/k93focal/v5.42.0/d119 -Dmyhostname=k93focal -Dinstallusrbinperl=n -Uversiononly -Dusedevel -des -Ui_db -Dlibswanted=cl pthread socket inet nsl gdbm dbm malloc dl ld sun m crypt sec util c cposix posix ucb BSD gdbm_compat -Duseithreads -Uuselongdouble -DEBUGGING=both'
    hint=recommended
    useposix=true
    d_sigaction=define
    useithreads=define
    usemultiplicity=define
    use64bitint=define
    use64bitall=define
    uselongdouble=undef
    usemymalloc=n
    default_inc_excludes_dot=define
  Compiler:
    cc='cc'
    ccflags ='-D_REENTRANT -D_GNU_SOURCE -fwrapv -DDEBUGGING -fno-strict-aliasing -pipe -fstack-protector-strong -I/usr/local/include -D_LARGEFILE_SOURCE -D_FILE_OFFSET_BITS=64'
    optimize='-O2 -g'
    cppflags='-D_REENTRANT -D_GNU_SOURCE -fwrapv -DDEBUGGING -fno-strict-aliasing -pipe -fstack-protector-strong -I/usr/local/include'
    ccversion=''
    gccversion='9.4.0'
    gccosandvers=''
    intsize=4
    longsize=8
    ptrsize=8
    doublesize=8
    byteorder=12345678
    doublekind=3
    d_longlong=define
    longlongsize=8
    d_longdbl=define
    longdblsize=16
    longdblkind=3
    ivtype='long'
    ivsize=8
    nvtype='double'
    nvsize=8
    Off_t='off_t'
    lseeksize=8
    alignbytes=8
    prototype=define
  Linker and Libraries:
    ld='cc'
    ldflags =' -fstack-protector-strong -L/usr/local/lib'
    libpth=/usr/local/lib /usr/lib/x86_64-linux-gnu /usr/lib /usr/lib64
    libs=-lpthread -lnsl -ldl -lm -lcrypt -lutil -lc
    perllibs=-lpthread -lnsl -ldl -lm -lcrypt -lutil -lc
    libc=libc-2.31.so
    so=so
    useshrplib=false
    libperl=libperl.a
    gnulibc_version='2.31'
  Dynamic Linking:
    dlsrc=dl_dlopen.xs
    dlext=so
    d_dlsymun=undef
    ccdlflags='-Wl,-E'
    cccdlflags='-fPIC'
    lddlflags='-shared -O2 -g -L/usr/local/lib -fstack-protector-strong'
Characteristics of this binary (from libperl): 
  Compile-time options:
    DEBUGGING
    HAS_LONG_DOUBLE
    HAS_STRTOLD
    HAS_TIMES
    MULTIPLICITY
    PERLIO_LAYERS
    PERL_COPY_ON_WRITE
    PERL_DONT_CREATE_GVSV
    PERL_HASH_FUNC_SIPHASH13
    PERL_HASH_USE_SBOX32
    PERL_MALLOC_WRAP
    PERL_OP_PARENT
    PERL_PRESERVE_IVUV
    PERL_TRACK_MEMPOOL
    PERL_USE_DEVEL
    PERL_USE_SAFE_PUTENV
    USE_64_BIT_ALL
    USE_64_BIT_INT
    USE_ITHREADS
    USE_LARGE_FILES
    USE_LOCALE
    USE_LOCALE_COLLATE
    USE_LOCALE_CTYPE
    USE_LOCALE_NUMERIC
    USE_LOCALE_TIME
    USE_PERLIO
    USE_PERL_ATOF
    USE_REENTRANT_API
    USE_THREAD_SAFE_LOCALE
  Built under linux
  Compiled at Jul  4 2025 12:13:44
  %ENV:
    PERL="/tmp/basesmoker-reloperl-oBbL/bin/perl"
    PERL5LIB="/tmp/loop_over_bdir-2516185-SFtn5d/HTML-Menu-TreeView-1.22-0/blib/arch:/tmp/loop_over_bdir-2516185-SFtn5d/HTML-Menu-TreeView-1.22-0/blib/lib:/tmp/loop_over_bdir-2516185-SFtn5d/ProjectBuilder-0.14.1-0/blib/arch:/tmp/loop_over_bdir-2516185-SFtn5d/ProjectBuilder-0.14.1-0/blib/lib:/tmp/loop_over_bdir-2516185-SFtn5d/Net-ISP-Balance-1.31-0/blib/arch:/tmp/loop_over_bdir-2516185-SFtn5d/Net-ISP-Balance-1.31-0/blib/lib:/tmp/loop_over_bdir-2516185-SFtn5d/Lemonldap-NG-Cli-0.2-0/blib/arch:/tmp/loop_over_bdir-2516185-SFtn5d/Lemonldap-NG-Cli-0.2-0/blib/lib:/tmp/loop_over_bdir-2516185-SFtn5d/Devel-Required-0.17-0/blib/arch:/tmp/loop_over_bdir-2516185-SFtn5d/Devel-Required-0.17-0/blib/lib:/tmp/loop_over_bdir-2516185-SFtn5d/Dpkg-1.22.21-0/blib/arch:/tmp/loop_over_bdir-2516185-SFtn5d/Dpkg-1.22.21-0/blib/lib:/tmp/loop_over_bdir-2516185-SFtn5d/triceps-2.1.0-0/blib/arch:/tmp/loop_over_bdir-2516185-SFtn5d/triceps-2.1.0-0/blib/lib:/tmp/loop_over_bdir-2516185-SFtn5d/DBIx-Migration-Directories-0.12-0/blib/arch:/tmp/loop_over_bdir-2516185-SFtn5d/DBIx-Migration-Directories-0.12-0/blib/lib"
    PERL5OPT=""
    PERL5_CPANPLUS_IS_RUNNING="2516194"
    PERL5_CPAN_IS_RUNNING="2516194"
    PERL_CANARY_STABILITY_NOPROMPT="1"
    PERL_MM_USE_DEFAULT="1"
    PERL_USE_UNSAFE_INC="1"
  @INC:
    /tmp/loop_over_bdir-2516185-SFtn5d/HTML-Menu-TreeView-1.22-0/blib/arch
    /tmp/loop_over_bdir-2516185-SFtn5d/HTML-Menu-TreeView-1.22-0/blib/lib
    /tmp/loop_over_bdir-2516185-SFtn5d/ProjectBuilder-0.14.1-0/blib/arch
    /tmp/loop_over_bdir-2516185-SFtn5d/ProjectBuilder-0.14.1-0/blib/lib
    /tmp/loop_over_bdir-2516185-SFtn5d/Net-ISP-Balance-1.31-0/blib/arch
    /tmp/loop_over_bdir-2516185-SFtn5d/Net-ISP-Balance-1.31-0/blib/lib
    /tmp/loop_over_bdir-2516185-SFtn5d/Lemonldap-NG-Cli-0.2-0/blib/arch
    /tmp/loop_over_bdir-2516185-SFtn5d/Lemonldap-NG-Cli-0.2-0/blib/lib
    /tmp/loop_over_bdir-2516185-SFtn5d/Devel-Required-0.17-0/blib/arch
    /tmp/loop_over_bdir-2516185-SFtn5d/Devel-Required-0.17-0/blib/lib
    /tmp/loop_over_bdir-2516185-SFtn5d/Dpkg-1.22.21-0/blib/arch
    /tmp/loop_over_bdir-2516185-SFtn5d/Dpkg-1.22.21-0/blib/lib
    /tmp/loop_over_bdir-2516185-SFtn5d/triceps-2.1.0-0/blib/arch
    /tmp/loop_over_bdir-2516185-SFtn5d/triceps-2.1.0-0/blib/lib
    /tmp/loop_over_bdir-2516185-SFtn5d/DBIx-Migration-Directories-0.12-0/blib/arch
    /tmp/loop_over_bdir-2516185-SFtn5d/DBIx-Migration-Directories-0.12-0/blib/lib
    /home/sand/src/perl/repoperls/installed-perls/host/k93focal/v5.42.0/d119/lib/site_perl/5.42.0/x86_64-linux-thread-multi
    /home/sand/src/perl/repoperls/installed-perls/host/k93focal/v5.42.0/d119/lib/site_perl/5.42.0
    /home/sand/src/perl/repoperls/installed-perls/host/k93focal/v5.42.0/d119/lib/5.42.0/x86_64-linux-thread-multi
    /home/sand/src/perl/repoperls/installed-perls/host/k93focal/v5.42.0/d119/lib/5.42.0
    .