Task-Cpanel-Internal v11.36.001 Perl 5 v5.27.1 x86_64-linux-ld

Status
Pass
From
Andreas J. König (ANDK)
Dist
Task-Cpanel-Internal v11.36.001
Platform
Perl 5 v5.27.1 x86_64-linux-ld
Date
2017-08-19 13:50:30
ID
5d7eab34-84e5-11e7-80fc-a60f7a40f9df
This distribution has been tested as part of the CPAN Testers
project, supporting the Perl programming language.  See
http://wiki.cpantesters.org/ for more information or email
questions to cpan-testers-discuss@perl.org


--
Dear cPanel Inc.,

This is a computer-generated report for Task-Cpanel-Internal-11.36.001
on perl 5.27.1, created by CPAN-Reporter-1.2018.

Thank you for uploading your work to CPAN.  Congratulations!
All tests were successful.

Sections of this report:

    * Tester comments
    * Program output
    * Prerequisites
    * Environment and other context

------------------------------
TESTER COMMENTS
------------------------------

Additional comments from tester:

this report is from an automated smoke testing program
and was not reviewed by a human for accuracy

------------------------------
PROGRAM OUTPUT
------------------------------

Output from '/usr/bin/make test':

PERL_DL_NONLAZY=1 "/home/sand/src/perl/repoperls/installed-perls/host/k93msid/v5.27.1/2d7c/bin/perl" "-MExtUtils::Command::MM" "-MTest::Harness" "-e" "undef *Test::Harness::Switches; test_harness(0, 'blib/lib', 'blib/arch')" t/*.t
t/00-load.t ............. ok
t/manifest.t ............ skipped: Author tests not required for installation
t/pod.t ................. ok
t/release-pod-syntax.t .. skipped: these tests are for release candidate testing
All tests successful.
Files=4, Tests=129,  1 wallclock secs ( 0.03 usr  0.02 sys +  0.26 cusr  0.04 csys =  0.35 CPU)
Result: PASS

------------------------------
PREREQUISITES
------------------------------

Prerequisite modules loaded:

requires:

    Module                             Need Have      
    ---------------------------------- ---- ----------
    Acme::Bleach                       0    1.150     
    App::Ack                           0    2.18      
    Archive::Any                       0    0.0945    
    Archive::Tar                       0    2.26      
    Archive::Tar::Builder              0    2.5002    
    Authen::Libwrap                    0    0.23      
  ! B::C                               0    n/a       
    B::Flags                           0    0.17      
    BSD::Resource                      0    1.2911    
    Business::ISBN                     0    3.004     
    Capture::Tiny                      0    0.47      
    Class::C3                          0    0.33      
    Class::Inspector                   0    1.31      
    Compress::Zlib                     0    2.074     
    cPanel::SyncUtil                   0    0.8       
    Crypt::DES_EDE3                    0    0.01      
    Crypt::OpenPGP                     0    1.12      
    Crypt::Random                      0    1.25      
    Cwd                                0    3.67      
    Date::Parse                        0    2.30      
    DateTime                           0    1.43      
    DBD::Mock                          0    1.45      
    DBD::Pg                            0    3.6.2     
    DBI                                0    1.636     
    Devel::Cover                       0    1.25      
    Devel::NYTProf                     0    6.04      
    Devel::REPL                        0    1.003028  
    Devel::Size                        0    0.81      
    Diff::LibXDiff                     0    0.05      
    Digest::MD5                        0    2.55      
    Dist::Zilla::Plugin::GitHub::Meta  0    0.44      
    Dist::Zilla::Plugin::Repository    0    0.20      
    Dist::Zilla::PluginBundle::Git     0    2.042     
    Email::Address                     0    1.908     
    Encode::Detect                     0    1.01      
    Error                              0    0.17024   
    Expect                             0    1.35      
    ExtUtils::CBuilder                 0    0.280226  
    ExtUtils::Constant                 0    0.23      
    File::Comments                     0    0.08      
    File::Comments::Plugin::C          0    0.01      
    File::Copy::Recursive              0    0.38      
    File::Glob                         0    1.28      
    File::Path::Tiny                   0    0.8       
    File::Which                        0    1.21      
    Filesys::Df                        0    0.92      
    Filesys::POSIX                     0    0.9.19    
    Filter::Util::Call                 0    1.57      
    Getopt::Euclid                     0    0.4.5     
    Getopt::Param                      0    0.0.5     
    Git::Repository                    0    1.320     
    Git::Wrapper                       0    0.047     
  ! Graph::Easy::As_svg                0    n/a       
  ! Graph::Easy::Manual                0    n/a       
  ! GSSAPI                             0    n/a       
    Image::Xbm                         0    1.10      
    Image::Xpm                         0    1.13      
    IO::AIO                            0    4.34      
    IO::Interface                      0    1.09      
    IO::Prompt                         0    0.997004  
    IO::Tty                            0    1.12      
    JSON::XS                           0    3.03      
    Log::Log4perl                      0    1.49      
    Mail::SendEasy                     0    1.2       
    Mail::Sender::Easy                 0    0.0.5     
    Math::BigInt::GMP                  0    1.6004    
    Math::BigInt::Pari                 0    1.3003    
    Math::Pari                         0    2.01080900
    Math::Round                        0    0.07      
    Module::Extract::VERSION           0    1.113     
    Module::Install                    0    1.18      
    Module::Metadata                   0    1.000033  
    Module::Signature                  0    0.81      
    Module::Want                       0    0.6       
    Moo                                0    2.003002  
    Moose                              0    2.2006    
    Net::Ident                         0    1.24      
  ! Net::Jabber::Bot                   0    n/a       
    Net::OpenSSH                       0    0.74      
    Net::SSLeay                        0    1.81      
    Net::TCPwrappers                   0    1.11      
    Opcodes                            0    0.14      
    Path::Iter                         0    0.2       
    Perl::Tidy                         0    20170521  
  ! Perlbal                            0    n/a       
    Pod::Markdown                      0    3.005     
    Readonly::XS                       0    1.05      
    Regexp::Parser                     0    0.21      
  ! REST::Google::Translate            0    n/a       
  ! REST::Google::Translate2           0    n/a       
    SOAP::Lite                         0    1.20      
    Storable                           0    2.63      
    strict                             0    1.11      
    String::BOM                        0    0.3       
    String::CRC32                      0    1.6       
    Sub::Install                       0    0.928     
    Test::Class                        0    0.50      
    Test::CPAN::Meta                   0    0.25      
    Test::Exception                    0    0.43      
    Test::File::Contents               0    0.23      
    Test::Manifest                     0    2.02      
    Test::MinimumVersion               0    0.101082  
    Test::Mock::Cmd                    0    0.7       
    Test::MockModule                   0    0.12      
    Test::MockObject                   0    1.20161202
    Test::NoWarnings                   0    1.04      
    Test::Object                       0    0.07      
    Test::Output                       0    1.031     
    Test::Parallel                     0    0.20      
    Test::Pod                          0    1.51      
    Test::Pod::Coverage                0    1.10      
    Test::Script                       0    1.21_01   
    Test::SubCalls                     0    1.09      
    Test::Tester                       0    1.302088  
  ! Test::Unit                         0    n/a       
    Test::Warn                         0    0.32      
    Test::YAML::Meta                   0    0.22      
    Test::YAML::Valid                  0    0.04      
    Text::Extract::MaketextCallPhrases 0    0.94      
    Text::Fold                         0    0.5       
    Text::Iconv                        0    1.7       
    Text::Trim                         0    1.02      
    Time::HiRes                        0    1.9746    
    Variable::Magic                    0    0.61      
    warnings                           0    1.37      
    WWW::Mechanize                     0    1.86      
    XML::DOM                           0    1.46      
    XML::SAX                           0    0.99      
    YAML                               0    1.23      

build_requires:

    Module                             Need Have      
    ---------------------------------- ---- ----------
    FindBin                            0    1.51      
    Test::More                         0    1.302088  

configure_requires:

    Module                             Need Have      
    ---------------------------------- ---- ----------
    ExtUtils::MakeMaker                6.30 7.31_03   


------------------------------
ENVIRONMENT AND OTHER CONTEXT
------------------------------

Environment variables:

    AUTOMATED_TESTING = 1
    LANG = en_US.UTF-8
    PATH = /home/sand/bin:/usr/local/bin:/usr/bin:/bin:/usr/games:/usr/local/perl/bin:/usr/X11/bin:/sbin:/usr/sbin
    PERL5LIB = 
    PERL5OPT = 
    PERL5_CPANPLUS_IS_RUNNING = 19156
    PERL5_CPAN_IS_RUNNING = 19156
    PERL_CANARY_STABILITY_NOPROMPT = 1
    PERL_MM_USE_DEFAULT = 1
    PERL_USE_UNSAFE_INC = 1
    SHELL = /usr/bin/zsh
    TERM = screen

Perl special variables (and OS-specific diagnostics, for MSWin32):

    $^X = /home/sand/src/perl/repoperls/installed-perls/host/k93msid/v5.27.1/2d7c/bin/perl
    $UID/$EUID = 1005 / 1005
    $GID = 1005 1005
    $EGID = 1005 1005

Perl module toolchain versions installed:

    Module              Have    
    ------------------- --------
    CPAN                2.18    
    CPAN::Meta          2.150010
    Cwd                 3.67    
    ExtUtils::CBuilder  0.280226
    ExtUtils::Command   7.31_03 
    ExtUtils::Install   2.14    
    ExtUtils::MakeMaker 7.31_03 
    ExtUtils::Manifest  1.70    
    ExtUtils::ParseXS   3.35    
    File::Spec          3.67    
    JSON                2.94    
    JSON::PP            2.94    
    Module::Build       0.4224  
    Module::Signature   0.81    
    Parse::CPAN::Meta   2.150010
    Test::Harness       3.40_01 
    Test::More          1.302088
    YAML                1.23    
    YAML::Syck          1.30    
    version             0.9918  


--

Summary of my perl5 (revision 5 version 27 subversion 1) configuration:
  Commit id: c13d440c84d87f6921931062eadca1f58969ac98
  Platform:
    osname=linux
    osvers=4.9.0-2-amd64
    archname=x86_64-linux-ld
    uname='linux k93msid 4.9.0-2-amd64 #1 smp debian 4.9.18-1 (2017-03-30) x86_64 gnulinux '
    config_args='-Dprefix=/home/sand/src/perl/repoperls/installed-perls/host/k93msid/v5.27.1/2d7c -Dmyhostname=k93msid -Dinstallusrbinperl=n -Uversiononly -Dusedevel -des -Ui_db -Dlibswanted=cl pthread socket inet nsl gdbm dbm malloc dl ld sun m crypt sec util c cposix posix ucb BSD gdbm_compat -Uuseithreads -Duselongdouble -DDEBUGGING=-g'
    hint=recommended
    useposix=true
    d_sigaction=define
    useithreads=undef
    usemultiplicity=undef
    use64bitint=define
    use64bitall=define
    uselongdouble=define
    usemymalloc=n
    default_inc_excludes_dot=define
    bincompat5005=undef
  Compiler:
    cc='cc'
    ccflags ='-fwrapv -fno-strict-aliasing -pipe -fstack-protector-strong -I/usr/local/include -D_LARGEFILE_SOURCE -D_FILE_OFFSET_BITS=64'
    optimize='-O2 -g'
    cppflags='-fwrapv -fno-strict-aliasing -pipe -fstack-protector-strong -I/usr/local/include'
    ccversion=''
    gccversion='6.3.0 20170406'
    gccosandvers=''
    intsize=4
    longsize=8
    ptrsize=8
    doublesize=8
    byteorder=12345678
    doublekind=3
    d_longlong=define
    longlongsize=8
    d_longdbl=define
    longdblsize=16
    longdblkind=3
    ivtype='long'
    ivsize=8
    nvtype='long double'
    nvsize=16
    Off_t='off_t'
    lseeksize=8
    alignbytes=16
    prototype=define
  Linker and Libraries:
    ld='cc'
    ldflags =' -fstack-protector-strong -L/usr/local/lib'
    libpth=/usr/local/lib /usr/lib/gcc/x86_64-linux-gnu/6/include-fixed /usr/include/x86_64-linux-gnu /usr/lib /lib/x86_64-linux-gnu /lib/../lib /usr/lib/x86_64-linux-gnu /usr/lib/../lib /lib
    libs=-lpthread -lnsl -ldl -lm -lcrypt -lutil -lc
    perllibs=-lpthread -lnsl -ldl -lm -lcrypt -lutil -lc
    libc=libc-2.24.so
    so=so
    useshrplib=false
    libperl=libperl.a
    gnulibc_version='2.24'
  Dynamic Linking:
    dlsrc=dl_dlopen.xs
    dlext=so
    d_dlsymun=undef
    ccdlflags='-Wl,-E'
    cccdlflags='-fPIC'
    lddlflags='-shared -O2 -g -L/usr/local/lib -fstack-protector-strong'


Characteristics of this binary (from libperl): 
  Compile-time options:
    HAS_TIMES
    PERLIO_LAYERS
    PERL_COPY_ON_WRITE
    PERL_DONT_CREATE_GVSV
    PERL_MALLOC_WRAP
    PERL_OP_PARENT
    PERL_PRESERVE_IVUV
    PERL_USE_DEVEL
    USE_64_BIT_ALL
    USE_64_BIT_INT
    USE_LARGE_FILES
    USE_LOCALE
    USE_LOCALE_COLLATE
    USE_LOCALE_CTYPE
    USE_LOCALE_NUMERIC
    USE_LOCALE_TIME
    USE_LONG_DOUBLE
    USE_PERLIO
    USE_PERL_ATOF
  Built under linux
  Compiled at Jun 20 2017 21:37:36
  %ENV:
    PERL5LIB=""
    PERL5OPT=""
    PERL5_CPANPLUS_IS_RUNNING="19156"
    PERL5_CPAN_IS_RUNNING="19156"
    PERL_CANARY_STABILITY_NOPROMPT="1"
    PERL_MM_USE_DEFAULT="1"
    PERL_USE_UNSAFE_INC="1"
  @INC:
    /home/sand/src/perl/repoperls/installed-perls/host/k93msid/v5.27.1/2d7c/lib/site_perl/5.27.1/x86_64-linux-ld
    /home/sand/src/perl/repoperls/installed-perls/host/k93msid/v5.27.1/2d7c/lib/site_perl/5.27.1
    /home/sand/src/perl/repoperls/installed-perls/host/k93msid/v5.27.1/2d7c/lib/5.27.1/x86_64-linux-ld
    /home/sand/src/perl/repoperls/installed-perls/host/k93msid/v5.27.1/2d7c/lib/5.27.1
    .