Report for ControlFreak-1.0.0

Back
From: metabase:user:314402c4-2aae-11df-837a-5e0a49663a4f
Subject: PASS ControlFreak-1.0.0 v5.27.2 Mac OS X
Date: 2017-07-29T19:01:45Z

This distribution has been tested as part of the CPAN Testers
project, supporting the Perl programming language.  See
http://wiki.cpantesters.org/ for more information or email
questions to cpan-testers-discuss@perl.org


--
Dear Yann Kerherve,

This is a computer-generated report for ControlFreak-1.0.0
on perl 5.27.2, created by CPAN-Reporter-1.2018.

Thank you for uploading your work to CPAN.  Congratulations!
All tests were successful.

Sections of this report:

    * Tester comments
    * Program output
    * Prerequisites
    * Environment and other context

------------------------------
TESTER COMMENTS
------------------------------

Additional comments from tester:

none provided

------------------------------
PROGRAM OUTPUT
------------------------------

Output from '/usr/bin/make test':

PERL_DL_NONLAZY=1 "/opt/perl-5.27.2/bin/perl5.27.2" "-MExtUtils::Command::MM" "-MTest::Harness" "-e" "undef *Test::Harness::Switches; test_harness(0, 'inc', 'blib/lib', 'blib/arch')" t/*.t
t/00_compile.t ....... ok
t/01_basic.t ......... ok
t/02_commands.t ...... ok
t/03_svclifecycle.t .. ok
Socket creation attempt without ctrl at /Users/eserte/.cpan/build/2017072918/ControlFreak-1.0.0-3/lib/ControlFreak/Socket.pm line 88.
t/04_socket.t ........ ok
t/05_auto_proxy.t .... ok
t/05_proxy_cmds.t .... ok
t/06_tags.t .......... ok
All tests successful.
Files=8, Tests=257,  8 wallclock secs ( 0.06 usr  0.02 sys +  1.16 cusr  0.39 csys =  1.63 CPU)
Result: PASS

------------------------------
PREREQUISITES
------------------------------

Prerequisite modules loaded:

requires:

    Module              Need     Have    
    ------------------- -------- --------
    AnyEvent            5.202    7.14    
    EV                  0        4.22    
    Find::Lib           0        1.04    
    JSON::XS            0        3.03    
    Log::Log4perl       0        1.49    
    Object::Tiny        0        1.08    
    Params::Util        0        1.07    
    perl                5.008001 5.027002
    Pod::Usage          0        1.69    
    Try::Tiny           0        0.28    

build_requires:

    Module              Need     Have    
    ------------------- -------- --------
    ExtUtils::MakeMaker 6.42     7.30    
    Test::Deep          0        1.127   
    Test::Exception     0        0.43    
    Test::More          0        1.302086

configure_requires:

    Module              Need     Have    
    ------------------- -------- --------
    ExtUtils::MakeMaker 6.42     7.30    


------------------------------
ENVIRONMENT AND OTHER CONTEXT
------------------------------

Environment variables:

    LANG = de_DE.UTF-8
    PATH = /usr/local/bin:/usr/bin:/bin:/usr/local/sbin:/usr/sbin:/sbin:/Users/eserte/bin/darwin15.0:/Users/eserte/bin/sh:/Users/eserte/bin:/Users/eserte/bin/pistachio-perl/bin:/usr/games:/Users/eserte/devel:/Users/eserte/work/drafts-slaven.rezic/misc:/Users/eserte/src/srezic-misc/scripts
    PERL5LIB = /Users/eserte/.cpan/build/2017072918/Object-Tiny-1.08-3/blib/arch:/Users/eserte/.cpan/build/2017072918/Object-Tiny-1.08-3/blib/lib:/Users/eserte/.cpan/build/2017072918/Log-Log4perl-1.49-1/blib/arch:/Users/eserte/.cpan/build/2017072918/Log-Log4perl-1.49-1/blib/lib:/Users/eserte/.cpan/build/2017072918/Find-Lib-1.04-3/blib/arch:/Users/eserte/.cpan/build/2017072918/Find-Lib-1.04-3/blib/lib:/Users/eserte/.cpan/build/2017072918/EV-4.22-1/blib/arch:/Users/eserte/.cpan/build/2017072918/EV-4.22-1/blib/lib:/Users/eserte/.cpan/build/2017072918/AnyEvent-7.14-1/blib/arch:/Users/eserte/.cpan/build/2017072918/AnyEvent-7.14-1/blib/lib
    PERL5OPT = 
    PERL5_CPANPLUS_IS_RUNNING = 56911
    PERL5_CPAN_IS_RUNNING = 56911
    PERL5_CPAN_IS_RUNNING_IN_RECURSION = 50597,56911
    PERLDOC = -MPod::Perldoc::ToTextOverstrike
    PERL_BATCH = yes
    PERL_CANARY_STABILITY_NOPROMPT = 1
    PERL_CPAN_REPORTER_CONFIG = /var/tmp/cpansmoker-501/2017072918/cpanreporter_000_config.ini
    PERL_EXTUTILS_AUTOINSTALL = --defaultdeps
    PERL_USE_UNSAFE_INC = 1
    SHELL = /bin/zsh
    TERM = screen
    TMPDIR = /var/tmp/cpansmoker-501/2017072918

Perl special variables (and OS-specific diagnostics, for MSWin32):

    $^X = /opt/perl-5.27.2/bin/perl5.27.2
    $UID/$EUID = 501 / 501
    $GID = 20 20 701 12 61 79 80 81 98 33 100 204 395 398 399
    $EGID = 20 20 701 12 61 79 80 81 98 33 100 204 395 398 399

Perl module toolchain versions installed:

    Module              Have    
    ------------------- --------
    CPAN                2.18    
    CPAN::Meta          2.150010
    Cwd                 3.68    
    ExtUtils::CBuilder  0.280228
    ExtUtils::Command   7.30    
    ExtUtils::Install   2.14    
    ExtUtils::MakeMaker 7.30    
    ExtUtils::Manifest  1.70    
    ExtUtils::ParseXS   3.34    
    File::Spec          3.68    
    JSON                2.94    
    JSON::PP            2.94    
    Module::Build       0.4224  
    Module::Signature   0.81    
    Parse::CPAN::Meta   2.150010
    Test::Harness       3.39    
    Test::More          1.302086
    YAML                1.23    
    YAML::Syck          1.30    
    version             0.9918  


--

Summary of my perl5 (revision 5 version 27 subversion 2) configuration:
   
  Platform:
    osname=darwin
    osvers=15.6.0
    archname=darwin-2level
    uname='darwin macbook.herceg.de 15.6.0 darwin kernel version 15.6.0: thu jun 23 18:25:34 pdt 2016; root:xnu-3248.60.10~1release_x86_64 x86_64 '
    config_args='-ds -e -Dprefix=/opt/perl-5.27.2 -Dusedevel -Dusemallocwrap=no -Dcf_email=srezic@cpan.org'
    hint=previous
    useposix=true
    d_sigaction=define
    useithreads=undef
    usemultiplicity=undef
    use64bitint=define
    use64bitall=define
    uselongdouble=undef
    usemymalloc=n
    default_inc_excludes_dot=define
    bincompat5005=undef
  Compiler:
    cc='cc'
    ccflags ='-fno-common -DPERL_DARWIN -mmacosx-version-min=10.11 -fno-strict-aliasing -pipe -fstack-protector-strong -I/usr/local/include -DPERL_USE_SAFE_PUTENV'
    optimize='-O3'
    cppflags='-fno-common -DPERL_DARWIN -mmacosx-version-min=10.11 -fno-strict-aliasing -pipe -fstack-protector-strong -I/usr/local/include'
    ccversion=''
    gccversion='4.2.1 Compatible Apple LLVM 8.0.0 (clang-800.0.42.1)'
    gccosandvers=''
    intsize=4
    longsize=8
    ptrsize=8
    doublesize=8
    byteorder=12345678
    doublekind=3
    d_longlong=define
    longlongsize=8
    d_longdbl=define
    longdblsize=16
    longdblkind=3
    ivtype='long'
    ivsize=8
    nvtype='double'
    nvsize=8
    Off_t='off_t'
    lseeksize=8
    alignbytes=8
    prototype=define
  Linker and Libraries:
    ld='cc'
    ldflags =' -mmacosx-version-min=10.11 -fstack-protector-strong -L/usr/local/lib'
    libpth=/usr/local/lib /Library/Developer/CommandLineTools/usr/bin/../lib/clang/8.0.0/lib /Library/Developer/CommandLineTools/usr/lib /usr/lib /usr/local/lib /Library/Developer/CommandLineTools/usr/bin/../lib/clang/8.0.0/lib /Library/Developer/CommandLineTools/usr/lib /usr/lib
    libs=-lpthread -ldbm -ldb -ldl -lm -lutil -lc
    perllibs=-lpthread -ldl -lm -lutil -lc
    libc=
    so=dylib
    useshrplib=false
    libperl=libperl.a
    gnulibc_version=''
  Dynamic Linking:
    dlsrc=dl_dlopen.xs
    dlext=bundle
    d_dlsymun=undef
    ccdlflags=' '
    cccdlflags=' '
    lddlflags=' -mmacosx-version-min=10.11 -bundle -undefined dynamic_lookup -L/usr/local/lib -fstack-protector-strong'


Characteristics of this binary (from libperl): 
  Compile-time options:
    HAS_TIMES
    PERLIO_LAYERS
    PERL_COPY_ON_WRITE
    PERL_DONT_CREATE_GVSV
    PERL_OP_PARENT
    PERL_PRESERVE_IVUV
    PERL_USE_DEVEL
    PERL_USE_SAFE_PUTENV
    USE_64_BIT_ALL
    USE_64_BIT_INT
    USE_LARGE_FILES
    USE_LOCALE
    USE_LOCALE_COLLATE
    USE_LOCALE_CTYPE
    USE_LOCALE_NUMERIC
    USE_LOCALE_TIME
    USE_PERLIO
    USE_PERL_ATOF
  Built under darwin
  Compiled at Jul 24 2017 22:46:41
  %ENV:
    PERL5LIB="/Users/eserte/.cpan/build/2017072918/Object-Tiny-1.08-3/blib/arch:/Users/eserte/.cpan/build/2017072918/Object-Tiny-1.08-3/blib/lib:/Users/eserte/.cpan/build/2017072918/Log-Log4perl-1.49-1/blib/arch:/Users/eserte/.cpan/build/2017072918/Log-Log4perl-1.49-1/blib/lib:/Users/eserte/.cpan/build/2017072918/Find-Lib-1.04-3/blib/arch:/Users/eserte/.cpan/build/2017072918/Find-Lib-1.04-3/blib/lib:/Users/eserte/.cpan/build/2017072918/EV-4.22-1/blib/arch:/Users/eserte/.cpan/build/2017072918/EV-4.22-1/blib/lib:/Users/eserte/.cpan/build/2017072918/AnyEvent-7.14-1/blib/arch:/Users/eserte/.cpan/build/2017072918/AnyEvent-7.14-1/blib/lib"
    PERL5OPT=""
    PERL5_CPANPLUS_IS_RUNNING="56911"
    PERL5_CPAN_IS_RUNNING="56911"
    PERL5_CPAN_IS_RUNNING_IN_RECURSION="50597,56911"
    PERLDOC="-MPod::Perldoc::ToTextOverstrike"
    PERL_BATCH="yes"
    PERL_CANARY_STABILITY_NOPROMPT="1"
    PERL_CPAN_REPORTER_CONFIG="/var/tmp/cpansmoker-501/2017072918/cpanreporter_000_config.ini"
    PERL_EXTUTILS_AUTOINSTALL="--defaultdeps"
    PERL_USE_UNSAFE_INC="1"
  @INC:
    /Users/eserte/.cpan/build/2017072918/Object-Tiny-1.08-3/blib/arch
    /Users/eserte/.cpan/build/2017072918/Object-Tiny-1.08-3/blib/lib
    /Users/eserte/.cpan/build/2017072918/Log-Log4perl-1.49-1/blib/arch
    /Users/eserte/.cpan/build/2017072918/Log-Log4perl-1.49-1/blib/lib
    /Users/eserte/.cpan/build/2017072918/Find-Lib-1.04-3/blib/arch
    /Users/eserte/.cpan/build/2017072918/Find-Lib-1.04-3/blib/lib
    /Users/eserte/.cpan/build/2017072918/EV-4.22-1/blib/arch
    /Users/eserte/.cpan/build/2017072918/EV-4.22-1/blib/lib
    /Users/eserte/.cpan/build/2017072918/AnyEvent-7.14-1/blib/arch
    /Users/eserte/.cpan/build/2017072918/AnyEvent-7.14-1/blib/lib
    /opt/perl-5.27.2/lib/site_perl/5.27.2/darwin-2level
    /opt/perl-5.27.2/lib/site_perl/5.27.2
    /opt/perl-5.27.2/lib/5.27.2/darwin-2level
    /opt/perl-5.27.2/lib/5.27.2
    .