Crypt-OpenSSL-PKCS10 v0.35 Perl 5 v5.41.9 x86_64-dragonfly-thread-multi

Status
Pass
From
Carlos Guevara
Dist
Crypt-OpenSSL-PKCS10 v0.35
Platform
Perl 5 v5.41.9 x86_64-dragonfly-thread-multi
Date
2025-02-17 12:40:28
ID
5e0557a8-ed2c-11ef-94e8-ae05fec219c9
This distribution has been tested as part of the CPAN Testers
project, supporting the Perl programming language.  See
http://wiki.cpantesters.org/ for more information or email
questions to cpan-testers-discuss@perl.org


--
Dear Timothy Legge,

This is a computer-generated report for Crypt-OpenSSL-PKCS10-0.35
on perl 5.41.9, created by CPAN-Reporter-1.2020.

Thank you for uploading your work to CPAN.  Congratulations!
All tests were successful.

Sections of this report:

    * Tester comments
    * Program output
    * Prerequisites
    * Environment and other context

------------------------------
TESTER COMMENTS
------------------------------

Additional comments from tester:

this report is from an automated smoke testing program
and was not reviewed by a human for accuracy

------------------------------
PROGRAM OUTPUT
------------------------------

Output from '/usr/bin/make test':

"/home/cpan/bin/perl/bin/perl5.41.9" -MExtUtils::Command::MM -e 'cp_nonempty' -- PKCS10.bs blib/arch/auto/Crypt/OpenSSL/PKCS10/PKCS10.bs 644
PERL_DL_NONLAZY=1 "/home/cpan/bin/perl/bin/perl5.41.9" "-MExtUtils::Command::MM" "-MTest::Harness" "-e" "undef *Test::Harness::Switches; test_harness(0, 'blib/lib', 'blib/arch')" t/*.t
# OpenSSL 3.0.13 30 Jan 2024 (Library: OpenSSL 3.0.13 30 Jan 2024)
t/00-openssl-version.t .. ok
t/10-rsa-keys.t ......... ok
t/20-ec.t ............... ok
t/30-ec-keys.t .......... ok
t/author-pod-spell.t .... skipped: these tests are for testing by the author
t/author-pod-syntax.t ... skipped: these tests are for testing by the author
-----BEGIN CERTIFICATE REQUEST-----
MIIBPzCBqQIBADAAMIGfMA0GCSqGSIb3DQEBAQUAA4GNADCBiQKBgQDXGcQyE6B0
GhPaMr8i4Mgumwc7xhUXzgOXkyqAvYlWQWZBlg8LUzXi5i1UeE1Q9XUuDT+1rKI0
Fh0Quq5antUVWzHdK028k4zJKp91ANMri9+Fuy8unIM0WcKLqTSBsAzpkWwg33eq
5p+PllLsBHiAb3htYP27kLSJ9JHDL/o3KQIDAQABoAAwDQYJKoZIhvcNAQELBQAD
gYEAxDKIf+g4BpIDHFO6LE7lEd4+JEK29VbKyAWpNJoxF3gCELxHYXr3ZB+3Ou1c
zq2t7qYPTRYwVXVGxKqYC+VpaTrW3XpDYraNbgwFl3MRlO5S1HoUCZSv1QRGjMOg
mA66Rmel9BgUlWaBo7RdUBJ3gawELn7aEY0OwdHW1/tUFsM=
-----END CERTIFICATE REQUEST-----
-----BEGIN PRIVATE KEY-----
MIICdgIBADANBgkqhkiG9w0BAQEFAASCAmAwggJcAgEAAoGBANcZxDIToHQaE9oy
vyLgyC6bBzvGFRfOA5eTKoC9iVZBZkGWDwtTNeLmLVR4TVD1dS4NP7WsojQWHRC6
rlqe1RVbMd0rTbyTjMkqn3UA0yuL34W7Ly6cgzRZwoupNIGwDOmRbCDfd6rmn4+W
UuwEeIBveG1g/buQtIn0kcMv+jcpAgMBAAECgYA15ij5e12LejVbSbgHX1gKBaLM
YZhLfL39r0zJMbVGPeEHsjhW2CT6lD7rmbGWBcu1HHDIb1e9wYTK+lxSLNarq26j
BYz6FLJWmBf9JgWNnO1Rkp82nlFxvSLpnHuohE9R6MmsMAHQlynBIiU57owUwj7h
JS5ucvBgt8H3pnQamQJBAPrmlGP6IolwEhqaHFByl7pXjtn7mvok5AbWFfK0jIin
C5ZlDhgP0mdCg8npPwWCUnWV7F37c/qJoazUkjMfGysCQQDbeOvdvkwpqE8EEhwk
SPNO6crLnT/t8TDjRCan25LB8sFziTGeYDKl7MVGr6Mltx4x8qnahAQIy4pHAuH6
Fbz7AkEA7o7Y3uqRdg5KGGMZsuASJgpkeBzEMT1sVpeuDLPgv3ndCaWSLgy1KJtU
xWFyG6HbF5RyRrX0g23jfHotfFACOwJAfWkOlqosCU3UwQW8MPvClKBBsrILmuLM
xcDmudpddRhLdMK7qL1dk7TFUcwBVQbbaT0509TGHWR5gnRiPq53SwJAGRb4BxZK
AskYCpGWFx4ir+s6nERrgySmAUPhnzWA+FIzUClOq/d2vwGKPOPYVcjbqk2tQZ/t
jEOpq4URSFJOTg==
-----END PRIVATE KEY-----


Public-Key: (1024 bit)
Modulus:
    00:d7:19:c4:32:13:a0:74:1a:13:da:32:bf:22:e0:
    c8:2e:9b:07:3b:c6:15:17:ce:03:97:93:2a:80:bd:
    89:56:41:66:41:96:0f:0b:53:35:e2:e6:2d:54:78:
    4d:50:f5:75:2e:0d:3f:b5:ac:a2:34:16:1d:10:ba:
    ae:5a:9e:d5:15:5b:31:dd:2b:4d:bc:93:8c:c9:2a:
    9f:75:00:d3:2b:8b:df:85:bb:2f:2e:9c:83:34:59:
    c2:8b:a9:34:81:b0:0c:e9:91:6c:20:df:77:aa:e6:
    9f:8f:96:52:ec:04:78:80:6f:78:6d:60:fd:bb:90:
    b4:89:f4:91:c3:2f:fa:37:29
Exponent: 65537 (0x10001)

-----BEGIN CERTIFICATE REQUEST-----
MIIBPzCBqQIBADAAMIGfMA0GCSqGSIb3DQEBAQUAA4GNADCBiQKBgQDVnMIUT1NO
ldrDb23nX3GM/fV9G2b9ASIIDG8CBwwmEcnOTrYlD6R/nnJLQOod5RbI1RmSlHS7
kx8qbs6Z3G8VMUlTxIlALhIF8MHvfTnuKCnUC6a7o6M5KorEdC67vS0g2yjNZjVd
RUvJ1g1GCIL7HS8ugAWAFvpOQEXPe5keTwIDAQABoAAwDQYJKoZIhvcNAQELBQAD
gYEAcv7PvfeR7sA7QM8LH6ofGa4PJx7mB6oigeSsJDiXR7+2cL1U7fnjiQzue2jE
w0elIIt+YQumNova8TeFdheNMdQV0pfLkPqRsf6uCWL7WK6kgsOSQPAxTy09UNfg
aH2E0cp8oBn//BtypNX6GmYqkmb1A8HC1teIlyHFlIsF06o=
-----END CERTIFICATE REQUEST-----

Public-Key: (1024 bit)
Modulus:
    00:d5:9c:c2:14:4f:53:4e:95:da:c3:6f:6d:e7:5f:
    71:8c:fd:f5:7d:1b:66:fd:01:22:08:0c:6f:02:07:
    0c:26:11:c9:ce:4e:b6:25:0f:a4:7f:9e:72:4b:40:
    ea:1d:e5:16:c8:d5:19:92:94:74:bb:93:1f:2a:6e:
    ce:99:dc:6f:15:31:49:53:c4:89:40:2e:12:05:f0:
    c1:ef:7d:39:ee:28:29:d4:0b:a6:bb:a3:a3:39:2a:
    8a:c4:74:2e:bb:bd:2d:20:db:28:cd:66:35:5d:45:
    4b:c9:d6:0d:46:08:82:fb:1d:2f:2e:80:05:80:16:
    fa:4e:40:45:cf:7b:99:1e:4f
Exponent: 65537 (0x10001)

rsa
-----BEGIN PUBLIC KEY-----
MIGfMA0GCSqGSIb3DQEBAQUAA4GNADCBiQKBgQDVnMIUT1NOldrDb23nX3GM/fV9
G2b9ASIIDG8CBwwmEcnOTrYlD6R/nnJLQOod5RbI1RmSlHS7kx8qbs6Z3G8VMUlT
xIlALhIF8MHvfTnuKCnUC6a7o6M5KorEdC67vS0g2yjNZjVdRUvJ1g1GCIL7HS8u
gAWAFvpOQEXPe5keTwIDAQAB
-----END PUBLIC KEY-----

-----BEGIN CERTIFICATE REQUEST-----
MIIBPzCBqQIBADAAMIGfMA0GCSqGSIb3DQEBAQUAA4GNADCBiQKBgQC3Yzv2cUoy
/e84EvY6MCZetwWHYqEuuc+BrrJC7YFlzY7nEYcT+T3W5Y52Wq8GdQCypjraahG8
iB9m1KxrhWhgIqbeXqhsW4ramxr4G5qf32Gwg8/AzywYc5NkVrvPRHzmwzwWGUiW
jVZshsdfVnJHW87XBAHtrEyqff6AQksDKwIDAQABoAAwDQYJKoZIhvcNAQEMBQAD
gYEAheqrfO5++rWLMzAbqJm2RDn53pb4IPhQw8EzOXfiMGVjURgCWUR8RwWhDNAY
z+E5A1t63Wtc7ra/70/QYqBkMFqgnOSlH48LALhCHbH4bil6bwF+vS0WJrYfsE9P
NvT4p5HKp+TWPFoKoNM4u6uN1OAWaK2z5tyGTZYs/txTBKM=
-----END CERTIFICATE REQUEST-----

Public-Key: (1024 bit)
Modulus:
    00:b7:63:3b:f6:71:4a:32:fd:ef:38:12:f6:3a:30:
    26:5e:b7:05:87:62:a1:2e:b9:cf:81:ae:b2:42:ed:
    81:65:cd:8e:e7:11:87:13:f9:3d:d6:e5:8e:76:5a:
    af:06:75:00:b2:a6:3a:da:6a:11:bc:88:1f:66:d4:
    ac:6b:85:68:60:22:a6:de:5e:a8:6c:5b:8a:da:9b:
    1a:f8:1b:9a:9f:df:61:b0:83:cf:c0:cf:2c:18:73:
    93:64:56:bb:cf:44:7c:e6:c3:3c:16:19:48:96:8d:
    56:6c:86:c7:5f:56:72:47:5b:ce:d7:04:01:ed:ac:
    4c:aa:7d:fe:80:42:4b:03:2b
Exponent: 65537 (0x10001)

rsa
-----BEGIN PUBLIC KEY-----
MIGfMA0GCSqGSIb3DQEBAQUAA4GNADCBiQKBgQC3Yzv2cUoy/e84EvY6MCZetwWH
YqEuuc+BrrJC7YFlzY7nEYcT+T3W5Y52Wq8GdQCypjraahG8iB9m1KxrhWhgIqbe
XqhsW4ramxr4G5qf32Gwg8/AzywYc5NkVrvPRHzmwzwWGUiWjVZshsdfVnJHW87X
BAHtrEyqff6AQksDKwIDAQAB
-----END PUBLIC KEY-----

-----BEGIN CERTIFICATE REQUEST-----
MIICJzCCAZACAQAwKTELMAkGA1UEBhMCUk8xDDAKBgNVBAoMA1VUSTEMMAoGA1UE
CwwDc3NpMIGfMA0GCSqGSIb3DQEBAQUAA4GNADCBiQKBgQCu9eY0do1/pZfh5uSD
b253MG4HAqs9KjYY9r31UzNUc3qI8AxtHgqPl51Z6lJSlt9eHAgovgbAW0K9L0si
HLKB+BHVEZDh3tPu9XVxS+E4O7/F4hwhYVP4tDfdzyWI8Unq8U6PLQ2Tdr78a/6d
y38e5L76uV8FDQN6qeZ/CPuifQIDAQABoIG9MIG6BgkqhkiG9w0BCQ4xgawwgakw
DgYDVR0PAQH/BAQDAgWgMC4GA1UdJQQnMCUGCCsGAQUFBwMBBglghkgBhvhCBAEG
CisGAQQBgjcKAwMGAisEMBwGA1UdEQQVMBOBEXN0ZXZlQG9wZW5zc2wub3JnMB0G
A1UdDgQWBBRYoNt3sZM+LzapgW6Zw9yo8wXSAjAZBgMqAwMEEhYQTXkgbmV3IGV4
dGVuc2lvbjAPBgMqAwQECB4GAGEAYgBjMA0GCSqGSIb3DQEBCwUAA4GBACKBWPtb
dCt9MadYgHxFmvELtF7AGsqaaxjP46BXrE570+/WBrvSXTCzGeHpuIRimVdeR11j
YA4O4QWqOpGGFNarQYcZvLZRybdC+JhrPwxPYeHRbyYj/YyEWrQ+jCuIt/PtKXjA
+mYumTEouJiB6YYN4eMQLa49QXfrgWKA5rR7
-----END CERTIFICATE REQUEST-----
Public-Key: (1024 bit)
Modulus:
    00:ae:f5:e6:34:76:8d:7f:a5:97:e1:e6:e4:83:6f:
    6e:77:30:6e:07:02:ab:3d:2a:36:18:f6:bd:f5:53:
    33:54:73:7a:88:f0:0c:6d:1e:0a:8f:97:9d:59:ea:
    52:52:96:df:5e:1c:08:28:be:06:c0:5b:42:bd:2f:
    4b:22:1c:b2:81:f8:11:d5:11:90:e1:de:d3:ee:f5:
    75:71:4b:e1:38:3b:bf:c5:e2:1c:21:61:53:f8:b4:
    37:dd:cf:25:88:f1:49:ea:f1:4e:8f:2d:0d:93:76:
    be:fc:6b:fe:9d:cb:7f:1e:e4:be:fa:b9:5f:05:0d:
    03:7a:a9:e6:7f:08:fb:a2:7d
Exponent: 65537 (0x10001)

-----BEGIN PUBLIC KEY-----
MIGfMA0GCSqGSIb3DQEBAQUAA4GNADCBiQKBgQCu9eY0do1/pZfh5uSDb253MG4H
Aqs9KjYY9r31UzNUc3qI8AxtHgqPl51Z6lJSlt9eHAgovgbAW0K9L0siHLKB+BHV
EZDh3tPu9XVxS+E4O7/F4hwhYVP4tDfdzyWI8Unq8U6PLQ2Tdr78a/6dy38e5L76
uV8FDQN6qeZ/CPuifQIDAQAB
-----END PUBLIC KEY-----

t/Mytest.t .............. ok
t/release-kwalitee.t .... skipped: these tests are for release candidate testing
t/release-meta-json.t ... skipped: these tests are for release candidate testing
All tests successful.
Files=9, Tests=102,  7 wallclock secs ( 0.04 usr  0.03 sys +  6.77 cusr  0.28 csys =  7.12 CPU)
Result: PASS

------------------------------
PREREQUISITES
------------------------------

Prerequisite modules loaded:

requires:

    Module                Need  Have    
    --------------------- ----- --------
    Crypt::OpenSSL::RSA   0     0.33    
    Exporter              0     5.79    
    perl                  5.008 5.041009
    XSLoader              0     0.32    

build_requires:

    Module                Need  Have    
    --------------------- ----- --------
    Crypt::OpenSSL::Guess 0.11  0.15    
    Crypt::OpenSSL::RSA   0     0.33    
    File::Slurper         0     0.014   
    File::Spec::Functions 0     3.93    
    File::Temp            0     0.2311  
    Import::Into          0     1.002005
    Test::Lib             0     0.003   
    Test::More            0     1.302209

configure_requires:

    Module                Need  Have    
    --------------------- ----- --------
    Crypt::OpenSSL::Guess 0.11  0.15    
    ExtUtils::MakeMaker   0     7.70    


------------------------------
ENVIRONMENT AND OTHER CONTEXT
------------------------------

Environment variables:

    AUTOMATED_TESTING = 1
    DATE_MANIP_TEST_DM5 = 1
    LC_ALL = C
    NONINTERACTIVE_TESTING = 1
    NO_NETWORK_TESTING = 1
    PATH = /home/cpan/bin/perl/bin:/home/cpan/bin:/sbin:/bin:/usr/sbin:/usr/bin:/usr/games:/usr/local/sbin:/usr/local/bin:/usr/pkg/sbin:/usr/pkg/bin:/home/cpan/bin
    PERL5LIB = 
    PERL5OPT = 
    PERL5_CPANPLUS_IS_RUNNING = 975888
    PERL5_CPAN_IS_RUNNING = 975888
    PERL_MM_USE_DEFAULT = 1
    PERL_USE_UNSAFE_INC = 1
    SHELL = /usr/local/bin/bash
    TERM = screen
    TMPDIR = /home/cpan/tmp

Perl special variables (and OS-specific diagnostics, for MSWin32):

    $^X = /home/cpan/bin/perl/bin/perl5.41.9
    $UID/$EUID = 1002 / 1002
    $GID = 1002 1002
    $EGID = 1002 1002

Perl module toolchain versions installed:

    Module              Have    
    ------------------- --------
    CPAN                2.38    
    CPAN::Meta          2.150010
    Cwd                 3.92    
    ExtUtils::CBuilder  0.280240
    ExtUtils::Command   7.70    
    ExtUtils::Install   2.22    
    ExtUtils::MakeMaker 7.70    
    ExtUtils::Manifest  1.75    
    ExtUtils::ParseXS   3.57    
    File::Spec          3.93    
    JSON                4.10    
    JSON::PP            4.16    
    Module::Build       0.4234  
    Module::Signature   0.89    
    Parse::CPAN::Meta   2.150010
    Test2               1.302209
    Test::Harness       3.50    
    Test::More          1.302209
    YAML                1.31    
    YAML::Syck          1.34    
    version             0.9933  


--

Summary of my perl5 (revision 5 version 41 subversion 9) configuration:
  Commit id: f96e21294ace7501ba4a3931379528d0d7bef175
  Platform:
    osname=dragonfly
    osvers=6.4-release
    archname=x86_64-dragonfly-thread-multi
    uname='dragonfly cjg-dragonfly6 6.4-release dragonfly v6.4.0-release #54: fri dec 30 09:06:50 pst 2022 root@pkgbox64.dragonflybsd.org:usrobjusrsrcsysx86_64_generic x86_64 '
    config_args='-des -Dprefix=/home/cpan/bin/perl -Dscriptdir=/home/cpan/bin/perl/bin -Dusedevel -Duse64bitall -Duseithreads'
    hint=recommended
    useposix=true
    d_sigaction=define
    useithreads=define
    usemultiplicity=define
    use64bitint=define
    use64bitall=define
    uselongdouble=undef
    usemymalloc=n
    default_inc_excludes_dot=define
  Compiler:
    cc='cc'
    ccflags ='-DHAS_FPSETMASK -DHAS_FLOATINGPOINT_H -DNO_POSIX_2008_LOCALE -fwrapv -fno-strict-aliasing -pipe -fstack-protector-strong -I/usr/local/include -D_FORTIFY_SOURCE=2'
    optimize='-O2'
    cppflags='-DHAS_FPSETMASK -DHAS_FLOATINGPOINT_H -DNO_POSIX_2008_LOCALE -fwrapv -fno-strict-aliasing -pipe -fstack-protector-strong -I/usr/local/include'
    ccversion=''
    gccversion='8.3 [DragonFly] Release/2019-02-22'
    gccosandvers=''
    intsize=4
    longsize=8
    ptrsize=8
    doublesize=8
    byteorder=12345678
    doublekind=3
    d_longlong=define
    longlongsize=8
    d_longdbl=define
    longdblsize=16
    longdblkind=3
    ivtype='long'
    ivsize=8
    nvtype='double'
    nvsize=8
    Off_t='off_t'
    lseeksize=8
    alignbytes=8
    prototype=define
  Linker and Libraries:
    ld='cc'
    ldflags ='-pthread -Wl,-E  -fstack-protector-strong -L/usr/local/lib'
    libpth=/usr/lib /usr/local/lib
    libs=-lpthread -lgdbm -ldl -lm -lcrypt -lutil -lc
    perllibs=-lpthread -ldl -lm -lcrypt -lutil -lc
    libc=
    so=so
    useshrplib=false
    libperl=libperl.a
    gnulibc_version=''
  Dynamic Linking:
    dlsrc=dl_dlopen.xs
    dlext=so
    d_dlsymun=undef
    ccdlflags=' '
    cccdlflags='-DPIC -fPIC'
    lddlflags='-shared  -L/usr/local/lib -fstack-protector-strong'


Characteristics of this binary (from libperl): 
  Compile-time options:
    HAS_LONG_DOUBLE
    HAS_STRTOLD
    HAS_TIMES
    MULTIPLICITY
    PERLIO_LAYERS
    PERL_COPY_ON_WRITE
    PERL_DONT_CREATE_GVSV
    PERL_HASH_FUNC_SIPHASH13
    PERL_HASH_USE_SBOX32
    PERL_MALLOC_WRAP
    PERL_OP_PARENT
    PERL_PRESERVE_IVUV
    PERL_USE_DEVEL
    PERL_USE_SAFE_PUTENV
    USE_64_BIT_ALL
    USE_64_BIT_INT
    USE_ITHREADS
    USE_LARGE_FILES
    USE_LOCALE
    USE_LOCALE_COLLATE
    USE_LOCALE_CTYPE
    USE_LOCALE_NUMERIC
    USE_LOCALE_TIME
    USE_PERLIO
    USE_PERL_ATOF
    USE_REENTRANT_API
  Built under dragonfly
  Compiled at Feb 16 2025 19:27:25
  %ENV:
    PERL5LIB=""
    PERL5OPT=""
    PERL5_CPANPLUS_IS_RUNNING="975888"
    PERL5_CPAN_IS_RUNNING="975888"
    PERL_MM_USE_DEFAULT="1"
    PERL_USE_UNSAFE_INC="1"
  @INC:
    /home/cpan/bin/perl/lib/site_perl/5.41.9/x86_64-dragonfly-thread-multi
    /home/cpan/bin/perl/lib/site_perl/5.41.9
    /home/cpan/bin/perl/lib/5.41.9/x86_64-dragonfly-thread-multi
    /home/cpan/bin/perl/lib/5.41.9
    .