Report for SQL-Abstract-FromQuery-0.10

Back
From: metabase:user:e7b34f46-36ca-11e0-a826-945c7ca43f85
Subject: PASS SQL-Abstract-FromQuery-0.10 v5.22.2 GNU/Linux
Date: 2016-05-10T21:37:17Z

This distribution has been tested as part of the CPAN Testers
project, supporting the Perl programming language.  See
http://wiki.cpantesters.org/ for more information or email
questions to cpan-testers-discuss@perl.org


--
Dear Laurent Dami,

This is a computer-generated report for SQL-Abstract-FromQuery-0.10
on perl 5.22.2, created by CPAN-Reporter-1.2017.

Thank you for uploading your work to CPAN.  Congratulations!
All tests were successful.

Sections of this report:

    * Tester comments
    * Program output
    * Prerequisites
    * Environment and other context

------------------------------
TESTER COMMENTS
------------------------------

Additional comments from tester:

none provided

------------------------------
PROGRAM OUTPUT
------------------------------

Output from './Build test':

# Testing SQL::Abstract::FromQuery 0.10, Perl 5.022002, /home/tom/perl5/perlbrew/perls/perl-5.22.2/bin/perl
t/00-base.t .............. ok
t/01-FR.t ................ ok
t/02-Oracle.t ............ ok
t/03-multiple_inherit.t .. ok
t/04-parse_errors.t ...... ok
t/05-Contains.t .......... ok
t/pod.t .................. ok
All tests successful.
Files=7, Tests=46,  0 wallclock secs ( 0.04 usr  0.02 sys +  0.53 cusr  0.07 csys =  0.66 CPU)
Result: PASS

------------------------------
PREREQUISITES
------------------------------

Prerequisite modules loaded:

requires:

    Module           Need  Have    
    ---------------- ----- --------
    Digest::MD5      0     2.54    
    List::MoreUtils  0     0.415   
    Module::Load     0     0.32    
    namespace::clean 0     0.26    
    Params::Validate 0     1.23    
    parent           0     0.232   
    perl             5.01  5.022002
    Regexp::Grammars 1.038 1.045   
    Scalar::Util     0     1.45    
    UNIVERSAL::DOES  0     0.005   

build_requires:

    Module           Need  Have    
    ---------------- ----- --------
    Test::More       0     1.001014

configure_requires:

    Module           Need  Have    
    ---------------- ----- --------
    Module::Build    0.42  0.4218  


------------------------------
ENVIRONMENT AND OTHER CONTEXT
------------------------------

Environment variables:

    LANG = en_GB.UTF-8
    LD_LIBRARY_PATH = /home/tom/local/lib:
    NONINTERACTIVE_TESTING = 1
    PATH = /home/tom/perl5/perlbrew/bin:/home/tom/perl5/perlbrew/perls/perl-5.22.2/bin:/home/tom/local/bin:/home/tom/local/bin:/usr/local/sbin:/usr/local/bin:/usr/sbin:/usr/bin:/sbin:/bin:/usr/games:/usr/local/games:/opt/android-sdk/platform-tools:/opt/android-sdk/tools:/opt/android-sdk/platform-tools:/opt/android-sdk/tools
    PERL5LIB = 
    PERL5OPT = 
    PERL5_CPANPLUS_IS_RUNNING = 1970
    PERL5_CPAN_IS_RUNNING = 1970
    PERLBREW_BASHRC_VERSION = 0.66
    PERLBREW_HOME = /home/tom/.perlbrew
    PERLBREW_MANPATH = /home/tom/perl5/perlbrew/perls/perl-5.22.2/man
    PERLBREW_PATH = /home/tom/perl5/perlbrew/bin:/home/tom/perl5/perlbrew/perls/perl-5.22.2/bin
    PERLBREW_PERL = perl-5.22.2
    PERLBREW_ROOT = /home/tom/perl5/perlbrew
    PERLBREW_VERSION = 0.66
    PERL_LWP_SSL_VERIFY_HOSTNAME = 0
    PERL_MM_USE_DEFAULT = 1
    SHELL = /bin/bash
    TERM = screen

Perl special variables (and OS-specific diagnostics, for MSWin32):

    $^X = /home/tom/perl5/perlbrew/perls/perl-5.22.2/bin/perl
    $UID/$EUID = 1000 / 1000
    $GID = 1000 0 4 6 24 27 30 46 107 110 999 1000
    $EGID = 1000 0 4 6 24 27 30 46 107 110 999 1000

Perl module toolchain versions installed:

    Module              Have    
    ------------------- --------
    CPAN                2.11    
    CPAN::Meta          2.150001
    Cwd                 3.56_01 
    ExtUtils::CBuilder  0.280221
    ExtUtils::Command   1.20    
    ExtUtils::Install   2.04    
    ExtUtils::MakeMaker 7.04_01 
    ExtUtils::Manifest  1.70    
    ExtUtils::ParseXS   3.28    
    File::Spec          3.56_01 
    JSON                2.90    
    JSON::PP            2.27300 
    Module::Build       0.4218  
    Module::Signature   n/a     
    Parse::CPAN::Meta   1.4414  
    Test::Harness       3.35    
    Test::More          1.001014
    YAML                1.15    
    YAML::Syck          n/a     
    version             0.9909  


--

Summary of my perl5 (revision 5 version 22 subversion 2) configuration:
   
  Platform:
    osname=linux, osvers=4.2.0-35-lowlatency, archname=x86_64-linux
    uname='linux roku 4.2.0-35-lowlatency #40~14.04.1-ubuntu smp preempt fri mar 18 17:28:07 utc 2016 x86_64 x86_64 x86_64 gnulinux '
    config_args='-de -Dprefix=/home/tom/perl5/perlbrew/perls/perl-5.22.2 -Dman1dir=none -Dman3dir=none -Aeval:scriptdir=/home/tom/perl5/perlbrew/perls/perl-5.22.2/bin'
    hint=recommended, useposix=true, d_sigaction=define
    useithreads=undef, usemultiplicity=undef
    use64bitint=define, use64bitall=define, uselongdouble=undef
    usemymalloc=n, bincompat5005=undef
  Compiler:
    cc='cc', ccflags ='-fwrapv -fno-strict-aliasing -pipe -fstack-protector -I/usr/local/include -D_LARGEFILE_SOURCE -D_FILE_OFFSET_BITS=64',
    optimize='-O2',
    cppflags='-fwrapv -fno-strict-aliasing -pipe -fstack-protector -I/usr/local/include'
    ccversion='', gccversion='4.8.4', gccosandvers=''
    intsize=4, longsize=8, ptrsize=8, doublesize=8, byteorder=12345678, doublekind=3
    d_longlong=define, longlongsize=8, d_longdbl=define, longdblsize=16, longdblkind=3
    ivtype='long', ivsize=8, nvtype='double', nvsize=8, Off_t='off_t', lseeksize=8
    alignbytes=8, prototype=define
  Linker and Libraries:
    ld='cc', ldflags =' -fstack-protector -L/usr/local/lib'
    libpth=/usr/local/lib /usr/lib/gcc/x86_64-linux-gnu/4.8/include-fixed /usr/include/x86_64-linux-gnu /usr/lib /lib/x86_64-linux-gnu /lib/../lib /usr/lib/x86_64-linux-gnu /usr/lib/../lib /lib
    libs=-lpthread -lnsl -ldl -lm -lcrypt -lutil -lc
    perllibs=-lpthread -lnsl -ldl -lm -lcrypt -lutil -lc
    libc=, so=so, useshrplib=false, libperl=libperl.a
    gnulibc_version='2.19'
  Dynamic Linking:
    dlsrc=dl_dlopen.xs, dlext=so, d_dlsymun=undef, ccdlflags='-Wl,-E'
    cccdlflags='-fPIC', lddlflags='-shared -O2 -L/usr/local/lib -fstack-protector'


Characteristics of this binary (from libperl): 
  Compile-time options: HAS_TIMES PERLIO_LAYERS PERL_DONT_CREATE_GVSV
                        PERL_HASH_FUNC_ONE_AT_A_TIME_HARD PERL_MALLOC_WRAP
                        PERL_NEW_COPY_ON_WRITE PERL_PRESERVE_IVUV
                        USE_64_BIT_ALL USE_64_BIT_INT USE_LARGE_FILES
                        USE_LOCALE USE_LOCALE_COLLATE USE_LOCALE_CTYPE
                        USE_LOCALE_NUMERIC USE_LOCALE_TIME USE_PERLIO
                        USE_PERL_ATOF
  Built under linux
  Compiled at May  4 2016 07:08:24
  %ENV:
    PERL5LIB=""
    PERL5OPT=""
    PERL5_CPANPLUS_IS_RUNNING="1970"
    PERL5_CPAN_IS_RUNNING="1970"
    PERLBREW_BASHRC_VERSION="0.66"
    PERLBREW_HOME="/home/tom/.perlbrew"
    PERLBREW_MANPATH="/home/tom/perl5/perlbrew/perls/perl-5.22.2/man"
    PERLBREW_PATH="/home/tom/perl5/perlbrew/bin:/home/tom/perl5/perlbrew/perls/perl-5.22.2/bin"
    PERLBREW_PERL="perl-5.22.2"
    PERLBREW_ROOT="/home/tom/perl5/perlbrew"
    PERLBREW_VERSION="0.66"
    PERL_LWP_SSL_VERIFY_HOSTNAME="0"
    PERL_MM_USE_DEFAULT="1"
  @INC:
    /home/tom/perl5/perlbrew/perls/perl-5.22.2/lib/site_perl/5.22.2/x86_64-linux
    /home/tom/perl5/perlbrew/perls/perl-5.22.2/lib/site_perl/5.22.2
    /home/tom/perl5/perlbrew/perls/perl-5.22.2/lib/5.22.2/x86_64-linux
    /home/tom/perl5/perlbrew/perls/perl-5.22.2/lib/5.22.2
    .