Data-Dataset-Classic-Titanic v0.0103 Perl 5 v5.12.3 x86_64-linux-thread-multi

Status
Pass
From
Chris Williams (BINGOS)
Dist
Data-Dataset-Classic-Titanic v0.0103
Platform
Perl 5 v5.12.3 x86_64-linux-thread-multi
Date
2022-10-22T16:12:47
ID
5e480878-5224-11ed-aba6-9a79f339625c
This distribution has been tested as part of the CPAN Testers
project, supporting the Perl programming language.  See
http://wiki.cpantesters.org/ for more information or email
questions to cpan-testers-discuss@perl.org


--

Dear GENE,

This is a computer-generated error report created automatically by
CPANPLUS, version 0.9914. Testers personal comments may appear
at the end of this report.


Thank you for uploading your work to CPAN.  Congratulations!
All tests were successful.

TEST RESULTS:

Below is the error stack from stage 'make test':

Skip blib/lib/auto/share/dist/Data-Dataset-Classic-Titanic/titanic.csv (unchanged)
PERL_DL_NONLAZY=1 "/home/cpan/pit/thr/perl-5.12.3/bin/perl" "-MExtUtils::Command::MM" "-MTest::Harness" "-e" "undef *Test::Harness::Switches; test_harness(0, 'blib/lib', 'blib/arch')" t/*.t
t/00-compile.t ........... ok
t/01-functions.t ......... ok
t/author-eol.t ........... skipped: these tests are for testing by the author
t/author-no-tabs.t ....... skipped: these tests are for testing by the author
t/author-pod-coverage.t .. skipped: these tests are for testing by the author
t/author-pod-spell.t ..... skipped: these tests are for testing by the author
t/author-pod-syntax.t .... skipped: these tests are for testing by the author
t/author-synopsis.t ...... skipped: these tests are for testing by the author
All tests successful.
Files=8, Tests=9,  1 wallclock secs ( 0.02 usr  0.02 sys +  0.13 cusr  0.02 csys =  0.19 CPU)
Result: PASS


PREREQUISITES:

Here is a list of prerequisites you specified and versions we
managed to load:

	  Module Name                        Have     Want
	  ExtUtils::MakeMaker                7.64        0
	  File::ShareDir                    1.118        0
	  File::Spec                         3.75        0
	  IO::Handle                         1.28        0
	  IPC::Open3                         1.05        0
	  Test::More                     1.302191     0.88
	  Text::CSV_XS                       1.48        0
	  strict                             1.04        0
	  warnings                           1.09        0

Perl module toolchain versions installed:
	Module Name                        Have
	CPANPLUS                         0.9914
	CPANPLUS::Dist::Build              0.90
	Cwd                                3.75
	ExtUtils::CBuilder             0.280236
	ExtUtils::Command                  7.64
	ExtUtils::Install                  2.20
	ExtUtils::MakeMaker                7.64
	ExtUtils::Manifest                 1.73
	ExtUtils::ParseXS                  3.44
	File::Spec                         3.75
	Module::Build                    0.4231
	Pod::Parser                        1.37
	Pod::Simple                        3.14
	Test2                          1.302191
	Test::Harness                      3.44
	Test::More                     1.302191
	version                          0.9929

******************************** NOTE ********************************
The comments above are created mechanically, possibly without manual
checking by the sender.  As there are many people performing automatic
tests on each upload to CPAN, it is likely that you will receive
identical messages about the same problem.

If you believe that the message is mistaken, please reply to the first
one with correction and/or additional informations, and do not take
it personally.  We appreciate your patience. :)
**********************************************************************

Additional comments:


This report was machine-generated by CPANPLUS::Dist::YACSmoke 1.08.
Powered by minismokebox version 0.68

CPANPLUS is prefering Build.PL

------------------------------
ENVIRONMENT AND OTHER CONTEXT
------------------------------

Environment variables:

    AUTOMATED_TESTING = 1
    LANG = C.UTF-8
    LC_COLLATE = C
    NONINTERACTIVE_TESTING = 1
    PATH = /usr/local/sbin:/usr/local/bin:/usr/sbin:/usr/bin:/sbin:/bin
    PERL5LIB = /home/cpan/pit/jail/KqB36TTqTb/lib/perl5:/home/cpan/pit/thr/conf/perl-5.12.3/.cpanplus/5.12.3/build/k8oKdXe8CK/Data-Dataset-Classic-Titanic-0.0103/blib/lib:/home/cpan/pit/thr/conf/perl-5.12.3/.cpanplus/5.12.3/build/k8oKdXe8CK/Data-Dataset-Classic-Titanic-0.0103/blib/arch
    PERL5_CPANPLUS_IS_RUNNING = 27372
    PERL5_CPANPLUS_IS_VERSION = 0.9914
    PERL5_MINISMOKEBOX = 0.68
    PERL5_YACSMOKE_BASE = /home/cpan/pit/thr/conf/perl-5.12.3
    PERL_EXTUTILS_AUTOINSTALL = --defaultdeps
    PERL_LOCAL_LIB_ROOT = /home/cpan/pit/jail/KqB36TTqTb
    PERL_MB_OPT = --install_base "/home/cpan/pit/jail/KqB36TTqTb"
    PERL_MM_OPT = INSTALL_BASE=/home/cpan/pit/jail/KqB36TTqTb
    PERL_MM_USE_DEFAULT = 1
    SHELL = /bin/bash
    TERM = screen

Perl special variables (and OS-specific diagnostics, for MSWin32):

    Perl: $^X = /home/cpan/pit/thr/perl-5.12.3/bin/perl
    UID:  $<  = 1001
    EUID: $>  = 1001
    GID:  $(  = 1001 1001
    EGID: $)  = 1001 1001


-------------------------------


--

Summary of my perl5 (revision 5 version 12 subversion 3) configuration:
   
  Platform:
    osname=linux, osvers=5.10.16-0-lts, archname=x86_64-linux-thread-multi
    uname='linux agaric 5.10.16-0-lts #1-alpine smp wed, 17 feb 2021 08:17:06 utc x86_64 linux '
    config_args='-des -Dprefix=/home/cpan/pit/thr/perl-5.12.3 -Dusethreads'
    hint=recommended, useposix=true, d_sigaction=define
    useithreads=define, usemultiplicity=define
    useperlio=define, d_sfio=undef, uselargefiles=define, usesocks=undef
    use64bitint=define, use64bitall=define, uselongdouble=undef
    usemymalloc=n, bincompat5005=undef
  Compiler:
    cc='cc', ccflags ='-D_REENTRANT -D_GNU_SOURCE -D_GNU_SOURCE -fwrapv -fno-strict-aliasing -pipe -fstack-protector -D_LARGEFILE_SOURCE -D_FILE_OFFSET_BITS=64',
    optimize='-O2',
    cppflags='-D_REENTRANT -D_GNU_SOURCE -D_GNU_SOURCE -fwrapv -fno-strict-aliasing -pipe -fstack-protector'
    ccversion='', gccversion='10.2.1 20201203', gccosandvers=''
    intsize=4, longsize=8, ptrsize=8, doublesize=8, byteorder=12345678
    d_longlong=define, longlongsize=8, d_longdbl=define, longdblsize=16
    ivtype='long', ivsize=8, nvtype='double', nvsize=8, Off_t='off_t', lseeksize=8
    alignbytes=8, prototype=define
  Linker and Libraries:
    ld='cc', ldflags =' -fstack-protector -L/usr/local/lib'
    libpth=/usr/local/lib /lib/../lib /usr/lib/../lib /lib /usr/lib
    libs=-lgdbm -ldl -lm -lcrypt -lutil -lpthread -lc -lgdbm_compat
    perllibs=-ldl -lm -lcrypt -lutil -lpthread -lc
    libc=/usr/lib/libc.a, so=so, useshrplib=false, libperl=libperl.a
    gnulibc_version=''
  Dynamic Linking:
    dlsrc=dl_dlopen.xs, dlext=so, d_dlsymun=undef, ccdlflags='-Wl,-E'
    cccdlflags='-fPIC', lddlflags='-shared -O2 -L/usr/local/lib -fstack-protector'


Characteristics of this binary (from libperl): 
  Compile-time options: MULTIPLICITY PERL_DONT_CREATE_GVSV
                        PERL_IMPLICIT_CONTEXT PERL_MALLOC_WRAP USE_64_BIT_ALL
                        USE_64_BIT_INT USE_ITHREADS USE_LARGE_FILES
                        USE_PERLIO USE_PERL_ATOF USE_REENTRANT_API
  Locally applied patches:
	Devel::PatchPerl 2.08
  Built under linux
  Compiled at Mar 12 2021 13:07:29
  %ENV:
    PERL5LIB="/home/cpan/pit/jail/KqB36TTqTb/lib/perl5:/home/cpan/pit/thr/conf/perl-5.12.3/.cpanplus/5.12.3/build/k8oKdXe8CK/Data-Dataset-Classic-Titanic-0.0103/blib/lib:/home/cpan/pit/thr/conf/perl-5.12.3/.cpanplus/5.12.3/build/k8oKdXe8CK/Data-Dataset-Classic-Titanic-0.0103/blib/arch"
    PERL5_CPANPLUS_IS_RUNNING="27372"
    PERL5_CPANPLUS_IS_VERSION="0.9914"
    PERL5_MINISMOKEBOX="0.68"
    PERL5_YACSMOKE_BASE="/home/cpan/pit/thr/conf/perl-5.12.3"
    PERL_EXTUTILS_AUTOINSTALL="--defaultdeps"
    PERL_LOCAL_LIB_ROOT="/home/cpan/pit/jail/KqB36TTqTb"
    PERL_MB_OPT="--install_base "/home/cpan/pit/jail/KqB36TTqTb""
    PERL_MM_OPT="INSTALL_BASE=/home/cpan/pit/jail/KqB36TTqTb"
    PERL_MM_USE_DEFAULT="1"
  @INC:
    /home/cpan/pit/jail/KqB36TTqTb/lib/perl5/5.12.3/x86_64-linux-thread-multi
    /home/cpan/pit/jail/KqB36TTqTb/lib/perl5/5.12.3
    /home/cpan/pit/jail/KqB36TTqTb/lib/perl5/x86_64-linux-thread-multi
    /home/cpan/pit/jail/KqB36TTqTb/lib/perl5
    /home/cpan/pit/thr/conf/perl-5.12.3/.cpanplus/5.12.3/build/k8oKdXe8CK/Data-Dataset-Classic-Titanic-0.0103/blib/lib
    /home/cpan/pit/thr/conf/perl-5.12.3/.cpanplus/5.12.3/build/k8oKdXe8CK/Data-Dataset-Classic-Titanic-0.0103/blib/arch
    /home/cpan/pit/thr/perl-5.12.3/lib/site_perl/5.12.3/x86_64-linux-thread-multi
    /home/cpan/pit/thr/perl-5.12.3/lib/site_perl/5.12.3
    /home/cpan/pit/thr/perl-5.12.3/lib/5.12.3/x86_64-linux-thread-multi
    /home/cpan/pit/thr/perl-5.12.3/lib/5.12.3
    .