Report for Perldoc-Server-0.10

Back
From: metabase:user:3260881c-2aae-11df-837a-5e0a49663a4f
Subject: PASS Perldoc-Server-0.10 v5.14.2 GNU/Linux
Date: 2013-06-16T14:16:43Z

This distribution has been tested as part of the CPAN Testers
project, supporting the Perl programming language.  See
http://wiki.cpantesters.org/ for more information or email
questions to cpan-testers-discuss@perl.org


--
Dear Jon Allen,

This is a computer-generated report for Perldoc-Server-0.10
on perl 5.14.2, created by CPAN-Reporter-1.2009.

Thank you for uploading your work to CPAN.  Congratulations!
All tests were successful.

Sections of this report:

    * Tester comments
    * Program output
    * Prerequisites
    * Environment and other context

------------------------------
TESTER COMMENTS
------------------------------

Additional comments from tester:

none provided

------------------------------
PROGRAM OUTPUT
------------------------------

Output from '/usr/bin/make test':

PERL_DL_NONLAZY=1 /home/gabor/perl-5.14.2-desktop/bin/perl "-MExtUtils::Command::MM" "-e" "test_harness(0, 'inc', 'blib/lib', 'blib/arch')" t/*.t
t/01app.t ....................... ok
t/02pod.t ....................... skipped: set TEST_POD to enable this test
t/03podcoverage.t ............... skipped: set TEST_POD to enable this test
Use of uninitialized value $param in exists at /home/gabor/perl-5.14.2-desktop/lib/site_perl/5.14.2/Catalyst/Request.pm line 551, <DATA> line 999.
Use of uninitialized value in subroutine entry at /home/gabor/.local/share/.cpan/build/Perldoc-Server-0.10-eAqtn_/blib/lib/Perldoc/Server/Controller/Ajax/PerlSyntax.pm line 35, <DATA> line 999.
Use of uninitialized value $id in anonymous hash ({}) at /home/gabor/.local/share/.cpan/build/Perldoc-Server-0.10-eAqtn_/blib/lib/Perldoc/Server/Controller/Ajax/PerlSyntax.pm line 56.
t/controller_Ajax-PerlSyntax.t .. ok
t/controller_Ajax.t ............. ok
t/controller_Functions.t ........ ok
t/controller_Index-Modules.t .... ok
t/controller_Index.t ............ ok
t/controller_Search.t ........... ok
Usage: \$self->find($podname, ...) at /home/gabor/.local/share/.cpan/build/Perldoc-Server-0.10-eAqtn_/blib/lib/Perldoc/Server/Model/Pod.pm line 35.
Usage: \$self->find($podname, ...) at /home/gabor/.local/share/.cpan/build/Perldoc-Server-0.10-eAqtn_/blib/lib/Perldoc/Server/Model/Pod.pm line 35.
t/controller_Source.t ........... ok
Usage: \$self->find($podname, ...) at /home/gabor/.local/share/.cpan/build/Perldoc-Server-0.10-eAqtn_/blib/lib/Perldoc/Server/Model/Pod.pm line 35.
t/controller_View.t ............. ok
t/model_Index.t ................. ok
t/model_PerlFunc.t .............. ok
t/model_Pod.t ................... ok
t/model_Section.t ............... ok
t/view_Function.t ............... ok
t/view_OpenThoughtTT.t .......... ok
t/view_Pod2HTML.t ............... ok
t/view_Pod2Source.t ............. ok
t/view_TT.t ..................... ok
All tests successful.
Files=20, Tests=33, 54 wallclock secs ( 0.07 usr  0.03 sys + 19.12 cusr  2.62 csys = 21.84 CPU)
Result: PASS

------------------------------
PREREQUISITES
------------------------------

Prerequisite modules loaded:

requires:

    Module                                   Need    Have    
    ---------------------------------------- ------- --------
    Catalyst::Action::RenderView             0       0.16    
    Catalyst::Plugin::ConfigLoader           0       0.30    
    Catalyst::Plugin::Session                0       0.36    
    Catalyst::Plugin::Session::State::Cookie 0       0.17    
    Catalyst::Plugin::Session::Store::File   0       0.18    
    Catalyst::Plugin::Static::Simple         0       0.30    
    Catalyst::Runtime                        5.71001 5.90019 
    Catalyst::View::TT                       0       0.39    
    Config::General                          0       2.51    
    File::Monitor                            0       1.00    
    File::ShareDir                           0       1.03    
    File::Slurp                              0       9999.19 
    HTML::Entities                           0       3.69    
    MRO::Compat                              0       0.12    
    OpenThought                              0       1.99.16 
    parent                                   0       0.225   
    perl                                     5.010   5.014002
    Perl::Tidy                               0       20121207
    Pod::POM                                 0.23    0.27    

build_requires:

    Module                                   Need    Have    
    ---------------------------------------- ------- --------
    ExtUtils::MakeMaker                      6.42    6.64    

configure_requires:

    Module                                   Need    Have    
    ---------------------------------------- ------- --------
    ExtUtils::MakeMaker                      6.42    6.64    


------------------------------
ENVIRONMENT AND OTHER CONTEXT
------------------------------

Environment variables:

    LANG = en_US.UTF-8
    LANGUAGE = en_US:en
    LC_COLLATE = en_US.UTF-8
    LC_CTYPE = en_US.UTF-8
    LC_MESSAGES = en_US.UTF-8
    LD_LIBRARY_PATH = /home/gabor/work/rakudo/parrot/blib/lib/
    PATH = /home/gabor/work/p6shell/bin:/home/gabor/work/rakudo/install/bin:/home/gabor/.perl6/bin:/home/gabor/bin:/home/gabor/perl-5.14.2-desktop/bin:/usr/lib/lightdm/lightdm:/usr/local/sbin:/usr/local/bin:/usr/sbin:/usr/bin:/sbin:/bin:/usr/games:/usr/local/games:/home/gabor/work/gabor/training/common/bin/
    PERL5LIB = 
    PERL5OPT = 
    PERL5_CPANPLUS_IS_RUNNING = 10052
    PERL5_CPAN_IS_RUNNING = 10052
    SHELL = /bin/bash
    TERM = xterm

Perl special variables (and OS-specific diagnostics, for MSWin32):

    $^X = /home/gabor/perl-5.14.2-desktop/bin/perl
    $UID/$EUID = 1000 / 1000
    $GID = 1000 4 20 24 46 104 115 120 1000
    $EGID = 1000 4 20 24 46 104 115 120 1000

Perl module toolchain versions installed:

    Module              Have    
    ------------------- --------
    CPAN                2.00    
    CPAN::Meta          2.120921
    Cwd                 3.40    
    ExtUtils::CBuilder  0.280205
    ExtUtils::Command   1.17    
    ExtUtils::Install   1.56    
    ExtUtils::MakeMaker 6.64    
    ExtUtils::Manifest  1.61    
    ExtUtils::ParseXS   3.18    
    File::Spec          3.40    
    JSON                2.53    
    JSON::PP            2.27200 
    Module::Build       0.4005  
    Module::Signature   0.70    
    Parse::CPAN::Meta   1.4404  
    Test::Harness       3.25    
    Test::More          0.98    
    YAML                0.84    
    YAML::Syck          1.22    
    version             0.9901  


--

Summary of my perl5 (revision 5 version 14 subversion 2) configuration:
   
  Platform:
    osname=linux, osvers=3.0.0-16-generic, archname=x86_64-linux-thread-multi
    uname='linux pm 3.0.0-16-generic #29-ubuntu smp tue feb 14 12:48:51 utc 2012 x86_64 x86_64 x86_64 gnulinux '
    config_args='-des -Dprefix=/home/gabor/perl-5.14.2-desktop -Duseithreads'
    hint=recommended, useposix=true, d_sigaction=define
    useithreads=define, usemultiplicity=define
    useperlio=define, d_sfio=undef, uselargefiles=define, usesocks=undef
    use64bitint=define, use64bitall=define, uselongdouble=undef
    usemymalloc=n, bincompat5005=undef
  Compiler:
    cc='cc', ccflags ='-D_REENTRANT -D_GNU_SOURCE -fno-strict-aliasing -pipe -fstack-protector -I/usr/local/include -D_LARGEFILE_SOURCE -D_FILE_OFFSET_BITS=64',
    optimize='-O2',
    cppflags='-D_REENTRANT -D_GNU_SOURCE -fno-strict-aliasing -pipe -fstack-protector -I/usr/local/include'
    ccversion='', gccversion='4.6.1', gccosandvers=''
    intsize=4, longsize=8, ptrsize=8, doublesize=8, byteorder=12345678
    d_longlong=define, longlongsize=8, d_longdbl=define, longdblsize=16
    ivtype='long', ivsize=8, nvtype='double', nvsize=8, Off_t='off_t', lseeksize=8
    alignbytes=8, prototype=define
  Linker and Libraries:
    ld='cc', ldflags =' -fstack-protector -L/usr/local/lib'
    libpth=/usr/local/lib /lib/x86_64-linux-gnu /lib/../lib /usr/lib/x86_64-linux-gnu /usr/lib/../lib /lib /usr/lib
    libs=-lnsl -ldl -lm -lcrypt -lutil -lpthread -lc
    perllibs=-lnsl -ldl -lm -lcrypt -lutil -lpthread -lc
    libc=, so=so, useshrplib=false, libperl=libperl.a
    gnulibc_version='2.13'
  Dynamic Linking:
    dlsrc=dl_dlopen.xs, dlext=so, d_dlsymun=undef, ccdlflags='-Wl,-E'
    cccdlflags='-fPIC', lddlflags='-shared -O2 -L/usr/local/lib -fstack-protector'


Characteristics of this binary (from libperl): 
  Compile-time options: MULTIPLICITY PERL_DONT_CREATE_GVSV
                        PERL_IMPLICIT_CONTEXT PERL_MALLOC_WRAP
                        PERL_PRESERVE_IVUV USE_64_BIT_ALL USE_64_BIT_INT
                        USE_ITHREADS USE_LARGE_FILES USE_PERLIO USE_PERL_ATOF
                        USE_REENTRANT_API
  Built under linux
  Compiled at Mar 17 2012 21:02:22
  %ENV:
    PERL5LIB=""
    PERL5OPT=""
    PERL5_CPANPLUS_IS_RUNNING="10052"
    PERL5_CPAN_IS_RUNNING="10052"
  @INC:
    /home/gabor/perl-5.14.2-desktop/lib/site_perl/5.14.2/x86_64-linux-thread-multi
    /home/gabor/perl-5.14.2-desktop/lib/site_perl/5.14.2
    /home/gabor/perl-5.14.2-desktop/lib/5.14.2/x86_64-linux-thread-multi
    /home/gabor/perl-5.14.2-desktop/lib/5.14.2
    .