Test-PostgreSQL v1.29 Perl 5 v5.41.13 amd64-netbsd

Status
Pass
From
Carlos Guevara
Dist
Test-PostgreSQL v1.29
Platform
Perl 5 v5.41.13 amd64-netbsd
Date
2025-05-06 13:09:40
ID
5ea9d40e-2a7b-11f0-9efc-a3b879eeffc0
This distribution has been tested as part of the CPAN Testers
project, supporting the Perl programming language.  See
http://wiki.cpantesters.org/ for more information or email
questions to cpan-testers-discuss@perl.org


--
Dear Toby Corkindale,

This is a computer-generated report for Test-PostgreSQL-1.29
on perl 5.41.13, created by CPAN-Reporter-1.2020.

Thank you for uploading your work to CPAN.  Congratulations!
All tests were successful.

Sections of this report:

    * Tester comments
    * Program output
    * Prerequisites
    * Environment and other context

------------------------------
TESTER COMMENTS
------------------------------

Additional comments from tester:

this report is from an automated smoke testing program
and was not reviewed by a human for accuracy

------------------------------
PROGRAM OUTPUT
------------------------------

Output from './Build test':

t/00-base.t .............. ok
2025-05-06 09:09:32.834 EDT [23683] FATAL:  could not create semaphores: No space left on device
2025-05-06 09:09:32.834 EDT [23683] DETAIL:  Failed system call was semget(2958790, 20, 03600).
2025-05-06 09:09:32.834 EDT [23683] HINT:  This error does *not* mean that you have run out of disk space.  It occurs when either the system limit for the maximum number of semaphore sets (SEMMNI), or the system wide maximum number of semaphores (SEMMNS), would be exceeded.  You need to raise the respective kernel parameter.  Alternatively, reduce PostgreSQL's consumption of semaphores by reducing its "max_connections" parameter.
	The PostgreSQL documentation contains more information about configuring your system for PostgreSQL.
child process exited with exit code 1
initdb: removing data directory "/home/cpan/tmp/pgtest.pNjx8/data"
pg_ctl: database system initialization failed
t/01-raii.t .............. skipped: Failed to start postgres after trying 10 potential ports: Failed to open /home/cpan/tmp/pgtest.pNjx8/data/postmaster.pid: No such file or directory at /home/cpan/.cpan/build/Test-PostgreSQL-1.29-0/blib/lib/Test/PostgreSQL.pm line 484.
2025-05-06 09:09:33.606 EDT [20166] FATAL:  could not create semaphores: No space left on device
2025-05-06 09:09:33.606 EDT [20166] DETAIL:  Failed system call was semget(2958790, 20, 03600).
2025-05-06 09:09:33.606 EDT [20166] HINT:  This error does *not* mean that you have run out of disk space.  It occurs when either the system limit for the maximum number of semaphore sets (SEMMNI), or the system wide maximum number of semaphores (SEMMNS), would be exceeded.  You need to raise the respective kernel parameter.  Alternatively, reduce PostgreSQL's consumption of semaphores by reducing its "max_connections" parameter.
	The PostgreSQL documentation contains more information about configuring your system for PostgreSQL.
child process exited with exit code 1
initdb: removing data directory "/home/cpan/tmp/pgtest.GcpTw/data"
pg_ctl: database system initialization failed
t/02-multi.t ............. skipped: Failed to start postgres after trying 10 potential ports: Failed to open /home/cpan/tmp/pgtest.GcpTw/data/postmaster.pid: No such file or directory at /home/cpan/.cpan/build/Test-PostgreSQL-1.29-0/blib/lib/Test/PostgreSQL.pm line 484.
2025-05-06 09:09:34.375 EDT [28247] FATAL:  could not create semaphores: No space left on device
2025-05-06 09:09:34.375 EDT [28247] DETAIL:  Failed system call was semget(2958792, 20, 03600).
2025-05-06 09:09:34.375 EDT [28247] HINT:  This error does *not* mean that you have run out of disk space.  It occurs when either the system limit for the maximum number of semaphore sets (SEMMNI), or the system wide maximum number of semaphores (SEMMNS), would be exceeded.  You need to raise the respective kernel parameter.  Alternatively, reduce PostgreSQL's consumption of semaphores by reducing its "max_connections" parameter.
	The PostgreSQL documentation contains more information about configuring your system for PostgreSQL.
child process exited with exit code 1
initdb: removing data directory "/home/cpan/tmp/pgtest.ntskq/data"
pg_ctl: database system initialization failed
t/04-multiprocess.t ...... skipped: Failed to start postgres after trying 10 potential ports: Failed to open /home/cpan/tmp/pgtest.ntskq/data/postmaster.pid: No such file or directory at /home/cpan/.cpan/build/Test-PostgreSQL-1.29-0/blib/lib/Test/PostgreSQL.pm line 484.
2025-05-06 09:09:35.149 EDT [23939] FATAL:  could not create semaphores: No space left on device
2025-05-06 09:09:35.149 EDT [23939] DETAIL:  Failed system call was semget(2958790, 20, 03600).
2025-05-06 09:09:35.149 EDT [23939] HINT:  This error does *not* mean that you have run out of disk space.  It occurs when either the system limit for the maximum number of semaphore sets (SEMMNI), or the system wide maximum number of semaphores (SEMMNS), would be exceeded.  You need to raise the respective kernel parameter.  Alternatively, reduce PostgreSQL's consumption of semaphores by reducing its "max_connections" parameter.
	The PostgreSQL documentation contains more information about configuring your system for PostgreSQL.
child process exited with exit code 1
initdb: removing data directory "/home/cpan/tmp/Sbst81WZvl/data"
pg_ctl: database system initialization failed
t/05-recycle-base-dir.t .. skipped: Failed to start postgres after trying 10 potential ports: Failed to open /home/cpan/tmp/Sbst81WZvl/data/postmaster.pid: No such file or directory at /home/cpan/.cpan/build/Test-PostgreSQL-1.29-0/blib/lib/Test/PostgreSQL.pm line 484.
2025-05-06 09:09:35.943 EDT [20422] FATAL:  could not create semaphores: No space left on device
2025-05-06 09:09:35.943 EDT [20422] DETAIL:  Failed system call was semget(2958790, 20, 03600).
2025-05-06 09:09:35.943 EDT [20422] HINT:  This error does *not* mean that you have run out of disk space.  It occurs when either the system limit for the maximum number of semaphore sets (SEMMNI), or the system wide maximum number of semaphores (SEMMNS), would be exceeded.  You need to raise the respective kernel parameter.  Alternatively, reduce PostgreSQL's consumption of semaphores by reducing its "max_connections" parameter.
	The PostgreSQL documentation contains more information about configuring your system for PostgreSQL.
child process exited with exit code 1
initdb: removing data directory "/home/cpan/tmp/pgtest.huZmQ/data"
pg_ctl: database system initialization failed
t/06-unix-socket.t ....... skipped: Failed to start postgres after trying 10 potential ports: Failed to open /home/cpan/tmp/pgtest.huZmQ/data/postmaster.pid: No such file or directory at /home/cpan/.cpan/build/Test-PostgreSQL-1.29-0/blib/lib/Test/PostgreSQL.pm line 484.
2025-05-06 09:09:36.691 EDT [28503] FATAL:  could not create semaphores: No space left on device
2025-05-06 09:09:36.691 EDT [28503] DETAIL:  Failed system call was semget(2958790, 20, 03600).
2025-05-06 09:09:36.691 EDT [28503] HINT:  This error does *not* mean that you have run out of disk space.  It occurs when either the system limit for the maximum number of semaphore sets (SEMMNI), or the system wide maximum number of semaphores (SEMMNS), would be exceeded.  You need to raise the respective kernel parameter.  Alternatively, reduce PostgreSQL's consumption of semaphores by reducing its "max_connections" parameter.
	The PostgreSQL documentation contains more information about configuring your system for PostgreSQL.
child process exited with exit code 1
initdb: removing data directory "/home/cpan/tmp/pgtest.WL0ms/data"
pg_ctl: database system initialization failed
t/07-configs.t ........... skipped: Failed to start postgres after trying 10 potential ports: Failed to open /home/cpan/tmp/pgtest.WL0ms/data/postmaster.pid: No such file or directory at /home/cpan/.cpan/build/Test-PostgreSQL-1.29-0/blib/lib/Test/PostgreSQL.pm line 484.
2025-05-06 09:09:37.450 EDT [24195] FATAL:  could not create semaphores: No space left on device
2025-05-06 09:09:37.450 EDT [24195] DETAIL:  Failed system call was semget(2958790, 20, 03600).
2025-05-06 09:09:37.450 EDT [24195] HINT:  This error does *not* mean that you have run out of disk space.  It occurs when either the system limit for the maximum number of semaphore sets (SEMMNI), or the system wide maximum number of semaphores (SEMMNS), would be exceeded.  You need to raise the respective kernel parameter.  Alternatively, reduce PostgreSQL's consumption of semaphores by reducing its "max_connections" parameter.
	The PostgreSQL documentation contains more information about configuring your system for PostgreSQL.
child process exited with exit code 1
initdb: removing data directory "/home/cpan/tmp/pgtest.T2i6Y/data"
pg_ctl: database system initialization failed
t/08-postgresql_conf.t ... skipped: Failed to start postgres after trying 10 potential ports: Failed to open /home/cpan/tmp/pgtest.T2i6Y/data/postmaster.pid: No such file or directory at /home/cpan/.cpan/build/Test-PostgreSQL-1.29-0/blib/lib/Test/PostgreSQL.pm line 484.
2025-05-06 09:09:38.259 EDT [20678] FATAL:  could not create semaphores: No space left on device
2025-05-06 09:09:38.259 EDT [20678] DETAIL:  Failed system call was semget(2958790, 20, 03600).
2025-05-06 09:09:38.259 EDT [20678] HINT:  This error does *not* mean that you have run out of disk space.  It occurs when either the system limit for the maximum number of semaphore sets (SEMMNI), or the system wide maximum number of semaphores (SEMMNS), would be exceeded.  You need to raise the respective kernel parameter.  Alternatively, reduce PostgreSQL's consumption of semaphores by reducing its "max_connections" parameter.
	The PostgreSQL documentation contains more information about configuring your system for PostgreSQL.
child process exited with exit code 1
initdb: removing data directory "/home/cpan/tmp/pgtest.rijZp/data"
pg_ctl: database system initialization failed
t/09-run_psql.t .......... skipped: Failed to start postgres after trying 10 potential ports: Failed to open /home/cpan/tmp/pgtest.rijZp/data/postmaster.pid: No such file or directory at /home/cpan/.cpan/build/Test-PostgreSQL-1.29-0/blib/lib/Test/PostgreSQL.pm line 484.
2025-05-06 09:09:39.045 EDT [28759] FATAL:  could not create semaphores: No space left on device
2025-05-06 09:09:39.045 EDT [28759] DETAIL:  Failed system call was semget(2958790, 20, 03600).
2025-05-06 09:09:39.045 EDT [28759] HINT:  This error does *not* mean that you have run out of disk space.  It occurs when either the system limit for the maximum number of semaphore sets (SEMMNI), or the system wide maximum number of semaphores (SEMMNS), would be exceeded.  You need to raise the respective kernel parameter.  Alternatively, reduce PostgreSQL's consumption of semaphores by reducing its "max_connections" parameter.
	The PostgreSQL documentation contains more information about configuring your system for PostgreSQL.
child process exited with exit code 1
initdb: removing data directory "/home/cpan/tmp/pgtest.xzOLR/data"
pg_ctl: database system initialization failed
t/10-seed_scripts.t ...... skipped: Failed to start postgres after trying 10 potential ports: Failed to open /home/cpan/tmp/pgtest.xzOLR/data/postmaster.pid: No such file or directory at /home/cpan/.cpan/build/Test-PostgreSQL-1.29-0/blib/lib/Test/PostgreSQL.pm line 484.
2025-05-06 09:09:39.834 EDT [24451] FATAL:  could not create semaphores: No space left on device
2025-05-06 09:09:39.834 EDT [24451] DETAIL:  Failed system call was semget(2958790, 20, 03600).
2025-05-06 09:09:39.834 EDT [24451] HINT:  This error does *not* mean that you have run out of disk space.  It occurs when either the system limit for the maximum number of semaphore sets (SEMMNI), or the system wide maximum number of semaphores (SEMMNS), would be exceeded.  You need to raise the respective kernel parameter.  Alternatively, reduce PostgreSQL's consumption of semaphores by reducing its "max_connections" parameter.
	The PostgreSQL documentation contains more information about configuring your system for PostgreSQL.
child process exited with exit code 1
initdb: removing data directory "/home/cpan/tmp/pgtest.nQKO3/data"
pg_ctl: database system initialization failed
t/deadlock.t ............. skipped: Failed to start postgres after trying 10 potential ports: Failed to open /home/cpan/tmp/pgtest.nQKO3/data/postmaster.pid: No such file or directory at /home/cpan/.cpan/build/Test-PostgreSQL-1.29-0/blib/lib/Test/PostgreSQL.pm line 484.
All tests successful.
Files=11, Tests=1,  8 wallclock secs ( 0.04 usr  0.02 sys +  4.99 cusr  2.65 csys =  7.70 CPU)
Result: PASS

------------------------------
PREREQUISITES
------------------------------

Prerequisite modules loaded:

requires:

    Module               Need  Have    
    -------------------- ----- --------
  ! DBD::Pg              0     n/a     
    DBI                  0     1.647   
    File::Spec           0     3.94    
    File::Which          0     1.27    
    Function::Parameters 0     2.002005
    Moo                  0     2.005005
    perl                 5.014 5.041013
    POSIX                0     2.23    
    Tie::Hash::Method    0     0.02    
    Try::Tiny            0     0.32    
    Types::Standard      0     2.008002
    User::pwent          0     1.03    

build_requires:

    Module               Need  Have    
    -------------------- ----- --------
  ! DBD::Pg              0     n/a     
    Test::SharedFork     0.06  0.35    

configure_requires:

    Module               Need  Have    
    -------------------- ----- --------
    Module::Build::Tiny  0.035 0.051   


------------------------------
ENVIRONMENT AND OTHER CONTEXT
------------------------------

Environment variables:

    AUTOMATED_TESTING = 1
    DATE_MANIP_TEST_DM5 = 1
    LC_ALL = C
    NONINTERACTIVE_TESTING = 1
    NO_NETWORK_TESTING = 1
    PATH = /home/cpan/bin/perl/bin:/home/cpan/bin:/home/cpan/bin:/bin:/sbin:/usr/bin:/usr/sbin:/usr/X11R7/bin:/usr/pkg/bin:/usr/pkg/sbin:/usr/games:/usr/local/bin:/usr/local/sbin
    PERL5LIB = 
    PERL5OPT = 
    PERL5_CPANPLUS_IS_RUNNING = 25732
    PERL5_CPAN_IS_RUNNING = 25732
    PERL_MM_USE_DEFAULT = 1
    PERL_USE_UNSAFE_INC = 1
    SHELL = /usr/pkg/bin/bash
    TERM = screen
    TMPDIR = /home/cpan/tmp

Perl special variables (and OS-specific diagnostics, for MSWin32):

    $^X = /home/cpan/bin/perl/bin/perl5.41.13
    $UID/$EUID = 1003 / 1003
    $GID = 100 100
    $EGID = 100 100

Perl module toolchain versions installed:

    Module              Have    
    ------------------- --------
    CPAN                2.38    
    CPAN::Meta          2.150010
    Cwd                 3.94    
    ExtUtils::CBuilder  0.280241
    ExtUtils::Command   7.74    
    ExtUtils::Install   2.22    
    ExtUtils::MakeMaker 7.74    
    ExtUtils::Manifest  1.75    
    ExtUtils::ParseXS   3.57    
    File::Spec          3.94    
    JSON                4.10    
    JSON::PP            4.16    
    Module::Build       0.4234  
    Module::Signature   0.89    
    Parse::CPAN::Meta   2.150010
    Test2               1.302211
    Test::Harness       3.50    
    Test::More          1.302211
    YAML                1.31    
    YAML::Syck          1.34    
    version             0.9933  


--

Summary of my perl5 (revision 5 version 41 subversion 13) configuration:
  Commit id: 29cc8053c53cd1d31c48caef82b715a48368374d
  Platform:
    osname=netbsd
    osvers=10.1
    archname=amd64-netbsd
    uname='netbsd cjg-netbsd10 10.1 netbsd 10.1 (generic) #0: mon dec 16 13:08:11 utc 2024 mkrepro@mkrepro.netbsd.org:usrsrcsysarchamd64compilegeneric amd64 '
    config_args='-des -Dprefix=/home/cpan/bin/perl -Dscriptdir=/home/cpan/bin/perl/bin -Dusedevel -Duse64bitall'
    hint=recommended
    useposix=true
    d_sigaction=define
    useithreads=undef
    usemultiplicity=undef
    use64bitint=define
    use64bitall=define
    uselongdouble=undef
    usemymalloc=n
    default_inc_excludes_dot=define
  Compiler:
    cc='cc'
    ccflags ='-fwrapv -fno-strict-aliasing -pipe -fstack-protector-strong -I/usr/pkg/include -D_FORTIFY_SOURCE=2'
    optimize='-O'
    cppflags='-fwrapv -fno-strict-aliasing -pipe -fstack-protector-strong -I/usr/pkg/include'
    ccversion=''
    gccversion='10.5.0'
    gccosandvers=''
    intsize=4
    longsize=8
    ptrsize=8
    doublesize=8
    byteorder=12345678
    doublekind=3
    d_longlong=define
    longlongsize=8
    d_longdbl=define
    longdblsize=16
    longdblkind=3
    ivtype='long'
    ivsize=8
    nvtype='double'
    nvsize=8
    Off_t='off_t'
    lseeksize=8
    alignbytes=8
    prototype=define
  Linker and Libraries:
    ld='cc'
    ldflags =' -Wl,-rpath,/usr/pkg/lib -Wl,-rpath,/usr/local/lib -fstack-protector-strong -L/usr/pkg/lib'
    libpth=/usr/lib /usr/pkg/lib /lib
    libs=-lpthread -lm -lcrypt -lutil -lc -lposix
    perllibs=-lpthread -lm -lcrypt -lutil -lc -lposix
    libc=/lib/libc.so
    so=so
    useshrplib=false
    libperl=libperl.a
    gnulibc_version=''
  Dynamic Linking:
    dlsrc=dl_dlopen.xs
    dlext=so
    d_dlsymun=undef
    ccdlflags='-Wl,-E '
    cccdlflags='-DPIC -fPIC '
    lddlflags='-shared  -L/usr/pkg/lib -fstack-protector-strong'


Characteristics of this binary (from libperl): 
  Compile-time options:
    HAS_LONG_DOUBLE
    HAS_STRTOLD
    HAS_TIMES
    PERLIO_LAYERS
    PERL_COPY_ON_WRITE
    PERL_DONT_CREATE_GVSV
    PERL_HASH_FUNC_SIPHASH13
    PERL_HASH_USE_SBOX32
    PERL_MALLOC_WRAP
    PERL_OP_PARENT
    PERL_PRESERVE_IVUV
    PERL_USE_DEVEL
    PERL_USE_SAFE_PUTENV
    USE_64_BIT_ALL
    USE_64_BIT_INT
    USE_LARGE_FILES
    USE_LOCALE
    USE_LOCALE_COLLATE
    USE_LOCALE_CTYPE
    USE_LOCALE_NUMERIC
    USE_LOCALE_TIME
    USE_PERLIO
    USE_PERL_ATOF
  Built under netbsd
  Compiled at May  6 2025 02:01:30
  %ENV:
    PERL5LIB=""
    PERL5OPT=""
    PERL5_CPANPLUS_IS_RUNNING="25732"
    PERL5_CPAN_IS_RUNNING="25732"
    PERL_MM_USE_DEFAULT="1"
    PERL_USE_UNSAFE_INC="1"
  @INC:
    /home/cpan/bin/perl/lib/site_perl/5.41.13/amd64-netbsd
    /home/cpan/bin/perl/lib/site_perl/5.41.13
    /home/cpan/bin/perl/lib/5.41.13/amd64-netbsd
    /home/cpan/bin/perl/lib/5.41.13
    .