Debug-Client v0.34 Perl 5 v5.36.3 x86_64-linux
- Status
- Pass
- From
- Slaven Rezić
- Dist
-
Debug-Client v0.34
- Platform
- Perl 5 v5.36.3 x86_64-linux
- Date
- 2025-01-10 08:24:54
- ID
- 5eb5a96e-cf2c-11ef-9a5c-a2f86d8775ea
This distribution has been tested as part of the CPAN Testers
project, supporting the Perl programming language. See
http://wiki.cpantesters.org/ for more information or email
questions to cpan-testers-discuss@perl.org
--
Dear Gabor Szabo,
This is a computer-generated report for Debug-Client-0.34
on perl 5.36.3, created by CPAN-Reporter-1.2019.
Thank you for uploading your work to CPAN. Congratulations!
All tests were successful.
Sections of this report:
* Tester comments
* Program output
* Prerequisites
* Environment and other context
------------------------------
TESTER COMMENTS
------------------------------
Additional comments from tester:
none provided
------------------------------
PROGRAM OUTPUT
------------------------------
Output from '/usr/bin/make test':
PERL_DL_NONLAZY=1 "/opt/perl-5.36.3/bin/perl" "-MExtUtils::Command::MM" "-MTest::Harness" "-e" "undef *Test::Harness::Switches; test_harness(0, 'inc', 'blib/lib', 'blib/arch')" t/*.t
t/00-check-deps.t ...... ok
# Prerequisite Report:
# ÃÂ Version Module
# ÃÂ -------- ---------------------
# ÃÂ 1.52 Carp
# ÃÂ 5.78 Exporter
# ÃÂ 7.70 ExtUtils::MakeMaker
# ÃÂ 1.006 File::HomeDir
# ÃÂ 3.84 File::Spec
# ÃÂ 3.84 File::Spec::Functions
# ÃÂ 0.2311 File::Temp
# ÃÂ 0.41 IO::Socket::IP
# ÃÂ 1.68 List::Util
# ÃÂ 2.5 PadWalker
# ÃÂ 1.17 Term::ReadLine
# ÃÂ 1.46 Term::ReadLine::Gnu
# ÃÂ 0.010 Test::CheckDeps
# ÃÂ 0.52 Test::Class
# ÃÂ 1.204 Test::Deep
# ÃÂ 1.302204 Test::More
# ÃÂ 1.52 Test::Pod
# ÃÂ 1.10 Test::Pod::Coverage
# ÃÂ 0.11 Test::Requires
# ÃÂ missing Win32
# ÃÂ missing Win32::Process
# ÃÂ 1.33 constant
# ÃÂ 0.238 parent
# ÃÂ 0.9929 version
t/00-report-prereqs.t .. ok
# Info: Testing Debug::Client 0.34
# Info: Perl v5.36.3
t/01-compile.t ......... ok
t/02-exports.t ......... ok
t/03-pod.t ............. skipped: Author tests, not required for installation.
t/04-pod-coverage.t .... skipped: Author tests, not required for installation.
#
# Info: Perl v5.36.3
# Info: OS linux
# Info: Term::ReadLine::Gnu installed
# Info: Using ReadLine implementation -> Term::ReadLine::Gnu
# INFO: $ENV{TERM} -> screen
t/06-term.t ............ ok
t/07-initialize.t ...... ok
t/08-io.t .............. ok
t/10-top_tail.t ........ ok
t/10-top_tail_old.t .... ok
t/11-add.t ............. ok
t/13-return.t .......... ok
t/14-run.t ............. ok
# Info: perl5db version 1.73
t/15-run_to_line.t ..... ok
t/16-run_to_sub.t ...... ok
t/17-stepin.t .......... ok
t/18-stepout.t ......... ok
t/19-stepover.t ........ ok
t/20-get_value.t ....... ok
t/21-toggle_trace.t .... ok
t/22-subnames.t ........ ok
t/23-breakpoints.t ..... ok
t/24-y_zero.t .......... ok
t/25-get_v_vars.t ...... ok
t/26-get_x_vars.t ...... ok
t/27-get_p_exp.t ....... ok
t/28-get_h_var.t ....... ok
# Info: ComamandSet = '580'
t/29-options.t ......... ok
t/40-test_1415-old.t ... ok
t/40-test_1415.t ....... ok
eg/debugger.pl syntax OK
t/41-eg.t .............. ok
t/99-perldb.t .......... ok
# Prerequisite Report:
# ÃÂ Version Module
# ÃÂ -------- ---------------------
# ÃÂ 1.52 Carp
# ÃÂ 5.78 Exporter
# ÃÂ 7.70 ExtUtils::MakeMaker
# ÃÂ 1.006 File::HomeDir
# ÃÂ 3.84 File::Spec
# ÃÂ 3.84 File::Spec::Functions
# ÃÂ 0.2311 File::Temp
# ÃÂ 0.41 IO::Socket::IP
# ÃÂ 1.68 List::Util
# ÃÂ 2.5 PadWalker
# ÃÂ 1.17 Term::ReadLine
# ÃÂ 1.46 Term::ReadLine::Gnu
# ÃÂ 0.010 Test::CheckDeps
# ÃÂ 0.52 Test::Class
# ÃÂ 1.204 Test::Deep
# ÃÂ 1.302204 Test::More
# ÃÂ 1.52 Test::Pod
# ÃÂ 1.10 Test::Pod::Coverage
# ÃÂ 0.11 Test::Requires
# ÃÂ missing Win32
# ÃÂ missing Win32::Process
# ÃÂ 1.33 constant
# ÃÂ 0.238 parent
# ÃÂ 0.9929 version
t/report-prereqs.t ..... ok
All tests successful.
Files=34, Tests=183, 36 wallclock secs ( 0.10 usr 0.04 sys + 2.45 cusr 0.68 csys = 3.27 CPU)
Result: PASS
------------------------------
PREREQUISITES
------------------------------
Prerequisite modules loaded:
requires:
Module Need Have
------------------- -------- --------
Carp 1.3301 1.52
constant 1.27 1.33
Exporter 5.70 5.78
IO::Socket::IP 0.29 0.41
PadWalker 1.98 2.5
perl 5.010001 5.036003
Term::ReadLine 1.14 1.17
Term::ReadLine::Gnu 1.24 1.46
build_requires:
Module Need Have
------------------- -------- --------
ExtUtils::MakeMaker 6.59 7.70
File::HomeDir 1 1.006
File::Temp 0.2304 0.2311
List::Util 1.38 1.68
parent 0.228 0.238
Test::CheckDeps 0.01 0.010
Test::Class 0.42 0.52
Test::Deep 0.112 1.204
Test::More 1.001003 1.302204
Test::Requires 0.07 0.11
version 0.9908 0.9929
configure_requires:
Module Need Have
------------------- -------- --------
ExtUtils::MakeMaker 6.59 7.70
------------------------------
ENVIRONMENT AND OTHER CONTEXT
------------------------------
Environment variables:
LANG = en_US.UTF-8
PATH = /usr/local/bin:/usr/bin:/bin:/usr/local/sbin:/usr/sbin:/sbin:/home/cpansand/bin/linux-gnu:/home/cpansand/bin/sh:/home/cpansand/bin:/usr/games:/home/cpansand/devel:/home/eserte/src/srezic-misc/scripts
PERL5LIB =
PERL5OPT =
PERL5_CPANPLUS_IS_RUNNING = 3020128
PERL5_CPAN_IS_RUNNING = 3020128
PERL5_CPAN_IS_RUNNING_IN_RECURSION = 3020064,3020128
PERLDOC = -MPod::Perldoc::ToTextOverstrike
PERL_BATCH = yes
PERL_CANARY_STABILITY_NOPROMPT = 1
PERL_CPAN_REPORTER_CONFIG = /var/tmp/cpansmoker-1023/2025011008/cpanreporter_000_config.ini
PERL_EXTUTILS_AUTOINSTALL = --defaultdeps
PERL_USE_UNSAFE_INC = 1
SHELL = /usr/bin/zsh
TERM = screen
TMPDIR = /var/tmp/cpansmoker-1023/2025011008
Perl special variables (and OS-specific diagnostics, for MSWin32):
$^X = /opt/perl-5.36.3/bin/perl
$UID/$EUID = 1023 / 1023
$GID = 1023 1023
$EGID = 1023 1023
Perl module toolchain versions installed:
Module Have
------------------- --------
CPAN 2.33
CPAN::Meta 2.150010
Cwd 3.84
ExtUtils::CBuilder 0.280236
ExtUtils::Command 7.70
ExtUtils::Install 2.20
ExtUtils::MakeMaker 7.70
ExtUtils::Manifest 1.75
ExtUtils::ParseXS 3.45
File::Spec 3.84
JSON 4.10
JSON::PP 4.16
Module::Build 0.4234
Module::Signature 0.88
Parse::CPAN::Meta 2.150010
Test2 1.302204
Test::Harness 3.50
Test::More 1.302204
YAML 1.31
YAML::Syck 1.34
version 0.9929
--
Summary of my perl5 (revision 5 version 36 subversion 3) configuration:
Platform:
osname=linux
osvers=6.6.8-100.fc38.x86_64
archname=x86_64-linux
uname='linux fedora39-2gb-hil 6.6.8-100.fc38.x86_64 #1 smp preempt_dynamic thu dec 21 04:01:45 utc 2023 x86_64 gnulinux '
config_args='-ds -e -Dprefix=/opt/perl-5.36.3 -Dcf_email=srezic@cpan.org'
hint=recommended
useposix=true
d_sigaction=define
useithreads=undef
usemultiplicity=undef
use64bitint=define
use64bitall=define
uselongdouble=undef
usemymalloc=n
default_inc_excludes_dot=define
Compiler:
cc='cc'
ccflags ='-fwrapv -fno-strict-aliasing -pipe -fstack-protector-strong -I/usr/local/include -D_LARGEFILE_SOURCE -D_FILE_OFFSET_BITS=64 -D_FORTIFY_SOURCE=2'
optimize='-O2'
cppflags='-fwrapv -fno-strict-aliasing -pipe -fstack-protector-strong -I/usr/local/include'
ccversion=''
gccversion='13.2.1 20231205 (Red Hat 13.2.1-6)'
gccosandvers=''
intsize=4
longsize=8
ptrsize=8
doublesize=8
byteorder=12345678
doublekind=3
d_longlong=define
longlongsize=8
d_longdbl=define
longdblsize=16
longdblkind=3
ivtype='long'
ivsize=8
nvtype='double'
nvsize=8
Off_t='off_t'
lseeksize=8
alignbytes=8
prototype=define
Linker and Libraries:
ld='cc'
ldflags =' -fstack-protector-strong -L/usr/local/lib'
libpth=/usr/local/lib /usr/lib /usr/lib64 /usr/local/lib64
libs=-lpthread -ldb -ldl -lm -lcrypt -lutil -lc
perllibs=-lpthread -ldl -lm -lcrypt -lutil -lc
libc=/lib/../lib64/libc.so.6
so=so
useshrplib=false
libperl=libperl.a
gnulibc_version='2.38'
Dynamic Linking:
dlsrc=dl_dlopen.xs
dlext=so
d_dlsymun=undef
ccdlflags='-Wl,-E'
cccdlflags='-fPIC'
lddlflags='-shared -O2 -L/usr/local/lib -fstack-protector-strong'
Characteristics of this binary (from libperl):
Compile-time options:
HAS_TIMES
PERLIO_LAYERS
PERL_COPY_ON_WRITE
PERL_DONT_CREATE_GVSV
PERL_MALLOC_WRAP
PERL_OP_PARENT
PERL_PRESERVE_IVUV
USE_64_BIT_ALL
USE_64_BIT_INT
USE_LARGE_FILES
USE_LOCALE
USE_LOCALE_COLLATE
USE_LOCALE_CTYPE
USE_LOCALE_NUMERIC
USE_LOCALE_TIME
USE_PERLIO
USE_PERL_ATOF
Built under linux
Compiled at Dec 26 2023 08:08:23
%ENV:
PERL5LIB=""
PERL5OPT=""
PERL5_CPANPLUS_IS_RUNNING="3020128"
PERL5_CPAN_IS_RUNNING="3020128"
PERL5_CPAN_IS_RUNNING_IN_RECURSION="3020064,3020128"
PERLDOC="-MPod::Perldoc::ToTextOverstrike"
PERL_BATCH="yes"
PERL_CANARY_STABILITY_NOPROMPT="1"
PERL_CPAN_REPORTER_CONFIG="/var/tmp/cpansmoker-1023/2025011008/cpanreporter_000_config.ini"
PERL_EXTUTILS_AUTOINSTALL="--defaultdeps"
PERL_USE_UNSAFE_INC="1"
@INC:
/opt/perl-5.36.3/lib/site_perl/5.36.3/x86_64-linux
/opt/perl-5.36.3/lib/site_perl/5.36.3
/opt/perl-5.36.3/lib/5.36.3/x86_64-linux
/opt/perl-5.36.3/lib/5.36.3
.